BEGIN:VCALENDAR
VERSION:2.0
PRODID:-//Jubilee Community Care - ECPv6.15.1.1//NONSGML v1.0//EN
CALSCALE:GREGORIAN
METHOD:PUBLISH
X-WR-CALNAME:Jubilee Community Care
X-ORIGINAL-URL:https://www.jccagedcare.org.au
X-WR-CALDESC:Events for Jubilee Community Care
REFRESH-INTERVAL;VALUE=DURATION:PT1H
X-Robots-Tag:noindex
X-PUBLISHED-TTL:PT1H
BEGIN:VTIMEZONE
TZID:Australia/Brisbane
BEGIN:STANDARD
TZOFFSETFROM:+1000
TZOFFSETTO:+1000
TZNAME:AEST
DTSTART:20240101T000000
END:STANDARD
END:VTIMEZONE
BEGIN:VEVENT
DTSTART;TZID=Australia/Brisbane:20250204T130000
DTEND;TZID=Australia/Brisbane:20250204T140000
DTSTAMP:20260424T180541
CREATED:20241217T025537Z
LAST-MODIFIED:20250305T065414Z
UID:10004331-1738674000-1738677600@www.jccagedcare.org.au
SUMMARY:UQ Healthy Living exercise class - Tuesdays
DESCRIPTION:Get stronger and healthier at the UQ Healthy Living exercise class. 1-2pm. $5 bus.
URL:https://www.jccagedcare.org.au/event/uq-healthy-living-exercise-class-tuesdays/2025-02-04/
LOCATION:UQ Healthy Living Gymnasium\, Centra\, Level 3\, 37 Archer Street\,\, Brisbane\, queensland\, 4066\, Australia
GEO:-27.4861889;152.9940544
X-APPLE-STRUCTURED-LOCATION;VALUE=URI;X-ADDRESS=UQ Healthy Living Gymnasium Centra Level 3 37 Archer Street Brisbane queensland 4066 Australia;X-APPLE-RADIUS=500;X-TITLE=Centra\, Level 3\, 37 Archer Street\,:geo:152.9940544,-27.4861889
END:VEVENT
BEGIN:VEVENT
DTSTART;TZID=Australia/Brisbane:20250131T130000
DTEND;TZID=Australia/Brisbane:20250131T140000
DTSTAMP:20260424T180541
CREATED:20241217T025654Z
LAST-MODIFIED:20250305T065331Z
UID:10004587-1738328400-1738332000@www.jccagedcare.org.au
SUMMARY:UQ Healthy Living exercise class - Fridays
DESCRIPTION:Get stronger and healthier at the UQ Healthy Living exercise class. 1-2pm. $5 bus.
URL:https://www.jccagedcare.org.au/event/uq-healthy-living-exercise-class-fridays/2025-01-31/
LOCATION:UQ Healthy Living Gymnasium\, Centra\, Level 3\, 37 Archer Street\,\, Brisbane\, queensland\, 4066\, Australia
GEO:-27.4861889;152.9940544
X-APPLE-STRUCTURED-LOCATION;VALUE=URI;X-ADDRESS=UQ Healthy Living Gymnasium Centra Level 3 37 Archer Street Brisbane queensland 4066 Australia;X-APPLE-RADIUS=500;X-TITLE=Centra\, Level 3\, 37 Archer Street\,:geo:152.9940544,-27.4861889
END:VEVENT
BEGIN:VEVENT
DTSTART;TZID=Australia/Brisbane:20250128T130000
DTEND;TZID=Australia/Brisbane:20250128T140000
DTSTAMP:20260424T180541
CREATED:20241217T025537Z
LAST-MODIFIED:20250305T065414Z
UID:10004330-1738069200-1738072800@www.jccagedcare.org.au
SUMMARY:UQ Healthy Living exercise class - Tuesdays
DESCRIPTION:Get stronger and healthier at the UQ Healthy Living exercise class. 1-2pm. $5 bus.
URL:https://www.jccagedcare.org.au/event/uq-healthy-living-exercise-class-tuesdays/2025-01-28/
LOCATION:UQ Healthy Living Gymnasium\, Centra\, Level 3\, 37 Archer Street\,\, Brisbane\, queensland\, 4066\, Australia
GEO:-27.4861889;152.9940544
X-APPLE-STRUCTURED-LOCATION;VALUE=URI;X-ADDRESS=UQ Healthy Living Gymnasium Centra Level 3 37 Archer Street Brisbane queensland 4066 Australia;X-APPLE-RADIUS=500;X-TITLE=Centra\, Level 3\, 37 Archer Street\,:geo:152.9940544,-27.4861889
END:VEVENT
BEGIN:VEVENT
DTSTART;TZID=Australia/Brisbane:20250124T130000
DTEND;TZID=Australia/Brisbane:20250124T140000
DTSTAMP:20260424T180541
CREATED:20241217T025654Z
LAST-MODIFIED:20250305T065331Z
UID:10004586-1737723600-1737727200@www.jccagedcare.org.au
SUMMARY:UQ Healthy Living exercise class - Fridays
DESCRIPTION:Get stronger and healthier at the UQ Healthy Living exercise class. 1-2pm. $5 bus.
URL:https://www.jccagedcare.org.au/event/uq-healthy-living-exercise-class-fridays/2025-01-24/
LOCATION:UQ Healthy Living Gymnasium\, Centra\, Level 3\, 37 Archer Street\,\, Brisbane\, queensland\, 4066\, Australia
GEO:-27.4861889;152.9940544
X-APPLE-STRUCTURED-LOCATION;VALUE=URI;X-ADDRESS=UQ Healthy Living Gymnasium Centra Level 3 37 Archer Street Brisbane queensland 4066 Australia;X-APPLE-RADIUS=500;X-TITLE=Centra\, Level 3\, 37 Archer Street\,:geo:152.9940544,-27.4861889
END:VEVENT
BEGIN:VEVENT
DTSTART;TZID=Australia/Brisbane:20250121T130000
DTEND;TZID=Australia/Brisbane:20250121T140000
DTSTAMP:20260424T180541
CREATED:20241217T025537Z
LAST-MODIFIED:20250305T065414Z
UID:10004329-1737464400-1737468000@www.jccagedcare.org.au
SUMMARY:UQ Healthy Living exercise class - Tuesdays
DESCRIPTION:Get stronger and healthier at the UQ Healthy Living exercise class. 1-2pm. $5 bus.
URL:https://www.jccagedcare.org.au/event/uq-healthy-living-exercise-class-tuesdays/2025-01-21/
LOCATION:UQ Healthy Living Gymnasium\, Centra\, Level 3\, 37 Archer Street\,\, Brisbane\, queensland\, 4066\, Australia
GEO:-27.4861889;152.9940544
X-APPLE-STRUCTURED-LOCATION;VALUE=URI;X-ADDRESS=UQ Healthy Living Gymnasium Centra Level 3 37 Archer Street Brisbane queensland 4066 Australia;X-APPLE-RADIUS=500;X-TITLE=Centra\, Level 3\, 37 Archer Street\,:geo:152.9940544,-27.4861889
END:VEVENT
BEGIN:VEVENT
DTSTART;TZID=Australia/Brisbane:20250117T130000
DTEND;TZID=Australia/Brisbane:20250117T140000
DTSTAMP:20260424T180541
CREATED:20241217T025654Z
LAST-MODIFIED:20250305T065331Z
UID:10004585-1737118800-1737122400@www.jccagedcare.org.au
SUMMARY:UQ Healthy Living exercise class - Fridays
DESCRIPTION:Get stronger and healthier at the UQ Healthy Living exercise class. 1-2pm. $5 bus.
URL:https://www.jccagedcare.org.au/event/uq-healthy-living-exercise-class-fridays/2025-01-17/
LOCATION:UQ Healthy Living Gymnasium\, Centra\, Level 3\, 37 Archer Street\,\, Brisbane\, queensland\, 4066\, Australia
GEO:-27.4861889;152.9940544
X-APPLE-STRUCTURED-LOCATION;VALUE=URI;X-ADDRESS=UQ Healthy Living Gymnasium Centra Level 3 37 Archer Street Brisbane queensland 4066 Australia;X-APPLE-RADIUS=500;X-TITLE=Centra\, Level 3\, 37 Archer Street\,:geo:152.9940544,-27.4861889
END:VEVENT
BEGIN:VEVENT
DTSTART;TZID=Australia/Brisbane:20250114T130000
DTEND;TZID=Australia/Brisbane:20250114T140000
DTSTAMP:20260424T180541
CREATED:20241217T025537Z
LAST-MODIFIED:20250305T065414Z
UID:10004328-1736859600-1736863200@www.jccagedcare.org.au
SUMMARY:UQ Healthy Living exercise class - Tuesdays
DESCRIPTION:Get stronger and healthier at the UQ Healthy Living exercise class. 1-2pm. $5 bus.
URL:https://www.jccagedcare.org.au/event/uq-healthy-living-exercise-class-tuesdays/2025-01-14/
LOCATION:UQ Healthy Living Gymnasium\, Centra\, Level 3\, 37 Archer Street\,\, Brisbane\, queensland\, 4066\, Australia
GEO:-27.4861889;152.9940544
X-APPLE-STRUCTURED-LOCATION;VALUE=URI;X-ADDRESS=UQ Healthy Living Gymnasium Centra Level 3 37 Archer Street Brisbane queensland 4066 Australia;X-APPLE-RADIUS=500;X-TITLE=Centra\, Level 3\, 37 Archer Street\,:geo:152.9940544,-27.4861889
END:VEVENT
BEGIN:VEVENT
DTSTART;TZID=Australia/Brisbane:20241213T130000
DTEND;TZID=Australia/Brisbane:20241213T140000
DTSTAMP:20260424T180541
CREATED:20231212T053045Z
LAST-MODIFIED:20240909T025451Z
UID:10004295-1734094800-1734098400@www.jccagedcare.org.au
SUMMARY:UQ Healthy Living Friday exercise class
DESCRIPTION:Get stronger and healthier at the UQ Healthy Living exercise class. 1-2pm.
URL:https://www.jccagedcare.org.au/event/uq-healthy-living-friday-exercise-class/2024-12-13/
LOCATION:UQ Healthy Living Gymnasium\, Centra\, Level 3\, 37 Archer Street\,\, Brisbane\, queensland\, 4066\, Australia
GEO:-27.4861889;152.9940544
X-APPLE-STRUCTURED-LOCATION;VALUE=URI;X-ADDRESS=UQ Healthy Living Gymnasium Centra Level 3 37 Archer Street Brisbane queensland 4066 Australia;X-APPLE-RADIUS=500;X-TITLE=Centra\, Level 3\, 37 Archer Street\,:geo:152.9940544,-27.4861889
END:VEVENT
BEGIN:VEVENT
DTSTART;TZID=Australia/Brisbane:20241210T130000
DTEND;TZID=Australia/Brisbane:20241210T140000
DTSTAMP:20260424T180541
CREATED:20241217T025053Z
LAST-MODIFIED:20241217T025053Z
UID:10004284-1733835600-1733839200@www.jccagedcare.org.au
SUMMARY:UQ Healthy Living Tuesday exercise class
DESCRIPTION:Get stronger and healthier at the UQ Healthy Living exercise class. 1-2pm. $5 bus.
URL:https://www.jccagedcare.org.au/event/uq-healthy-living-tuesday-exercise-class-2/
LOCATION:UQ Healthy Living Gymnasium\, Centra\, Level 3\, 37 Archer Street\,\, Brisbane\, queensland\, 4066\, Australia
GEO:-27.4861889;152.9940544
X-APPLE-STRUCTURED-LOCATION;VALUE=URI;X-ADDRESS=UQ Healthy Living Gymnasium Centra Level 3 37 Archer Street Brisbane queensland 4066 Australia;X-APPLE-RADIUS=500;X-TITLE=Centra\, Level 3\, 37 Archer Street\,:geo:152.9940544,-27.4861889
END:VEVENT
BEGIN:VEVENT
DTSTART;TZID=Australia/Brisbane:20241206T130000
DTEND;TZID=Australia/Brisbane:20241206T140000
DTSTAMP:20260424T180541
CREATED:20231212T053045Z
LAST-MODIFIED:20240909T025451Z
UID:10004294-1733490000-1733493600@www.jccagedcare.org.au
SUMMARY:UQ Healthy Living Friday exercise class
DESCRIPTION:Get stronger and healthier at the UQ Healthy Living exercise class. 1-2pm.
URL:https://www.jccagedcare.org.au/event/uq-healthy-living-friday-exercise-class/2024-12-06/
LOCATION:UQ Healthy Living Gymnasium\, Centra\, Level 3\, 37 Archer Street\,\, Brisbane\, queensland\, 4066\, Australia
GEO:-27.4861889;152.9940544
X-APPLE-STRUCTURED-LOCATION;VALUE=URI;X-ADDRESS=UQ Healthy Living Gymnasium Centra Level 3 37 Archer Street Brisbane queensland 4066 Australia;X-APPLE-RADIUS=500;X-TITLE=Centra\, Level 3\, 37 Archer Street\,:geo:152.9940544,-27.4861889
END:VEVENT
BEGIN:VEVENT
DTSTART;TZID=Australia/Brisbane:20241203T130000
DTEND;TZID=Australia/Brisbane:20241203T140000
DTSTAMP:20260424T180541
CREATED:20231212T053220Z
LAST-MODIFIED:20240909T025321Z
UID:10004283-1733230800-1733234400@www.jccagedcare.org.au
SUMMARY:UQ Healthy Living Tuesday exercise class
DESCRIPTION:Get stronger and healthier at the UQ Healthy Living exercise class. 1-2pm.
URL:https://www.jccagedcare.org.au/event/uq-healthy-living-tuesday-exercise-class/2024-12-03/
LOCATION:UQ Healthy Living Gymnasium\, Centra\, Level 3\, 37 Archer Street\,\, Brisbane\, queensland\, 4066\, Australia
GEO:-27.4861889;152.9940544
X-APPLE-STRUCTURED-LOCATION;VALUE=URI;X-ADDRESS=UQ Healthy Living Gymnasium Centra Level 3 37 Archer Street Brisbane queensland 4066 Australia;X-APPLE-RADIUS=500;X-TITLE=Centra\, Level 3\, 37 Archer Street\,:geo:152.9940544,-27.4861889
END:VEVENT
BEGIN:VEVENT
DTSTART;TZID=Australia/Brisbane:20241129T130000
DTEND;TZID=Australia/Brisbane:20241129T140000
DTSTAMP:20260424T180541
CREATED:20231212T053045Z
LAST-MODIFIED:20240909T025451Z
UID:10004293-1732885200-1732888800@www.jccagedcare.org.au
SUMMARY:UQ Healthy Living Friday exercise class
DESCRIPTION:Get stronger and healthier at the UQ Healthy Living exercise class. 1-2pm.
URL:https://www.jccagedcare.org.au/event/uq-healthy-living-friday-exercise-class/2024-11-29/
LOCATION:UQ Healthy Living Gymnasium\, Centra\, Level 3\, 37 Archer Street\,\, Brisbane\, queensland\, 4066\, Australia
GEO:-27.4861889;152.9940544
X-APPLE-STRUCTURED-LOCATION;VALUE=URI;X-ADDRESS=UQ Healthy Living Gymnasium Centra Level 3 37 Archer Street Brisbane queensland 4066 Australia;X-APPLE-RADIUS=500;X-TITLE=Centra\, Level 3\, 37 Archer Street\,:geo:152.9940544,-27.4861889
END:VEVENT
BEGIN:VEVENT
DTSTART;TZID=Australia/Brisbane:20241126T130000
DTEND;TZID=Australia/Brisbane:20241126T140000
DTSTAMP:20260424T180541
CREATED:20231212T053220Z
LAST-MODIFIED:20240909T025321Z
UID:10004282-1732626000-1732629600@www.jccagedcare.org.au
SUMMARY:UQ Healthy Living Tuesday exercise class
DESCRIPTION:Get stronger and healthier at the UQ Healthy Living exercise class. 1-2pm.
URL:https://www.jccagedcare.org.au/event/uq-healthy-living-tuesday-exercise-class/2024-11-26/
LOCATION:UQ Healthy Living Gymnasium\, Centra\, Level 3\, 37 Archer Street\,\, Brisbane\, queensland\, 4066\, Australia
GEO:-27.4861889;152.9940544
X-APPLE-STRUCTURED-LOCATION;VALUE=URI;X-ADDRESS=UQ Healthy Living Gymnasium Centra Level 3 37 Archer Street Brisbane queensland 4066 Australia;X-APPLE-RADIUS=500;X-TITLE=Centra\, Level 3\, 37 Archer Street\,:geo:152.9940544,-27.4861889
END:VEVENT
BEGIN:VEVENT
DTSTART;TZID=Australia/Brisbane:20241122T130000
DTEND;TZID=Australia/Brisbane:20241122T140000
DTSTAMP:20260424T180541
CREATED:20231212T053045Z
LAST-MODIFIED:20240909T025451Z
UID:10004292-1732280400-1732284000@www.jccagedcare.org.au
SUMMARY:UQ Healthy Living Friday exercise class
DESCRIPTION:Get stronger and healthier at the UQ Healthy Living exercise class. 1-2pm.
URL:https://www.jccagedcare.org.au/event/uq-healthy-living-friday-exercise-class/2024-11-22/
LOCATION:UQ Healthy Living Gymnasium\, Centra\, Level 3\, 37 Archer Street\,\, Brisbane\, queensland\, 4066\, Australia
GEO:-27.4861889;152.9940544
X-APPLE-STRUCTURED-LOCATION;VALUE=URI;X-ADDRESS=UQ Healthy Living Gymnasium Centra Level 3 37 Archer Street Brisbane queensland 4066 Australia;X-APPLE-RADIUS=500;X-TITLE=Centra\, Level 3\, 37 Archer Street\,:geo:152.9940544,-27.4861889
END:VEVENT
BEGIN:VEVENT
DTSTART;TZID=Australia/Brisbane:20241119T130000
DTEND;TZID=Australia/Brisbane:20241119T140000
DTSTAMP:20260424T180541
CREATED:20231212T053220Z
LAST-MODIFIED:20240909T025321Z
UID:10004281-1732021200-1732024800@www.jccagedcare.org.au
SUMMARY:UQ Healthy Living Tuesday exercise class
DESCRIPTION:Get stronger and healthier at the UQ Healthy Living exercise class. 1-2pm.
URL:https://www.jccagedcare.org.au/event/uq-healthy-living-tuesday-exercise-class/2024-11-19/
LOCATION:UQ Healthy Living Gymnasium\, Centra\, Level 3\, 37 Archer Street\,\, Brisbane\, queensland\, 4066\, Australia
GEO:-27.4861889;152.9940544
X-APPLE-STRUCTURED-LOCATION;VALUE=URI;X-ADDRESS=UQ Healthy Living Gymnasium Centra Level 3 37 Archer Street Brisbane queensland 4066 Australia;X-APPLE-RADIUS=500;X-TITLE=Centra\, Level 3\, 37 Archer Street\,:geo:152.9940544,-27.4861889
END:VEVENT
BEGIN:VEVENT
DTSTART;TZID=Australia/Brisbane:20241115T130000
DTEND;TZID=Australia/Brisbane:20241115T140000
DTSTAMP:20260424T180541
CREATED:20231212T053045Z
LAST-MODIFIED:20240909T025451Z
UID:10004291-1731675600-1731679200@www.jccagedcare.org.au
SUMMARY:UQ Healthy Living Friday exercise class
DESCRIPTION:Get stronger and healthier at the UQ Healthy Living exercise class. 1-2pm.
URL:https://www.jccagedcare.org.au/event/uq-healthy-living-friday-exercise-class/2024-11-15/
LOCATION:UQ Healthy Living Gymnasium\, Centra\, Level 3\, 37 Archer Street\,\, Brisbane\, queensland\, 4066\, Australia
GEO:-27.4861889;152.9940544
X-APPLE-STRUCTURED-LOCATION;VALUE=URI;X-ADDRESS=UQ Healthy Living Gymnasium Centra Level 3 37 Archer Street Brisbane queensland 4066 Australia;X-APPLE-RADIUS=500;X-TITLE=Centra\, Level 3\, 37 Archer Street\,:geo:152.9940544,-27.4861889
END:VEVENT
BEGIN:VEVENT
DTSTART;TZID=Australia/Brisbane:20241112T130000
DTEND;TZID=Australia/Brisbane:20241112T140000
DTSTAMP:20260424T180541
CREATED:20231212T053220Z
LAST-MODIFIED:20240909T025321Z
UID:10004280-1731416400-1731420000@www.jccagedcare.org.au
SUMMARY:UQ Healthy Living Tuesday exercise class
DESCRIPTION:Get stronger and healthier at the UQ Healthy Living exercise class. 1-2pm.
URL:https://www.jccagedcare.org.au/event/uq-healthy-living-tuesday-exercise-class/2024-11-12/
LOCATION:UQ Healthy Living Gymnasium\, Centra\, Level 3\, 37 Archer Street\,\, Brisbane\, queensland\, 4066\, Australia
GEO:-27.4861889;152.9940544
X-APPLE-STRUCTURED-LOCATION;VALUE=URI;X-ADDRESS=UQ Healthy Living Gymnasium Centra Level 3 37 Archer Street Brisbane queensland 4066 Australia;X-APPLE-RADIUS=500;X-TITLE=Centra\, Level 3\, 37 Archer Street\,:geo:152.9940544,-27.4861889
END:VEVENT
BEGIN:VEVENT
DTSTART;TZID=Australia/Brisbane:20241108T130000
DTEND;TZID=Australia/Brisbane:20241108T140000
DTSTAMP:20260424T180541
CREATED:20231212T053045Z
LAST-MODIFIED:20240909T025451Z
UID:10004290-1731070800-1731074400@www.jccagedcare.org.au
SUMMARY:UQ Healthy Living Friday exercise class
DESCRIPTION:Get stronger and healthier at the UQ Healthy Living exercise class. 1-2pm.
URL:https://www.jccagedcare.org.au/event/uq-healthy-living-friday-exercise-class/2024-11-08/
LOCATION:UQ Healthy Living Gymnasium\, Centra\, Level 3\, 37 Archer Street\,\, Brisbane\, queensland\, 4066\, Australia
GEO:-27.4861889;152.9940544
X-APPLE-STRUCTURED-LOCATION;VALUE=URI;X-ADDRESS=UQ Healthy Living Gymnasium Centra Level 3 37 Archer Street Brisbane queensland 4066 Australia;X-APPLE-RADIUS=500;X-TITLE=Centra\, Level 3\, 37 Archer Street\,:geo:152.9940544,-27.4861889
END:VEVENT
BEGIN:VEVENT
DTSTART;TZID=Australia/Brisbane:20241105T130000
DTEND;TZID=Australia/Brisbane:20241105T140000
DTSTAMP:20260424T180541
CREATED:20231212T053220Z
LAST-MODIFIED:20240909T025321Z
UID:10004279-1730811600-1730815200@www.jccagedcare.org.au
SUMMARY:UQ Healthy Living Tuesday exercise class
DESCRIPTION:Get stronger and healthier at the UQ Healthy Living exercise class. 1-2pm.
URL:https://www.jccagedcare.org.au/event/uq-healthy-living-tuesday-exercise-class/2024-11-05/
LOCATION:UQ Healthy Living Gymnasium\, Centra\, Level 3\, 37 Archer Street\,\, Brisbane\, queensland\, 4066\, Australia
GEO:-27.4861889;152.9940544
X-APPLE-STRUCTURED-LOCATION;VALUE=URI;X-ADDRESS=UQ Healthy Living Gymnasium Centra Level 3 37 Archer Street Brisbane queensland 4066 Australia;X-APPLE-RADIUS=500;X-TITLE=Centra\, Level 3\, 37 Archer Street\,:geo:152.9940544,-27.4861889
END:VEVENT
BEGIN:VEVENT
DTSTART;TZID=Australia/Brisbane:20241101T130000
DTEND;TZID=Australia/Brisbane:20241101T140000
DTSTAMP:20260424T180541
CREATED:20231212T053045Z
LAST-MODIFIED:20240909T025451Z
UID:10004289-1730466000-1730469600@www.jccagedcare.org.au
SUMMARY:UQ Healthy Living Friday exercise class
DESCRIPTION:Get stronger and healthier at the UQ Healthy Living exercise class. 1-2pm.
URL:https://www.jccagedcare.org.au/event/uq-healthy-living-friday-exercise-class/2024-11-01/
LOCATION:UQ Healthy Living Gymnasium\, Centra\, Level 3\, 37 Archer Street\,\, Brisbane\, queensland\, 4066\, Australia
GEO:-27.4861889;152.9940544
X-APPLE-STRUCTURED-LOCATION;VALUE=URI;X-ADDRESS=UQ Healthy Living Gymnasium Centra Level 3 37 Archer Street Brisbane queensland 4066 Australia;X-APPLE-RADIUS=500;X-TITLE=Centra\, Level 3\, 37 Archer Street\,:geo:152.9940544,-27.4861889
END:VEVENT
BEGIN:VEVENT
DTSTART;TZID=Australia/Brisbane:20241029T130000
DTEND;TZID=Australia/Brisbane:20241029T140000
DTSTAMP:20260424T180541
CREATED:20231212T053220Z
LAST-MODIFIED:20240909T025321Z
UID:10004278-1730206800-1730210400@www.jccagedcare.org.au
SUMMARY:UQ Healthy Living Tuesday exercise class
DESCRIPTION:Get stronger and healthier at the UQ Healthy Living exercise class. 1-2pm.
URL:https://www.jccagedcare.org.au/event/uq-healthy-living-tuesday-exercise-class/2024-10-29/
LOCATION:UQ Healthy Living Gymnasium\, Centra\, Level 3\, 37 Archer Street\,\, Brisbane\, queensland\, 4066\, Australia
GEO:-27.4861889;152.9940544
X-APPLE-STRUCTURED-LOCATION;VALUE=URI;X-ADDRESS=UQ Healthy Living Gymnasium Centra Level 3 37 Archer Street Brisbane queensland 4066 Australia;X-APPLE-RADIUS=500;X-TITLE=Centra\, Level 3\, 37 Archer Street\,:geo:152.9940544,-27.4861889
END:VEVENT
BEGIN:VEVENT
DTSTART;TZID=Australia/Brisbane:20241025T130000
DTEND;TZID=Australia/Brisbane:20241025T140000
DTSTAMP:20260424T180541
CREATED:20231212T053045Z
LAST-MODIFIED:20240909T025451Z
UID:10004288-1729861200-1729864800@www.jccagedcare.org.au
SUMMARY:UQ Healthy Living Friday exercise class
DESCRIPTION:Get stronger and healthier at the UQ Healthy Living exercise class. 1-2pm.
URL:https://www.jccagedcare.org.au/event/uq-healthy-living-friday-exercise-class/2024-10-25/
LOCATION:UQ Healthy Living Gymnasium\, Centra\, Level 3\, 37 Archer Street\,\, Brisbane\, queensland\, 4066\, Australia
GEO:-27.4861889;152.9940544
X-APPLE-STRUCTURED-LOCATION;VALUE=URI;X-ADDRESS=UQ Healthy Living Gymnasium Centra Level 3 37 Archer Street Brisbane queensland 4066 Australia;X-APPLE-RADIUS=500;X-TITLE=Centra\, Level 3\, 37 Archer Street\,:geo:152.9940544,-27.4861889
END:VEVENT
BEGIN:VEVENT
DTSTART;TZID=Australia/Brisbane:20241022T130000
DTEND;TZID=Australia/Brisbane:20241022T140000
DTSTAMP:20260424T180541
CREATED:20231212T053220Z
LAST-MODIFIED:20240909T025321Z
UID:10004277-1729602000-1729605600@www.jccagedcare.org.au
SUMMARY:UQ Healthy Living Tuesday exercise class
DESCRIPTION:Get stronger and healthier at the UQ Healthy Living exercise class. 1-2pm.
URL:https://www.jccagedcare.org.au/event/uq-healthy-living-tuesday-exercise-class/2024-10-22/
LOCATION:UQ Healthy Living Gymnasium\, Centra\, Level 3\, 37 Archer Street\,\, Brisbane\, queensland\, 4066\, Australia
GEO:-27.4861889;152.9940544
X-APPLE-STRUCTURED-LOCATION;VALUE=URI;X-ADDRESS=UQ Healthy Living Gymnasium Centra Level 3 37 Archer Street Brisbane queensland 4066 Australia;X-APPLE-RADIUS=500;X-TITLE=Centra\, Level 3\, 37 Archer Street\,:geo:152.9940544,-27.4861889
END:VEVENT
BEGIN:VEVENT
DTSTART;TZID=Australia/Brisbane:20241018T130000
DTEND;TZID=Australia/Brisbane:20241018T140000
DTSTAMP:20260424T180541
CREATED:20231212T053045Z
LAST-MODIFIED:20240909T025451Z
UID:10004287-1729256400-1729260000@www.jccagedcare.org.au
SUMMARY:UQ Healthy Living Friday exercise class
DESCRIPTION:Get stronger and healthier at the UQ Healthy Living exercise class. 1-2pm.
URL:https://www.jccagedcare.org.au/event/uq-healthy-living-friday-exercise-class/2024-10-18/
LOCATION:UQ Healthy Living Gymnasium\, Centra\, Level 3\, 37 Archer Street\,\, Brisbane\, queensland\, 4066\, Australia
GEO:-27.4861889;152.9940544
X-APPLE-STRUCTURED-LOCATION;VALUE=URI;X-ADDRESS=UQ Healthy Living Gymnasium Centra Level 3 37 Archer Street Brisbane queensland 4066 Australia;X-APPLE-RADIUS=500;X-TITLE=Centra\, Level 3\, 37 Archer Street\,:geo:152.9940544,-27.4861889
END:VEVENT
BEGIN:VEVENT
DTSTART;TZID=Australia/Brisbane:20241015T130000
DTEND;TZID=Australia/Brisbane:20241015T140000
DTSTAMP:20260424T180541
CREATED:20231212T053220Z
LAST-MODIFIED:20240909T025321Z
UID:10004276-1728997200-1729000800@www.jccagedcare.org.au
SUMMARY:UQ Healthy Living Tuesday exercise class
DESCRIPTION:Get stronger and healthier at the UQ Healthy Living exercise class. 1-2pm.
URL:https://www.jccagedcare.org.au/event/uq-healthy-living-tuesday-exercise-class/2024-10-15/
LOCATION:UQ Healthy Living Gymnasium\, Centra\, Level 3\, 37 Archer Street\,\, Brisbane\, queensland\, 4066\, Australia
GEO:-27.4861889;152.9940544
X-APPLE-STRUCTURED-LOCATION;VALUE=URI;X-ADDRESS=UQ Healthy Living Gymnasium Centra Level 3 37 Archer Street Brisbane queensland 4066 Australia;X-APPLE-RADIUS=500;X-TITLE=Centra\, Level 3\, 37 Archer Street\,:geo:152.9940544,-27.4861889
END:VEVENT
BEGIN:VEVENT
DTSTART;TZID=Australia/Brisbane:20241011T130000
DTEND;TZID=Australia/Brisbane:20241011T140000
DTSTAMP:20260424T180541
CREATED:20231212T053045Z
LAST-MODIFIED:20240909T025451Z
UID:10004286-1728651600-1728655200@www.jccagedcare.org.au
SUMMARY:UQ Healthy Living Friday exercise class
DESCRIPTION:Get stronger and healthier at the UQ Healthy Living exercise class. 1-2pm.
URL:https://www.jccagedcare.org.au/event/uq-healthy-living-friday-exercise-class/2024-10-11/
LOCATION:UQ Healthy Living Gymnasium\, Centra\, Level 3\, 37 Archer Street\,\, Brisbane\, queensland\, 4066\, Australia
GEO:-27.4861889;152.9940544
X-APPLE-STRUCTURED-LOCATION;VALUE=URI;X-ADDRESS=UQ Healthy Living Gymnasium Centra Level 3 37 Archer Street Brisbane queensland 4066 Australia;X-APPLE-RADIUS=500;X-TITLE=Centra\, Level 3\, 37 Archer Street\,:geo:152.9940544,-27.4861889
END:VEVENT
BEGIN:VEVENT
DTSTART;TZID=Australia/Brisbane:20241008T130000
DTEND;TZID=Australia/Brisbane:20241008T140000
DTSTAMP:20260424T180541
CREATED:20231212T053220Z
LAST-MODIFIED:20240909T025321Z
UID:10004275-1728392400-1728396000@www.jccagedcare.org.au
SUMMARY:UQ Healthy Living Tuesday exercise class
DESCRIPTION:Get stronger and healthier at the UQ Healthy Living exercise class. 1-2pm.
URL:https://www.jccagedcare.org.au/event/uq-healthy-living-tuesday-exercise-class/2024-10-08/
LOCATION:UQ Healthy Living Gymnasium\, Centra\, Level 3\, 37 Archer Street\,\, Brisbane\, queensland\, 4066\, Australia
GEO:-27.4861889;152.9940544
X-APPLE-STRUCTURED-LOCATION;VALUE=URI;X-ADDRESS=UQ Healthy Living Gymnasium Centra Level 3 37 Archer Street Brisbane queensland 4066 Australia;X-APPLE-RADIUS=500;X-TITLE=Centra\, Level 3\, 37 Archer Street\,:geo:152.9940544,-27.4861889
END:VEVENT
BEGIN:VEVENT
DTSTART;TZID=Australia/Brisbane:20241004T130000
DTEND;TZID=Australia/Brisbane:20241004T140000
DTSTAMP:20260424T180541
CREATED:20231212T053045Z
LAST-MODIFIED:20240909T025451Z
UID:10004285-1728046800-1728050400@www.jccagedcare.org.au
SUMMARY:UQ Healthy Living Friday exercise class
DESCRIPTION:Get stronger and healthier at the UQ Healthy Living exercise class. 1-2pm.
URL:https://www.jccagedcare.org.au/event/uq-healthy-living-friday-exercise-class/2024-10-04/
LOCATION:UQ Healthy Living Gymnasium\, Centra\, Level 3\, 37 Archer Street\,\, Brisbane\, queensland\, 4066\, Australia
GEO:-27.4861889;152.9940544
X-APPLE-STRUCTURED-LOCATION;VALUE=URI;X-ADDRESS=UQ Healthy Living Gymnasium Centra Level 3 37 Archer Street Brisbane queensland 4066 Australia;X-APPLE-RADIUS=500;X-TITLE=Centra\, Level 3\, 37 Archer Street\,:geo:152.9940544,-27.4861889
END:VEVENT
BEGIN:VEVENT
DTSTART;TZID=Australia/Brisbane:20241001T130000
DTEND;TZID=Australia/Brisbane:20241001T140000
DTSTAMP:20260424T180541
CREATED:20231212T053220Z
LAST-MODIFIED:20240909T025321Z
UID:10004274-1727787600-1727791200@www.jccagedcare.org.au
SUMMARY:UQ Healthy Living Tuesday exercise class
DESCRIPTION:Get stronger and healthier at the UQ Healthy Living exercise class. 1-2pm.
URL:https://www.jccagedcare.org.au/event/uq-healthy-living-tuesday-exercise-class/2024-10-01/
LOCATION:UQ Healthy Living Gymnasium\, Centra\, Level 3\, 37 Archer Street\,\, Brisbane\, queensland\, 4066\, Australia
GEO:-27.4861889;152.9940544
X-APPLE-STRUCTURED-LOCATION;VALUE=URI;X-ADDRESS=UQ Healthy Living Gymnasium Centra Level 3 37 Archer Street Brisbane queensland 4066 Australia;X-APPLE-RADIUS=500;X-TITLE=Centra\, Level 3\, 37 Archer Street\,:geo:152.9940544,-27.4861889
END:VEVENT
BEGIN:VEVENT
DTSTART;TZID=Australia/Brisbane:20240927T130000
DTEND;TZID=Australia/Brisbane:20240927T140000
DTSTAMP:20260424T180541
CREATED:20231212T053045Z
LAST-MODIFIED:20240909T025451Z
UID:10004264-1727442000-1727445600@www.jccagedcare.org.au
SUMMARY:UQ Healthy Living Friday exercise class
DESCRIPTION:Get stronger and healthier at the UQ Healthy Living exercise class. 1-2pm.
URL:https://www.jccagedcare.org.au/event/uq-healthy-living-friday-exercise-class/2024-09-27/
LOCATION:UQ Healthy Living Gymnasium\, Centra\, Level 3\, 37 Archer Street\,\, Brisbane\, queensland\, 4066\, Australia
GEO:-27.4861889;152.9940544
X-APPLE-STRUCTURED-LOCATION;VALUE=URI;X-ADDRESS=UQ Healthy Living Gymnasium Centra Level 3 37 Archer Street Brisbane queensland 4066 Australia;X-APPLE-RADIUS=500;X-TITLE=Centra\, Level 3\, 37 Archer Street\,:geo:152.9940544,-27.4861889
END:VEVENT
END:VCALENDAR