BEGIN:VCALENDAR
VERSION:2.0
PRODID:-//Jubilee Community Care - ECPv6.15.1.1//NONSGML v1.0//EN
CALSCALE:GREGORIAN
METHOD:PUBLISH
X-WR-CALNAME:Jubilee Community Care
X-ORIGINAL-URL:https://www.jccagedcare.org.au
X-WR-CALDESC:Events for Jubilee Community Care
REFRESH-INTERVAL;VALUE=DURATION:PT1H
X-Robots-Tag:noindex
X-PUBLISHED-TTL:PT1H
BEGIN:VTIMEZONE
TZID:Australia/Brisbane
BEGIN:STANDARD
TZOFFSETFROM:+1000
TZOFFSETTO:+1000
TZNAME:AEST
DTSTART:20190101T000000
END:STANDARD
END:VTIMEZONE
BEGIN:VEVENT
DTSTART;VALUE=DATE:20220919
DTEND;VALUE=DATE:20220920
DTSTAMP:20260423T221935
CREATED:20220621T035126Z
LAST-MODIFIED:20220621T035126Z
UID:10002810-1663545600-1663631999@www.jccagedcare.org.au
SUMMARY:Mt Cotton Retreat
DESCRIPTION:Mt Cotton Retreat Petite High Tea. $15 bus and $40 for the high tea.
URL:https://www.jccagedcare.org.au/event/mt-cotton-retreat-2/
LOCATION:Mount Cotton Retreat\, 355 W Mount Cotton Rd\, Mount Cotton\, Brisbane\, Queensland\, 4165\, Australia
GEO:-27.6445138;153.2120753
X-APPLE-STRUCTURED-LOCATION;VALUE=URI;X-ADDRESS=Mount Cotton Retreat 355 W Mount Cotton Rd Mount Cotton Brisbane Queensland 4165 Australia;X-APPLE-RADIUS=500;X-TITLE=355 W Mount Cotton Rd\, Mount Cotton:geo:153.2120753,-27.6445138
END:VEVENT
BEGIN:VEVENT
DTSTART;VALUE=DATE:20190815
DTEND;VALUE=DATE:20190816
DTSTAMP:20260423T221935
CREATED:20190622T150030Z
LAST-MODIFIED:20190612T031033Z
UID:10002195-1565827200-1565913599@www.jccagedcare.org.au
SUMMARY:High Tea at Mt Cotton Retreat
DESCRIPTION:Celebrate upcoming “Seniors Week” with a high tea at Mount Cotton Retreat. $40.
URL:https://www.jccagedcare.org.au/event/high-tea-at-mt-cotton-retreat/
LOCATION:Mount Cotton Retreat\, 355 W Mount Cotton Rd\, Mount Cotton\, Brisbane\, Queensland\, 4165\, Australia
GEO:-27.6445138;153.2120753
X-APPLE-STRUCTURED-LOCATION;VALUE=URI;X-ADDRESS=Mount Cotton Retreat 355 W Mount Cotton Rd Mount Cotton Brisbane Queensland 4165 Australia;X-APPLE-RADIUS=500;X-TITLE=355 W Mount Cotton Rd\, Mount Cotton:geo:153.2120753,-27.6445138
END:VEVENT
END:VCALENDAR