BEGIN:VCALENDAR
VERSION:2.0
PRODID:-//Jubilee Community Care - ECPv6.15.1.1//NONSGML v1.0//EN
CALSCALE:GREGORIAN
METHOD:PUBLISH
X-WR-CALNAME:Jubilee Community Care
X-ORIGINAL-URL:https://www.jccagedcare.org.au
X-WR-CALDESC:Events for Jubilee Community Care
REFRESH-INTERVAL;VALUE=DURATION:PT1H
X-Robots-Tag:noindex
X-PUBLISHED-TTL:PT1H
BEGIN:VTIMEZONE
TZID:Australia/Brisbane
BEGIN:STANDARD
TZOFFSETFROM:+1000
TZOFFSETTO:+1000
TZNAME:AEST
DTSTART:20230101T000000
END:STANDARD
END:VTIMEZONE
BEGIN:VEVENT
DTSTART;TZID=Australia/Brisbane:20230328T103000
DTEND;TZID=Australia/Brisbane:20230328T110000
DTSTAMP:20260421T195657
CREATED:20221213T004536Z
LAST-MODIFIED:20230322T024013Z
UID:10002945-1679999400-1680001200@www.jccagedcare.org.au
SUMMARY:Bodytrack Exercise class
DESCRIPTION:Participate in some gentle exercise for seniors in the Bodytrack exercise class. 10.30-11am.
URL:https://www.jccagedcare.org.au/event/bodytrack-exercise-class-2/2023-03-28/
LOCATION:bodyTrack Toowong\, 65 Sylvan Rd\, Toowong\, Brisbane\, Queensland\, 4066\, Australia
GEO:-27.4803091;152.9929598
X-APPLE-STRUCTURED-LOCATION;VALUE=URI;X-ADDRESS=bodyTrack Toowong 65 Sylvan Rd Toowong Brisbane Queensland 4066 Australia;X-APPLE-RADIUS=500;X-TITLE=65 Sylvan Rd\, Toowong:geo:152.9929598,-27.4803091
END:VEVENT
BEGIN:VEVENT
DTSTART;TZID=Australia/Brisbane:20230321T103000
DTEND;TZID=Australia/Brisbane:20230321T110000
DTSTAMP:20260421T195657
CREATED:20221213T004536Z
LAST-MODIFIED:20230322T024013Z
UID:10002944-1679394600-1679396400@www.jccagedcare.org.au
SUMMARY:Bodytrack Exercise class
DESCRIPTION:Participate in some gentle exercise for seniors in the Bodytrack exercise class. 10.30-11am.
URL:https://www.jccagedcare.org.au/event/bodytrack-exercise-class-2/2023-03-21/
LOCATION:bodyTrack Toowong\, 65 Sylvan Rd\, Toowong\, Brisbane\, Queensland\, 4066\, Australia
GEO:-27.4803091;152.9929598
X-APPLE-STRUCTURED-LOCATION;VALUE=URI;X-ADDRESS=bodyTrack Toowong 65 Sylvan Rd Toowong Brisbane Queensland 4066 Australia;X-APPLE-RADIUS=500;X-TITLE=65 Sylvan Rd\, Toowong:geo:152.9929598,-27.4803091
END:VEVENT
BEGIN:VEVENT
DTSTART;TZID=Australia/Brisbane:20230314T103000
DTEND;TZID=Australia/Brisbane:20230314T110000
DTSTAMP:20260421T195657
CREATED:20221213T004536Z
LAST-MODIFIED:20230322T024013Z
UID:10002943-1678789800-1678791600@www.jccagedcare.org.au
SUMMARY:Bodytrack Exercise class
DESCRIPTION:Participate in some gentle exercise for seniors in the Bodytrack exercise class. 10.30-11am.
URL:https://www.jccagedcare.org.au/event/bodytrack-exercise-class-2/2023-03-14/
LOCATION:bodyTrack Toowong\, 65 Sylvan Rd\, Toowong\, Brisbane\, Queensland\, 4066\, Australia
GEO:-27.4803091;152.9929598
X-APPLE-STRUCTURED-LOCATION;VALUE=URI;X-ADDRESS=bodyTrack Toowong 65 Sylvan Rd Toowong Brisbane Queensland 4066 Australia;X-APPLE-RADIUS=500;X-TITLE=65 Sylvan Rd\, Toowong:geo:152.9929598,-27.4803091
END:VEVENT
BEGIN:VEVENT
DTSTART;TZID=Australia/Brisbane:20230307T103000
DTEND;TZID=Australia/Brisbane:20230307T110000
DTSTAMP:20260421T195657
CREATED:20221213T004536Z
LAST-MODIFIED:20230322T024013Z
UID:10002942-1678185000-1678186800@www.jccagedcare.org.au
SUMMARY:Bodytrack Exercise class
DESCRIPTION:Participate in some gentle exercise for seniors in the Bodytrack exercise class. 10.30-11am.
URL:https://www.jccagedcare.org.au/event/bodytrack-exercise-class-2/2023-03-07/
LOCATION:bodyTrack Toowong\, 65 Sylvan Rd\, Toowong\, Brisbane\, Queensland\, 4066\, Australia
GEO:-27.4803091;152.9929598
X-APPLE-STRUCTURED-LOCATION;VALUE=URI;X-ADDRESS=bodyTrack Toowong 65 Sylvan Rd Toowong Brisbane Queensland 4066 Australia;X-APPLE-RADIUS=500;X-TITLE=65 Sylvan Rd\, Toowong:geo:152.9929598,-27.4803091
END:VEVENT
BEGIN:VEVENT
DTSTART;TZID=Australia/Brisbane:20230228T103000
DTEND;TZID=Australia/Brisbane:20230228T110000
DTSTAMP:20260421T195657
CREATED:20221213T004536Z
LAST-MODIFIED:20230322T024013Z
UID:10002941-1677580200-1677582000@www.jccagedcare.org.au
SUMMARY:Bodytrack Exercise class
DESCRIPTION:Participate in some gentle exercise for seniors in the Bodytrack exercise class. 10.30-11am.
URL:https://www.jccagedcare.org.au/event/bodytrack-exercise-class-2/2023-02-28/
LOCATION:bodyTrack Toowong\, 65 Sylvan Rd\, Toowong\, Brisbane\, Queensland\, 4066\, Australia
GEO:-27.4803091;152.9929598
X-APPLE-STRUCTURED-LOCATION;VALUE=URI;X-ADDRESS=bodyTrack Toowong 65 Sylvan Rd Toowong Brisbane Queensland 4066 Australia;X-APPLE-RADIUS=500;X-TITLE=65 Sylvan Rd\, Toowong:geo:152.9929598,-27.4803091
END:VEVENT
BEGIN:VEVENT
DTSTART;TZID=Australia/Brisbane:20230221T103000
DTEND;TZID=Australia/Brisbane:20230221T110000
DTSTAMP:20260421T195657
CREATED:20221213T004536Z
LAST-MODIFIED:20230322T024013Z
UID:10002940-1676975400-1676977200@www.jccagedcare.org.au
SUMMARY:Bodytrack Exercise class
DESCRIPTION:Participate in some gentle exercise for seniors in the Bodytrack exercise class. 10.30-11am.
URL:https://www.jccagedcare.org.au/event/bodytrack-exercise-class-2/2023-02-21/
LOCATION:bodyTrack Toowong\, 65 Sylvan Rd\, Toowong\, Brisbane\, Queensland\, 4066\, Australia
GEO:-27.4803091;152.9929598
X-APPLE-STRUCTURED-LOCATION;VALUE=URI;X-ADDRESS=bodyTrack Toowong 65 Sylvan Rd Toowong Brisbane Queensland 4066 Australia;X-APPLE-RADIUS=500;X-TITLE=65 Sylvan Rd\, Toowong:geo:152.9929598,-27.4803091
END:VEVENT
BEGIN:VEVENT
DTSTART;TZID=Australia/Brisbane:20230214T103000
DTEND;TZID=Australia/Brisbane:20230214T110000
DTSTAMP:20260421T195657
CREATED:20221213T004536Z
LAST-MODIFIED:20230322T024013Z
UID:10002939-1676370600-1676372400@www.jccagedcare.org.au
SUMMARY:Bodytrack Exercise class
DESCRIPTION:Participate in some gentle exercise for seniors in the Bodytrack exercise class. 10.30-11am.
URL:https://www.jccagedcare.org.au/event/bodytrack-exercise-class-2/2023-02-14/
LOCATION:bodyTrack Toowong\, 65 Sylvan Rd\, Toowong\, Brisbane\, Queensland\, 4066\, Australia
GEO:-27.4803091;152.9929598
X-APPLE-STRUCTURED-LOCATION;VALUE=URI;X-ADDRESS=bodyTrack Toowong 65 Sylvan Rd Toowong Brisbane Queensland 4066 Australia;X-APPLE-RADIUS=500;X-TITLE=65 Sylvan Rd\, Toowong:geo:152.9929598,-27.4803091
END:VEVENT
BEGIN:VEVENT
DTSTART;TZID=Australia/Brisbane:20230207T103000
DTEND;TZID=Australia/Brisbane:20230207T110000
DTSTAMP:20260421T195657
CREATED:20221213T004536Z
LAST-MODIFIED:20230322T024013Z
UID:10002938-1675765800-1675767600@www.jccagedcare.org.au
SUMMARY:Bodytrack Exercise class
DESCRIPTION:Participate in some gentle exercise for seniors in the Bodytrack exercise class. 10.30-11am.
URL:https://www.jccagedcare.org.au/event/bodytrack-exercise-class-2/2023-02-07/
LOCATION:bodyTrack Toowong\, 65 Sylvan Rd\, Toowong\, Brisbane\, Queensland\, 4066\, Australia
GEO:-27.4803091;152.9929598
X-APPLE-STRUCTURED-LOCATION;VALUE=URI;X-ADDRESS=bodyTrack Toowong 65 Sylvan Rd Toowong Brisbane Queensland 4066 Australia;X-APPLE-RADIUS=500;X-TITLE=65 Sylvan Rd\, Toowong:geo:152.9929598,-27.4803091
END:VEVENT
BEGIN:VEVENT
DTSTART;TZID=Australia/Brisbane:20230131T103000
DTEND;TZID=Australia/Brisbane:20230131T110000
DTSTAMP:20260421T195657
CREATED:20221213T004536Z
LAST-MODIFIED:20230322T024013Z
UID:10002937-1675161000-1675162800@www.jccagedcare.org.au
SUMMARY:Bodytrack Exercise class
DESCRIPTION:Participate in some gentle exercise for seniors in the Bodytrack exercise class. 10.30-11am.
URL:https://www.jccagedcare.org.au/event/bodytrack-exercise-class-2/2023-01-31/
LOCATION:bodyTrack Toowong\, 65 Sylvan Rd\, Toowong\, Brisbane\, Queensland\, 4066\, Australia
GEO:-27.4803091;152.9929598
X-APPLE-STRUCTURED-LOCATION;VALUE=URI;X-ADDRESS=bodyTrack Toowong 65 Sylvan Rd Toowong Brisbane Queensland 4066 Australia;X-APPLE-RADIUS=500;X-TITLE=65 Sylvan Rd\, Toowong:geo:152.9929598,-27.4803091
END:VEVENT
BEGIN:VEVENT
DTSTART;TZID=Australia/Brisbane:20230124T103000
DTEND;TZID=Australia/Brisbane:20230124T110000
DTSTAMP:20260421T195657
CREATED:20221213T004536Z
LAST-MODIFIED:20230322T024013Z
UID:10002936-1674556200-1674558000@www.jccagedcare.org.au
SUMMARY:Bodytrack Exercise class
DESCRIPTION:Participate in some gentle exercise for seniors in the Bodytrack exercise class. 10.30-11am.
URL:https://www.jccagedcare.org.au/event/bodytrack-exercise-class-2/2023-01-24/
LOCATION:bodyTrack Toowong\, 65 Sylvan Rd\, Toowong\, Brisbane\, Queensland\, 4066\, Australia
GEO:-27.4803091;152.9929598
X-APPLE-STRUCTURED-LOCATION;VALUE=URI;X-ADDRESS=bodyTrack Toowong 65 Sylvan Rd Toowong Brisbane Queensland 4066 Australia;X-APPLE-RADIUS=500;X-TITLE=65 Sylvan Rd\, Toowong:geo:152.9929598,-27.4803091
END:VEVENT
BEGIN:VEVENT
DTSTART;TZID=Australia/Brisbane:20230117T103000
DTEND;TZID=Australia/Brisbane:20230117T110000
DTSTAMP:20260421T195657
CREATED:20221213T004536Z
LAST-MODIFIED:20230322T024013Z
UID:10002935-1673951400-1673953200@www.jccagedcare.org.au
SUMMARY:Bodytrack Exercise class
DESCRIPTION:Participate in some gentle exercise for seniors in the Bodytrack exercise class. 10.30-11am.
URL:https://www.jccagedcare.org.au/event/bodytrack-exercise-class-2/2023-01-17/
LOCATION:bodyTrack Toowong\, 65 Sylvan Rd\, Toowong\, Brisbane\, Queensland\, 4066\, Australia
GEO:-27.4803091;152.9929598
X-APPLE-STRUCTURED-LOCATION;VALUE=URI;X-ADDRESS=bodyTrack Toowong 65 Sylvan Rd Toowong Brisbane Queensland 4066 Australia;X-APPLE-RADIUS=500;X-TITLE=65 Sylvan Rd\, Toowong:geo:152.9929598,-27.4803091
END:VEVENT
END:VCALENDAR