BEGIN:VCALENDAR
VERSION:2.0
PRODID:-//Jubilee Community Care - ECPv6.15.1.1//NONSGML v1.0//EN
CALSCALE:GREGORIAN
METHOD:PUBLISH
X-ORIGINAL-URL:https://www.jccagedcare.org.au
X-WR-CALDESC:Events for Jubilee Community Care
REFRESH-INTERVAL;VALUE=DURATION:PT1H
X-Robots-Tag:noindex
X-PUBLISHED-TTL:PT1H
BEGIN:VTIMEZONE
TZID:Australia/Brisbane
BEGIN:STANDARD
TZOFFSETFROM:+1000
TZOFFSETTO:+1000
TZNAME:AEST
DTSTART:20250101T000000
END:STANDARD
END:VTIMEZONE
BEGIN:VEVENT
DTSTART;VALUE=DATE:20250306
DTEND;VALUE=DATE:20250307
DTSTAMP:20260426T005257
CREATED:20250305T065527Z
LAST-MODIFIED:20250305T065736Z
UID:10005367-1741219200-1741305599@www.jccagedcare.org.au
SUMMARY:CANCELLED: Tai Chi class
DESCRIPTION:CANCELLED DUE TO TROPICAL CYCLONE ALFRED. \nTai chi at 11:30am at St Andrew’s Hall. $12 cash. Buy lunch after at a local cafe. $15 bus.
URL:https://www.jccagedcare.org.au/event/tai-chi-classes-2-2/
LOCATION:St Andrew’s Anglican Church\, 89 Fairley St\, Indooroopilly\, QLD\, 4068\, Australia
GEO:-27.5034706;152.9799399
X-APPLE-STRUCTURED-LOCATION;VALUE=URI;X-ADDRESS=St Andrew’s Anglican Church 89 Fairley St Indooroopilly QLD 4068 Australia;X-APPLE-RADIUS=500;X-TITLE=89 Fairley St:geo:152.9799399,-27.5034706
END:VEVENT
BEGIN:VEVENT
DTSTART;TZID=Australia/Brisbane:20250307T130000
DTEND;TZID=Australia/Brisbane:20250307T140000
DTSTAMP:20260426T005257
CREATED:20241217T025654Z
LAST-MODIFIED:20250305T065331Z
UID:10004592-1741352400-1741356000@www.jccagedcare.org.au
SUMMARY:UQ Healthy Living exercise class - Fridays
DESCRIPTION:Get stronger and healthier at the UQ Healthy Living exercise class. 1-2pm. $5 bus.
URL:https://www.jccagedcare.org.au/event/uq-healthy-living-exercise-class-fridays/2025-03-07/
LOCATION:UQ Healthy Living Gymnasium\, Centra\, Level 3\, 37 Archer Street\,\, Brisbane\, queensland\, 4066\, Australia
GEO:-27.4861889;152.9940544
X-APPLE-STRUCTURED-LOCATION;VALUE=URI;X-ADDRESS=UQ Healthy Living Gymnasium Centra Level 3 37 Archer Street Brisbane queensland 4066 Australia;X-APPLE-RADIUS=500;X-TITLE=Centra\, Level 3\, 37 Archer Street\,:geo:152.9940544,-27.4861889
END:VEVENT
BEGIN:VEVENT
DTSTART;VALUE=DATE:20250310
DTEND;VALUE=DATE:20250311
DTSTAMP:20260426T005257
CREATED:20250218T022209Z
LAST-MODIFIED:20250305T065758Z
UID:10005360-1741564800-1741651199@www.jccagedcare.org.au
SUMMARY:CANCELLED: Pineapple Hotel
DESCRIPTION:CANCELLED DUE TO TROPICAL CYCLONE ALFRED. \nThe Pineapple Hotel is the final destination after a walk (for those who choose to) across Brisbane’s new footbridge from Mary St to Kangaroo Point. $15 bus.
URL:https://www.jccagedcare.org.au/event/pineapple-hotel-3/
LOCATION:Pineapple Hotel\, 706 Main St\, Kangaroo Point\, Brisbane\, Queensland\, 4169\, Australia
GEO:-27.4810428;153.0361979
X-APPLE-STRUCTURED-LOCATION;VALUE=URI;X-ADDRESS=Pineapple Hotel 706 Main St Kangaroo Point Brisbane Queensland 4169 Australia;X-APPLE-RADIUS=500;X-TITLE=706 Main St\, Kangaroo Point:geo:153.0361979,-27.4810428
END:VEVENT
BEGIN:VEVENT
DTSTART;TZID=Australia/Brisbane:20250311T130000
DTEND;TZID=Australia/Brisbane:20250311T140000
DTSTAMP:20260426T005257
CREATED:20241217T025537Z
LAST-MODIFIED:20250305T065414Z
UID:10004336-1741698000-1741701600@www.jccagedcare.org.au
SUMMARY:UQ Healthy Living exercise class - Tuesdays
DESCRIPTION:Get stronger and healthier at the UQ Healthy Living exercise class. 1-2pm. $5 bus.
URL:https://www.jccagedcare.org.au/event/uq-healthy-living-exercise-class-tuesdays/2025-03-11/
LOCATION:UQ Healthy Living Gymnasium\, Centra\, Level 3\, 37 Archer Street\,\, Brisbane\, queensland\, 4066\, Australia
GEO:-27.4861889;152.9940544
X-APPLE-STRUCTURED-LOCATION;VALUE=URI;X-ADDRESS=UQ Healthy Living Gymnasium Centra Level 3 37 Archer Street Brisbane queensland 4066 Australia;X-APPLE-RADIUS=500;X-TITLE=Centra\, Level 3\, 37 Archer Street\,:geo:152.9940544,-27.4861889
END:VEVENT
BEGIN:VEVENT
DTSTART;VALUE=DATE:20250313
DTEND;VALUE=DATE:20250314
DTSTAMP:20260426T005257
CREATED:20250218T023940Z
LAST-MODIFIED:20250218T023941Z
UID:10005368-1741824000-1741910399@www.jccagedcare.org.au
SUMMARY:Tai Chi classes
DESCRIPTION:Tai chi at 11:30am at St Andrew’s Hall. $12 cash. Buy lunch after at a local cafe. $15 bus.
URL:https://www.jccagedcare.org.au/event/tai-chi-classes-2/2025-03-13/
LOCATION:St Andrew’s Anglican Church\, 89 Fairley St\, Indooroopilly\, QLD\, 4068\, Australia
GEO:-27.5034706;152.9799399
X-APPLE-STRUCTURED-LOCATION;VALUE=URI;X-ADDRESS=St Andrew’s Anglican Church 89 Fairley St Indooroopilly QLD 4068 Australia;X-APPLE-RADIUS=500;X-TITLE=89 Fairley St:geo:152.9799399,-27.5034706
END:VEVENT
BEGIN:VEVENT
DTSTART;VALUE=DATE:20250317
DTEND;VALUE=DATE:20250318
DTSTAMP:20260426T005257
CREATED:20250218T022253Z
LAST-MODIFIED:20250218T022253Z
UID:10005361-1742169600-1742255999@www.jccagedcare.org.au
SUMMARY:Lion Richlands
DESCRIPTION:The Classic Combo Lunch Special awaits at the Lion Richlands. For those joining us\, please bring a picture of your past life or your proudest moment of a child or grandchild to share. $15 bus.
URL:https://www.jccagedcare.org.au/event/lion-richlands/
LOCATION:The Lion\, 133 Pine Rd\, Richlands\, Brisbane\, Queensland\, 4077\, Australia
GEO:-27.5921169;152.949221
X-APPLE-STRUCTURED-LOCATION;VALUE=URI;X-ADDRESS=The Lion 133 Pine Rd Richlands Brisbane Queensland 4077 Australia;X-APPLE-RADIUS=500;X-TITLE=133 Pine Rd\, Richlands:geo:152.949221,-27.5921169
END:VEVENT
BEGIN:VEVENT
DTSTART;VALUE=DATE:20250320
DTEND;VALUE=DATE:20250321
DTSTAMP:20260426T005257
CREATED:20250218T024303Z
LAST-MODIFIED:20250218T024303Z
UID:10005372-1742428800-1742515199@www.jccagedcare.org.au
SUMMARY:Bingo at Club Yeronga
DESCRIPTION:Legs Eleven\, number 11 and Cup of Tea\, number 3. Get your brains and pens ready for a morning of bingo at Club Yeronga. Cost is $22. Buy morning tea and lunch at the Club as well. $15 bus.
URL:https://www.jccagedcare.org.au/event/bingo-at-club-yeronga/
LOCATION:Club Yeronga\, Fairfield Road\, Yeronga\, Queensland\, 4104\, Australia
GEO:-27.5154852;153.0177901
X-APPLE-STRUCTURED-LOCATION;VALUE=URI;X-ADDRESS=Club Yeronga Fairfield Road Yeronga Queensland 4104 Australia;X-APPLE-RADIUS=500;X-TITLE=Fairfield Road:geo:153.0177901,-27.5154852
END:VEVENT
BEGIN:VEVENT
DTSTART;VALUE=DATE:20250324
DTEND;VALUE=DATE:20250325
DTSTAMP:20260426T005257
CREATED:20250218T022839Z
LAST-MODIFIED:20250218T023104Z
UID:10005362-1742774400-1742860799@www.jccagedcare.org.au
SUMMARY:Breakfast Creek Precinct bakery and drive
DESCRIPTION:Let’s head to the Breakfast Creek Lifestyle Precinct to enjoy the offerings from the French-inspired Rise Bakery. Finish with a drive around the river at Newstead. $15 bus.
URL:https://www.jccagedcare.org.au/event/breakfast-creek-precinct-bakery-and-drive/
LOCATION:Rise Bakery\, Breakfast Creek Road\, Newstead\, Queensland\, 4006\, Australia
GEO:-27.4415144;153.044629
X-APPLE-STRUCTURED-LOCATION;VALUE=URI;X-ADDRESS=Rise Bakery Breakfast Creek Road Newstead Queensland 4006 Australia;X-APPLE-RADIUS=500;X-TITLE=Breakfast Creek Road:geo:153.044629,-27.4415144
END:VEVENT
BEGIN:VEVENT
DTSTART;VALUE=DATE:20250327
DTEND;VALUE=DATE:20250328
DTSTAMP:20260426T005257
CREATED:20250218T024531Z
LAST-MODIFIED:20250218T024531Z
UID:10005373-1743033600-1743119999@www.jccagedcare.org.au
SUMMARY:Train ride and lunch
DESCRIPTION:Fancy a train ride? Enjoy an an air-conditioned ride to Nundah\, lunch at Flour & Chocolate Patisserie and then a drive around the Toombul area and home in the Jubilee bus. $15 bus.
URL:https://www.jccagedcare.org.au/event/train-ride-and-lunch/
LOCATION:Flour and Chocolate Patisserie\, Old Toombul Road\, Northgate\, Queensland\, 4013\, Australia
GEO:-27.3866515;153.0675377
X-APPLE-STRUCTURED-LOCATION;VALUE=URI;X-ADDRESS=Flour and Chocolate Patisserie Old Toombul Road Northgate Queensland 4013 Australia;X-APPLE-RADIUS=500;X-TITLE=Old Toombul Road:geo:153.0675377,-27.3866515
END:VEVENT
BEGIN:VEVENT
DTSTART;VALUE=DATE:20250331
DTEND;VALUE=DATE:20250401
DTSTAMP:20260426T005257
CREATED:20250218T022950Z
LAST-MODIFIED:20250218T023211Z
UID:10005363-1743379200-1743465599@www.jccagedcare.org.au
SUMMARY:Metro Bus trip and lunch
DESCRIPTION:Is it a bus? Is it a tram? Is it a train? No! It’s Brisbane’s latest Metro bus (aka the Wobble bus). Come join us for a bird’s eye look at the tunnels being built as Brisbane’s busways prepare for the Olympic Games and the future. Starting at UQ Uni Lakes bus station and ending up at RBWH. Lunch at a local cafe after. Must be able to walk 180 metres after getting off the Metro at the hospital. $15 bus.
URL:https://www.jccagedcare.org.au/event/hop-aboard-the-metro-bus-before-lunch/
LOCATION:queensland
END:VEVENT
BEGIN:VEVENT
DTSTART;VALUE=DATE:20250403
DTEND;VALUE=DATE:20250404
DTSTAMP:20260426T005257
CREATED:20250305T070140Z
LAST-MODIFIED:20250305T070140Z
UID:10005374-1743638400-1743724799@www.jccagedcare.org.au
SUMMARY:Owlery Cafe and Tea House
DESCRIPTION:The Owlery Cafe and Tea House calls us to Samford today to enjoy some scrumptious treats. Bus from $15.
URL:https://www.jccagedcare.org.au/event/owlery-cafe-and-tea-house/
LOCATION:Owlery Cafe and Tea House\, Station Street\, Samford Village\, Queensland\, 4520\, Australia
GEO:-27.3688436;152.8861347
X-APPLE-STRUCTURED-LOCATION;VALUE=URI;X-ADDRESS=Owlery Cafe and Tea House Station Street Samford Village Queensland 4520 Australia;X-APPLE-RADIUS=500;X-TITLE=Station Street:geo:152.8861347,-27.3688436
END:VEVENT
BEGIN:VEVENT
DTSTART;VALUE=DATE:20250407
DTEND;VALUE=DATE:20250408
DTSTAMP:20260426T005257
CREATED:20250305T070311Z
LAST-MODIFIED:20250305T070311Z
UID:10005375-1743984000-1744070399@www.jccagedcare.org.au
SUMMARY:Cycling Without Age
DESCRIPTION:Cycling without Age – Explore a new trail on one of the newest tri-bikes around Mt Coot-tha Gardens. Participants are passengers in the tri-bikes piloted by volunteer cyclists. Bus from $15.
URL:https://www.jccagedcare.org.au/event/cycling-without-age/
LOCATION:Mount Coot-tha Botanic Gardens\, Mount Coot-tha Rd\, Toowong\, Brisbane\, Queensland\, 4066\, Australia
GEO:-27.4742782;152.9767584
X-APPLE-STRUCTURED-LOCATION;VALUE=URI;X-ADDRESS=Mount Coot-tha Botanic Gardens Mount Coot-tha Rd Toowong Brisbane Queensland 4066 Australia;X-APPLE-RADIUS=500;X-TITLE=Mount Coot-tha Rd\, Toowong:geo:152.9767584,-27.4742782
END:VEVENT
BEGIN:VEVENT
DTSTART;VALUE=DATE:20250410
DTEND;VALUE=DATE:20250411
DTSTAMP:20260426T005257
CREATED:20250305T070417Z
LAST-MODIFIED:20250305T070417Z
UID:10005376-1744243200-1744329599@www.jccagedcare.org.au
SUMMARY:QYO Music Concert
DESCRIPTION:Queensland Youth Orchestra Morning Music Concert featuring flute\, violin\, viola and cello soloists. Lunch at the Normanby Hotel after. Bus from $15.
URL:https://www.jccagedcare.org.au/event/qyo-music-concert/
LOCATION:Old Museum\, 480 Gregory Tce\, Bowen HIlls\, QLD\, 4006\, Australia
GEO:-27.4512275;153.02982
X-APPLE-STRUCTURED-LOCATION;VALUE=URI;X-ADDRESS=Old Museum 480 Gregory Tce Bowen HIlls QLD 4006 Australia;X-APPLE-RADIUS=500;X-TITLE=480 Gregory Tce:geo:153.02982,-27.4512275
END:VEVENT
BEGIN:VEVENT
DTSTART;VALUE=DATE:20250414
DTEND;VALUE=DATE:20250415
DTSTAMP:20260426T005257
CREATED:20250305T070618Z
LAST-MODIFIED:20250305T070618Z
UID:10005377-1744588800-1744675199@www.jccagedcare.org.au
SUMMARY:Good Grace Restaurant
DESCRIPTION:Enjoy a relaxed and enjoyable lunch at Good Grace Restaurant in Kenmore. Bus from $15.
URL:https://www.jccagedcare.org.au/event/good-grace-restaurant/
LOCATION:Good Grace Restaurant\, Princeton Street\, Kenmore\, Queensland\, 4069\, Australia
GEO:-27.507583;152.938097
X-APPLE-STRUCTURED-LOCATION;VALUE=URI;X-ADDRESS=Good Grace Restaurant Princeton Street Kenmore Queensland 4069 Australia;X-APPLE-RADIUS=500;X-TITLE=Princeton Street:geo:152.938097,-27.507583
END:VEVENT
BEGIN:VEVENT
DTSTART;VALUE=DATE:20250417
DTEND;VALUE=DATE:20250418
DTSTAMP:20260426T005257
CREATED:20250305T070714Z
LAST-MODIFIED:20250305T070714Z
UID:10005378-1744848000-1744934399@www.jccagedcare.org.au
SUMMARY:Old Government House
DESCRIPTION:Take a tour of Old Government House in Brisbane City before a delicious lunch at The Kitchen cafe next door. Bus from $15.
URL:https://www.jccagedcare.org.au/event/old-government-house/
LOCATION:Old Government House\, 2 George St\, Brisbane City\, QLD\, 4000\, Australia
GEO:-27.4764346;153.0279343
X-APPLE-STRUCTURED-LOCATION;VALUE=URI;X-ADDRESS=Old Government House 2 George St Brisbane City QLD 4000 Australia;X-APPLE-RADIUS=500;X-TITLE=2 George St:geo:153.0279343,-27.4764346
END:VEVENT
BEGIN:VEVENT
DTSTART;TZID=Australia/Brisbane:20250421T080000
DTEND;TZID=Australia/Brisbane:20250421T170000
DTSTAMP:20260426T005257
CREATED:20250305T070744Z
LAST-MODIFIED:20250305T071156Z
UID:10005379-1745222400-1745254800@www.jccagedcare.org.au
SUMMARY:Easter Monday
DESCRIPTION:Easter Monday public holiday. No activity today.
URL:https://www.jccagedcare.org.au/event/easter-monday-3/
LOCATION:queensland
END:VEVENT
BEGIN:VEVENT
DTSTART;VALUE=DATE:20250424
DTEND;VALUE=DATE:20250425
DTSTAMP:20260426T005257
CREATED:20250305T070926Z
LAST-MODIFIED:20250305T070926Z
UID:10005380-1745452800-1745539199@www.jccagedcare.org.au
SUMMARY:Mobile Phone Tech Session
DESCRIPTION:Learn some tips and tricks to navigate your mobile phone more easily in a tech session at Kenmore Library. It will be followed by lunch at Cafe Bliss. Bus from $15.
URL:https://www.jccagedcare.org.au/event/mobile-phone-tech-session/
LOCATION:Kenmore Library\, Brookfield Road\, Kenmore\, Queensland\, 4069\, Australia
GEO:-27.5059891;152.9389185
X-APPLE-STRUCTURED-LOCATION;VALUE=URI;X-ADDRESS=Kenmore Library Brookfield Road Kenmore Queensland 4069 Australia;X-APPLE-RADIUS=500;X-TITLE=Brookfield Road:geo:152.9389185,-27.5059891
END:VEVENT
BEGIN:VEVENT
DTSTART;VALUE=DATE:20250428
DTEND;VALUE=DATE:20250429
DTSTAMP:20260426T005257
CREATED:20250305T071019Z
LAST-MODIFIED:20250305T071019Z
UID:10005381-1745798400-1745884799@www.jccagedcare.org.au
SUMMARY:Qld Communications Museum
DESCRIPTION:Step back into 170 years of telecommunications history as we tour the Queensland Communications Museum\, followed by lunch at the Hamilton Hotel. Bus from $15.
URL:https://www.jccagedcare.org.au/event/qld-communications-museum/
LOCATION:Telstra Museum\, 3 Oriel Rd\, Clayfield\, Brisbane\, QLD\, 4011\, Australia
GEO:-27.4267538;153.0509159
X-APPLE-STRUCTURED-LOCATION;VALUE=URI;X-ADDRESS=Telstra Museum 3 Oriel Rd Clayfield Brisbane QLD 4011 Australia;X-APPLE-RADIUS=500;X-TITLE=3 Oriel Rd\, Clayfield:geo:153.0509159,-27.4267538
END:VEVENT
BEGIN:VEVENT
DTSTART;VALUE=DATE:20250703
DTEND;VALUE=DATE:20250704
DTSTAMP:20260426T005257
CREATED:20250624T033315Z
LAST-MODIFIED:20250624T033315Z
UID:10005382-1751500800-1751587199@www.jccagedcare.org.au
SUMMARY:Orchestral concert
DESCRIPTION:The Queensland Youth Orchestra will perform the music of the great composers at a concert at the Old Museum. Lunch will follow after at the Normanby Hotel. Concert tickets are $12. Bus from $15.
URL:https://www.jccagedcare.org.au/event/orchestral-concert/
LOCATION:Old Museum\, 480 Gregory Tce\, Bowen HIlls\, QLD\, 4006\, Australia
GEO:-27.4512275;153.02982
X-APPLE-STRUCTURED-LOCATION;VALUE=URI;X-ADDRESS=Old Museum 480 Gregory Tce Bowen HIlls QLD 4006 Australia;X-APPLE-RADIUS=500;X-TITLE=480 Gregory Tce:geo:153.02982,-27.4512275
END:VEVENT
BEGIN:VEVENT
DTSTART;VALUE=DATE:20250707
DTEND;VALUE=DATE:20250708
DTSTAMP:20260426T005257
CREATED:20250624T033541Z
LAST-MODIFIED:20250624T033541Z
UID:10005383-1751846400-1751932799@www.jccagedcare.org.au
SUMMARY:Star Casino Brisbane visit
DESCRIPTION:Time to rise to dizzying heights at the Star Casino to enjoy the views of Brisbane City\, a coffee and light lunch at Babblers Cafe. Bus from $15.
URL:https://www.jccagedcare.org.au/event/star-casino-brisbane-visit/
LOCATION:Star Casino\, 33 William St\, Brisbane\, Queensland\, 4000\, Australia
GEO:-27.4745259;153.0255598
X-APPLE-STRUCTURED-LOCATION;VALUE=URI;X-ADDRESS=Star Casino 33 William St Brisbane Queensland 4000 Australia;X-APPLE-RADIUS=500;X-TITLE=33 William St:geo:153.0255598,-27.4745259
END:VEVENT
BEGIN:VEVENT
DTSTART;VALUE=DATE:20250710
DTEND;VALUE=DATE:20250711
DTSTAMP:20260426T005257
CREATED:20250624T033731Z
LAST-MODIFIED:20250624T033731Z
UID:10005384-1752105600-1752191999@www.jccagedcare.org.au
SUMMARY:Trivia at Ashgrove Library
DESCRIPTION:Test your knowledge while enjoying Tea and Trivia at the Ashgrove Library followed by lunch at The Gap Tavern. Bus from $15.
URL:https://www.jccagedcare.org.au/event/trivia-at-ashgrove-library/
LOCATION:Ashgrove Library\, 87 Amarina Ave\, Ashgrove\, Brisbane\, Queensland\, 4060\, Australia
GEO:-27.4438869;152.9870508
X-APPLE-STRUCTURED-LOCATION;VALUE=URI;X-ADDRESS=Ashgrove Library 87 Amarina Ave Ashgrove Brisbane Queensland 4060 Australia;X-APPLE-RADIUS=500;X-TITLE=87 Amarina Ave\, Ashgrove:geo:152.9870508,-27.4438869
END:VEVENT
BEGIN:VEVENT
DTSTART;VALUE=DATE:20250714
DTEND;VALUE=DATE:20250715
DTSTAMP:20260426T005257
CREATED:20250624T033816Z
LAST-MODIFIED:20250624T033816Z
UID:10005385-1752451200-1752537599@www.jccagedcare.org.au
SUMMARY:Cleveland cafe
DESCRIPTION:Enjoy a winter’s drive to the Cleveland area followed by fish ‘n’ chips at the renowned landmark The Lighthouse Cafe. What’s not to love?! Bus from $15.
URL:https://www.jccagedcare.org.au/event/cleveland-cafe/
LOCATION:Lighthouse Restaurant\, 237 Shore St N\, Cleveland Point\, Redland City\, Queensland\, 4163\, Australia
GEO:-27.5103729;153.2898678
X-APPLE-STRUCTURED-LOCATION;VALUE=URI;X-ADDRESS=Lighthouse Restaurant 237 Shore St N Cleveland Point Redland City Queensland 4163 Australia;X-APPLE-RADIUS=500;X-TITLE=237 Shore St N\, Cleveland Point:geo:153.2898678,-27.5103729
END:VEVENT
BEGIN:VEVENT
DTSTART;VALUE=DATE:20250717
DTEND;VALUE=DATE:20250718
DTSTAMP:20260426T005257
CREATED:20250624T033903Z
LAST-MODIFIED:20250624T033903Z
UID:10005386-1752710400-1752796799@www.jccagedcare.org.au
SUMMARY:Tech tips at Kenmore Library
DESCRIPTION:Continue on our tech learning journey at Kenmore Library before enjoying a leisurely lunch at Cafe Bliss. Bus from $15.
URL:https://www.jccagedcare.org.au/event/tech-tips-at-kenmore-library/
LOCATION:Kenmore Library\, Brookfield Road\, Kenmore\, Queensland\, 4069\, Australia
GEO:-27.5059891;152.9389185
X-APPLE-STRUCTURED-LOCATION;VALUE=URI;X-ADDRESS=Kenmore Library Brookfield Road Kenmore Queensland 4069 Australia;X-APPLE-RADIUS=500;X-TITLE=Brookfield Road:geo:152.9389185,-27.5059891
END:VEVENT
BEGIN:VEVENT
DTSTART;VALUE=DATE:20250721
DTEND;VALUE=DATE:20250722
DTSTAMP:20260426T005257
CREATED:20250624T033947Z
LAST-MODIFIED:20250624T033947Z
UID:10005387-1753056000-1753142399@www.jccagedcare.org.au
SUMMARY:Thomas Dixon Centre tour
DESCRIPTION:Take a guided tour through the Thomas Dixon Centre – rich in history\, art and creativity. The tour price is $15. Lunch at the newly-opened Tom’s Kitchen afterwards. Bus from $15.
URL:https://www.jccagedcare.org.au/event/thomas-dixon-centre-tour/
LOCATION:Thomas Dixon Centre\, 406 Montague Rd\, West End\, Brisbane\, QLD\, 4101\, Australia
GEO:-27.48629;153.001927
X-APPLE-STRUCTURED-LOCATION;VALUE=URI;X-ADDRESS=Thomas Dixon Centre 406 Montague Rd West End Brisbane QLD 4101 Australia;X-APPLE-RADIUS=500;X-TITLE=406 Montague Rd\, West End:geo:153.001927,-27.48629
END:VEVENT
BEGIN:VEVENT
DTSTART;VALUE=DATE:20250724
DTEND;VALUE=DATE:20250725
DTSTAMP:20260426T005257
CREATED:20250624T034036Z
LAST-MODIFIED:20250624T034036Z
UID:10005388-1753315200-1753401599@www.jccagedcare.org.au
SUMMARY:Broncos Leagues Club fun
DESCRIPTION:Spend the morning with Donna Lynch – trivia\, music\, entertainment\, prizes and raffles to be won at Broncos Leagues Club. Stay on for a delicious lunch afterwards. Bus from $15.
URL:https://www.jccagedcare.org.au/event/broncos-leagues-club-fun/
LOCATION:Broncos Leagues Club\, 98 Fulcher Rd\, Red Hill\, Brisbane\, Queensland\, 4059\, Australia
GEO:-27.4490954;152.9960868
X-APPLE-STRUCTURED-LOCATION;VALUE=URI;X-ADDRESS=Broncos Leagues Club 98 Fulcher Rd Red Hill Brisbane Queensland 4059 Australia;X-APPLE-RADIUS=500;X-TITLE=98 Fulcher Rd\, Red Hill:geo:152.9960868,-27.4490954
END:VEVENT
BEGIN:VEVENT
DTSTART;VALUE=DATE:20250728
DTEND;VALUE=DATE:20250729
DTSTAMP:20260426T005257
CREATED:20250624T034202Z
LAST-MODIFIED:20250624T034202Z
UID:10005389-1753660800-1753747199@www.jccagedcare.org.au
SUMMARY:La Dolce Vita restaurant
DESCRIPTION:Imagine you are in Italy enjoying a European summer with lunch at La Dolce Vita in Park Rd\, Milton.  Bellissimo! Bus from $15.
URL:https://www.jccagedcare.org.au/event/la-dolce-vita-restaurant/
LOCATION:La Dolce Vita\, 20 Park Rd\, Milton\, Brisbane\, Queensland\, 4064\, Australia
GEO:-27.4706511;153.004784
X-APPLE-STRUCTURED-LOCATION;VALUE=URI;X-ADDRESS=La Dolce Vita 20 Park Rd Milton Brisbane Queensland 4064 Australia;X-APPLE-RADIUS=500;X-TITLE=20 Park Rd\, Milton:geo:153.004784,-27.4706511
END:VEVENT
BEGIN:VEVENT
DTSTART;VALUE=DATE:20250731
DTEND;VALUE=DATE:20250801
DTSTAMP:20260426T005257
CREATED:20250624T034401Z
LAST-MODIFIED:20250624T034401Z
UID:10005390-1753920000-1754006399@www.jccagedcare.org.au
SUMMARY:Christmas in July party
DESCRIPTION:Ho ho ho – enjoy a Christmas in July casual luncheon at RSL Redlands. The two-course meal is $26. The meal includes a choice of ham\, fish\, calamari\, aromatic dish of the day or the chef’s special. Plum pudding or pavlova will tempt your dessert tastebuds. Bus from $15.
URL:https://www.jccagedcare.org.au/event/christmas-in-july-party/
LOCATION:Redlands RSL\, 8 Passage St\, Cleveland\, Redland City\, Queensland\, 4163\, Australia
GEO:-27.5257667;153.2788245
X-APPLE-STRUCTURED-LOCATION;VALUE=URI;X-ADDRESS=Redlands RSL 8 Passage St Cleveland Redland City Queensland 4163 Australia;X-APPLE-RADIUS=500;X-TITLE=8 Passage St\, Cleveland:geo:153.2788245,-27.5257667
END:VEVENT
BEGIN:VEVENT
DTSTART;TZID=Australia/Brisbane:20251201T090000
DTEND;TZID=Australia/Brisbane:20251201T140000
DTSTAMP:20260426T005257
CREATED:20251201T003222Z
LAST-MODIFIED:20251201T003222Z
UID:10005391-1764579600-1764597600@www.jccagedcare.org.au
SUMMARY:Lord Mayor's Seniors Christmas Concert
DESCRIPTION:An annual tradition! Celebrate the holiday season at Brisbane City Hall. Includes light food\, refreshments and entertainment. Limited tickets for 9am session.
URL:https://www.jccagedcare.org.au/event/lord-mayors-seniors-christmas-concert/
LOCATION:Brisbane City Hall\, 64 Adelaide St\, Brisbane\, QLD\, 4000\, Australia
GEO:-27.468943;153.0234041
X-APPLE-STRUCTURED-LOCATION;VALUE=URI;X-ADDRESS=Brisbane City Hall 64 Adelaide St Brisbane QLD 4000 Australia;X-APPLE-RADIUS=500;X-TITLE=64 Adelaide St:geo:153.0234041,-27.468943
END:VEVENT
BEGIN:VEVENT
DTSTART;TZID=Australia/Brisbane:20251204T100000
DTEND;TZID=Australia/Brisbane:20251204T140000
DTSTAMP:20260426T005257
CREATED:20251201T003433Z
LAST-MODIFIED:20251201T003433Z
UID:10005392-1764842400-1764856800@www.jccagedcare.org.au
SUMMARY:QLD Youth Orchestra Concert
DESCRIPTION:Music including Tchaikovsky’s Violin Concerto and York Bowen’s expressive Viola Sonata\, it promises to be a joyful and inspiring morning of music. Lunch at local café afterwards. Tickets $12.
URL:https://www.jccagedcare.org.au/event/qld-youth-orchestra-concert/
LOCATION:Old Museum\, 480 Gregory Tce\, Bowen HIlls\, QLD\, 4006\, Australia
GEO:-27.4512275;153.02982
X-APPLE-STRUCTURED-LOCATION;VALUE=URI;X-ADDRESS=Old Museum 480 Gregory Tce Bowen HIlls QLD 4006 Australia;X-APPLE-RADIUS=500;X-TITLE=480 Gregory Tce:geo:153.02982,-27.4512275
END:VEVENT
BEGIN:VEVENT
DTSTART;TZID=Australia/Brisbane:20251208T100000
DTEND;TZID=Australia/Brisbane:20251208T140000
DTSTAMP:20260426T005257
CREATED:20251201T003609Z
LAST-MODIFIED:20251201T003804Z
UID:10005393-1765188000-1765202400@www.jccagedcare.org.au
SUMMARY:Christmas Shopping at Indooroopilly
DESCRIPTION:Get into the Christmas spirit with some leisurely shopping at Indooroopilly Shopping Centre\, then treat yourself to lunch at a genuine British pub – The Pig n Whistle.
URL:https://www.jccagedcare.org.au/event/christmas-shopping-at-indooroopilly/
LOCATION:Indooroopilly Shopping Centre\, 322 Moggill Rd\, Indooroopilly\, Brisbane\, QLD\, 4068\, Australia
GEO:-27.499702;152.9730189
X-APPLE-STRUCTURED-LOCATION;VALUE=URI;X-ADDRESS=Indooroopilly Shopping Centre 322 Moggill Rd Indooroopilly Brisbane QLD 4068 Australia;X-APPLE-RADIUS=500;X-TITLE=322 Moggill Rd\, Indooroopilly:geo:152.9730189,-27.499702
END:VEVENT
END:VCALENDAR