BEGIN:VCALENDAR
VERSION:2.0
PRODID:-//Jubilee Community Care - ECPv6.15.1.1//NONSGML v1.0//EN
CALSCALE:GREGORIAN
METHOD:PUBLISH
X-WR-CALNAME:Jubilee Community Care
X-ORIGINAL-URL:https://www.jccagedcare.org.au
X-WR-CALDESC:Events for Jubilee Community Care
REFRESH-INTERVAL;VALUE=DURATION:PT1H
X-Robots-Tag:noindex
X-PUBLISHED-TTL:PT1H
BEGIN:VTIMEZONE
TZID:Australia/Brisbane
BEGIN:STANDARD
TZOFFSETFROM:+1000
TZOFFSETTO:+1000
TZNAME:AEST
DTSTART:20220101T000000
END:STANDARD
END:VTIMEZONE
BEGIN:VEVENT
DTSTART;VALUE=DATE:20221024
DTEND;VALUE=DATE:20221025
DTSTAMP:20260426T065657
CREATED:20220925T220031Z
LAST-MODIFIED:20220907T041859Z
UID:10002826-1666569600-1666655999@www.jccagedcare.org.au
SUMMARY:Eden Nursery
DESCRIPTION:Eden Garden Nursery\, Carseldine. $15 bus. Buy own lunch in cafe.
URL:https://www.jccagedcare.org.au/event/eden-nursery/
LOCATION:Dragonfly Cafe At Eden Gardens Nursery\, 1657 Gympie Rd\, Carseldine\, QLD\, 4034\, Australia
GEO:-33.7813932;151.133495
X-APPLE-STRUCTURED-LOCATION;VALUE=URI;X-ADDRESS=Dragonfly Cafe At Eden Gardens Nursery 1657 Gympie Rd Carseldine QLD 4034 Australia;X-APPLE-RADIUS=500;X-TITLE=1657 Gympie Rd:geo:151.133495,-33.7813932
END:VEVENT
BEGIN:VEVENT
DTSTART;TZID=Australia/Brisbane:20221021T130000
DTEND;TZID=Australia/Brisbane:20221021T140000
DTSTAMP:20260426T065657
CREATED:20220621T030344Z
LAST-MODIFIED:20220907T023306Z
UID:10002777-1666357200-1666360800@www.jccagedcare.org.au
SUMMARY:UQ Healthy Living exercise class
DESCRIPTION:Get stronger and healthier at the UQ Healthy Living exercise class. 1-2pm.
URL:https://www.jccagedcare.org.au/event/uq-healthy-living-exercise-class-2/2022-10-21/
LOCATION:UQ Healthy Living Gymnasium\, Centra\, Level 3\, 37 Archer Street\,\, Brisbane\, queensland\, 4066\, Australia
GEO:-27.4861889;152.9940544
X-APPLE-STRUCTURED-LOCATION;VALUE=URI;X-ADDRESS=UQ Healthy Living Gymnasium Centra Level 3 37 Archer Street Brisbane queensland 4066 Australia;X-APPLE-RADIUS=500;X-TITLE=Centra\, Level 3\, 37 Archer Street\,:geo:152.9940544,-27.4861889
END:VEVENT
BEGIN:VEVENT
DTSTART;VALUE=DATE:20221020
DTEND;VALUE=DATE:20221021
DTSTAMP:20260426T065657
CREATED:20220925T220051Z
LAST-MODIFIED:20220907T032039Z
UID:10002834-1666224000-1666310399@www.jccagedcare.org.au
SUMMARY:Seniors Month: Ear and Eye Health Forum
DESCRIPTION:Learn about eye and ear health with Macular Disease Foundation Australia and Australian Hearing at our Seniors Month event. Sherwood AFL Club. Light lunch included. $35.
URL:https://www.jccagedcare.org.au/event/seniors-month-ear-and-eye-health-forum/
LOCATION:Sherwood Football Club\, 41 Chelmer St East\, Chelmer\, Brisbane\, Queensland\, 4068\, Australia
GEO:-27.5137118;152.9743826
X-APPLE-STRUCTURED-LOCATION;VALUE=URI;X-ADDRESS=Sherwood Football Club 41 Chelmer St East Chelmer Brisbane Queensland 4068 Australia;X-APPLE-RADIUS=500;X-TITLE=41 Chelmer St East\, Chelmer:geo:152.9743826,-27.5137118
END:VEVENT
BEGIN:VEVENT
DTSTART;TZID=Australia/Brisbane:20221019T100000
DTEND;TZID=Australia/Brisbane:20221019T110000
DTSTAMP:20260426T065657
CREATED:20210324T024927Z
LAST-MODIFIED:20220907T024048Z
UID:10002683-1666173600-1666177200@www.jccagedcare.org.au
SUMMARY:Online chitchat
DESCRIPTION:Enjoy a catch up with friends or make new ones with our activities coordinator Vicki’s online chitchat group. It meets over Zoom from 10am-11am. Assistance with the Zoom video platform on your computer\, Ipad or mobile phone can be provided.
URL:https://www.jccagedcare.org.au/event/online-chitchat-2021-06-30-2022-09-27/2022-10-19/
LOCATION:Online\, Australia
GEO:-25.274398;133.775136
END:VEVENT
BEGIN:VEVENT
DTSTART;TZID=Australia/Brisbane:20221018T130000
DTEND;TZID=Australia/Brisbane:20221018T140000
DTSTAMP:20260426T065657
CREATED:20201229T020054Z
LAST-MODIFIED:20220907T023604Z
UID:10002607-1666098000-1666101600@www.jccagedcare.org.au
SUMMARY:UQ Healthy Living exercise class
DESCRIPTION:Get stronger and healthier at the UQ Healthy Living exercise class. 1-2pm.
URL:https://www.jccagedcare.org.au/event/uq-healthy-living-exercise-class/2022-10-18/
LOCATION:UQ Healthy Living Gymnasium\, Centra\, Level 3\, 37 Archer Street\,\, Brisbane\, queensland\, 4066\, Australia
GEO:-27.4861889;152.9940544
X-APPLE-STRUCTURED-LOCATION;VALUE=URI;X-ADDRESS=UQ Healthy Living Gymnasium Centra Level 3 37 Archer Street Brisbane queensland 4066 Australia;X-APPLE-RADIUS=500;X-TITLE=Centra\, Level 3\, 37 Archer Street\,:geo:152.9940544,-27.4861889
END:VEVENT
BEGIN:VEVENT
DTSTART;TZID=Australia/Brisbane:20221018T103000
DTEND;TZID=Australia/Brisbane:20221018T110000
DTSTAMP:20260426T065657
CREATED:20201229T020021Z
LAST-MODIFIED:20220907T023808Z
UID:10002477-1666089000-1666090800@www.jccagedcare.org.au
SUMMARY:BodyTrack exercise class
DESCRIPTION:Participate in some gentle exercise for seniors in the Bodytrack exercise class. 10.30-11am.
URL:https://www.jccagedcare.org.au/event/bodytrack-exercise-class/2022-10-18/
LOCATION:Bodytrack Toowong\, 2/65 Sylvan Rd\, Toowong\, Brisbane\, Queensland\, 4068\, Australia
GEO:-27.4801158;152.9929449
X-APPLE-STRUCTURED-LOCATION;VALUE=URI;X-ADDRESS=Bodytrack Toowong 2/65 Sylvan Rd Toowong Brisbane Queensland 4068 Australia;X-APPLE-RADIUS=500;X-TITLE=2/65 Sylvan Rd\, Toowong:geo:152.9929449,-27.4801158
END:VEVENT
BEGIN:VEVENT
DTSTART;TZID=Australia/Brisbane:20221018T100000
DTEND;TZID=Australia/Brisbane:20221018T110000
DTSTAMP:20260426T065657
CREATED:20210324T024927Z
LAST-MODIFIED:20220907T024048Z
UID:10002682-1666087200-1666090800@www.jccagedcare.org.au
SUMMARY:Online chitchat
DESCRIPTION:Enjoy a catch up with friends or make new ones with our activities coordinator Vicki’s online chitchat group. It meets over Zoom from 10am-11am. Assistance with the Zoom video platform on your computer\, Ipad or mobile phone can be provided.
URL:https://www.jccagedcare.org.au/event/online-chitchat-2021-06-30-2022-09-27/2022-10-18/
LOCATION:Online\, Australia
GEO:-25.274398;133.775136
END:VEVENT
BEGIN:VEVENT
DTSTART;VALUE=DATE:20221017
DTEND;VALUE=DATE:20221018
DTSTAMP:20260426T065657
CREATED:20220925T220044Z
LAST-MODIFIED:20220907T025652Z
UID:10002830-1665964800-1666051199@www.jccagedcare.org.au
SUMMARY:Seniors Showcase and Safety Talk
DESCRIPTION:It’s Seniors Month! Join our Seniors Showcase and Safety Forum. About $35. Light lunch included. Phone activities coordinator Vicki for more information.
URL:https://www.jccagedcare.org.au/event/seniors-showcase-and-safety-talk/
LOCATION:queensland
END:VEVENT
BEGIN:VEVENT
DTSTART;TZID=Australia/Brisbane:20221014T130000
DTEND;TZID=Australia/Brisbane:20221014T140000
DTSTAMP:20260426T065657
CREATED:20220621T030344Z
LAST-MODIFIED:20220907T023306Z
UID:10002776-1665752400-1665756000@www.jccagedcare.org.au
SUMMARY:UQ Healthy Living exercise class
DESCRIPTION:Get stronger and healthier at the UQ Healthy Living exercise class. 1-2pm.
URL:https://www.jccagedcare.org.au/event/uq-healthy-living-exercise-class-2/2022-10-14/
LOCATION:UQ Healthy Living Gymnasium\, Centra\, Level 3\, 37 Archer Street\,\, Brisbane\, queensland\, 4066\, Australia
GEO:-27.4861889;152.9940544
X-APPLE-STRUCTURED-LOCATION;VALUE=URI;X-ADDRESS=UQ Healthy Living Gymnasium Centra Level 3 37 Archer Street Brisbane queensland 4066 Australia;X-APPLE-RADIUS=500;X-TITLE=Centra\, Level 3\, 37 Archer Street\,:geo:152.9940544,-27.4861889
END:VEVENT
BEGIN:VEVENT
DTSTART;VALUE=DATE:20221013
DTEND;VALUE=DATE:20221014
DTSTAMP:20260426T065657
CREATED:20220925T220007Z
LAST-MODIFIED:20220907T031844Z
UID:10002816-1665619200-1665705599@www.jccagedcare.org.au
SUMMARY:Watercress Creek Olives & Limes
DESCRIPTION:Enjoy lunch\, a tour and tastings at Watercress Creek Olives & Limes\, Pine Mountain. $15 bus. Lunch about $40.
URL:https://www.jccagedcare.org.au/event/watercress-creek-olives-limes/
LOCATION:Watercress Creek Olive & Limes\, 53 Bryces Rd\, Pine Moutain\, QLD\, 4306\, Australia
GEO:-27.5254573;152.7149425
X-APPLE-STRUCTURED-LOCATION;VALUE=URI;X-ADDRESS=Watercress Creek Olive & Limes 53 Bryces Rd Pine Moutain QLD 4306 Australia;X-APPLE-RADIUS=500;X-TITLE=53 Bryces Rd:geo:152.7149425,-27.5254573
END:VEVENT
BEGIN:VEVENT
DTSTART;TZID=Australia/Brisbane:20221012T100000
DTEND;TZID=Australia/Brisbane:20221012T110000
DTSTAMP:20260426T065657
CREATED:20210324T024927Z
LAST-MODIFIED:20220907T024048Z
UID:10002681-1665568800-1665572400@www.jccagedcare.org.au
SUMMARY:Online chitchat
DESCRIPTION:Enjoy a catch up with friends or make new ones with our activities coordinator Vicki’s online chitchat group. It meets over Zoom from 10am-11am. Assistance with the Zoom video platform on your computer\, Ipad or mobile phone can be provided.
URL:https://www.jccagedcare.org.au/event/online-chitchat-2021-06-30-2022-09-27/2022-10-12/
LOCATION:Online\, Australia
GEO:-25.274398;133.775136
END:VEVENT
BEGIN:VEVENT
DTSTART;TZID=Australia/Brisbane:20221011T130000
DTEND;TZID=Australia/Brisbane:20221011T140000
DTSTAMP:20260426T065657
CREATED:20201229T020054Z
LAST-MODIFIED:20220907T023604Z
UID:10002606-1665493200-1665496800@www.jccagedcare.org.au
SUMMARY:UQ Healthy Living exercise class
DESCRIPTION:Get stronger and healthier at the UQ Healthy Living exercise class. 1-2pm.
URL:https://www.jccagedcare.org.au/event/uq-healthy-living-exercise-class/2022-10-11/
LOCATION:UQ Healthy Living Gymnasium\, Centra\, Level 3\, 37 Archer Street\,\, Brisbane\, queensland\, 4066\, Australia
GEO:-27.4861889;152.9940544
X-APPLE-STRUCTURED-LOCATION;VALUE=URI;X-ADDRESS=UQ Healthy Living Gymnasium Centra Level 3 37 Archer Street Brisbane queensland 4066 Australia;X-APPLE-RADIUS=500;X-TITLE=Centra\, Level 3\, 37 Archer Street\,:geo:152.9940544,-27.4861889
END:VEVENT
BEGIN:VEVENT
DTSTART;TZID=Australia/Brisbane:20221011T103000
DTEND;TZID=Australia/Brisbane:20221011T110000
DTSTAMP:20260426T065657
CREATED:20201229T020021Z
LAST-MODIFIED:20220907T023808Z
UID:10002476-1665484200-1665486000@www.jccagedcare.org.au
SUMMARY:BodyTrack exercise class
DESCRIPTION:Participate in some gentle exercise for seniors in the Bodytrack exercise class. 10.30-11am.
URL:https://www.jccagedcare.org.au/event/bodytrack-exercise-class/2022-10-11/
LOCATION:Bodytrack Toowong\, 2/65 Sylvan Rd\, Toowong\, Brisbane\, Queensland\, 4068\, Australia
GEO:-27.4801158;152.9929449
X-APPLE-STRUCTURED-LOCATION;VALUE=URI;X-ADDRESS=Bodytrack Toowong 2/65 Sylvan Rd Toowong Brisbane Queensland 4068 Australia;X-APPLE-RADIUS=500;X-TITLE=2/65 Sylvan Rd\, Toowong:geo:152.9929449,-27.4801158
END:VEVENT
BEGIN:VEVENT
DTSTART;TZID=Australia/Brisbane:20221011T100000
DTEND;TZID=Australia/Brisbane:20221011T110000
DTSTAMP:20260426T065657
CREATED:20210324T024927Z
LAST-MODIFIED:20220907T024048Z
UID:10002680-1665482400-1665486000@www.jccagedcare.org.au
SUMMARY:Online chitchat
DESCRIPTION:Enjoy a catch up with friends or make new ones with our activities coordinator Vicki’s online chitchat group. It meets over Zoom from 10am-11am. Assistance with the Zoom video platform on your computer\, Ipad or mobile phone can be provided.
URL:https://www.jccagedcare.org.au/event/online-chitchat-2021-06-30-2022-09-27/2022-10-11/
LOCATION:Online\, Australia
GEO:-25.274398;133.775136
END:VEVENT
BEGIN:VEVENT
DTSTART;VALUE=DATE:20221010
DTEND;VALUE=DATE:20221011
DTSTAMP:20260426T065657
CREATED:20220925T220049Z
LAST-MODIFIED:20220907T025621Z
UID:10002832-1665360000-1665446399@www.jccagedcare.org.au
SUMMARY:Beenleigh Rum Distillery
DESCRIPTION:Visit the Beenleigh Rum Distillery. $15 bus. Tour and tasting $20 payable on the day. Buy own lunch.
URL:https://www.jccagedcare.org.au/event/beenleigh-rum-distillery-2/
LOCATION:Beenleigh Rum Distillery\, 142 Distillery Rd\, Eagleby\, QLD\, 4207\, Australia
GEO:-27.7237427;153.2224105
X-APPLE-STRUCTURED-LOCATION;VALUE=URI;X-ADDRESS=Beenleigh Rum Distillery 142 Distillery Rd Eagleby QLD 4207 Australia;X-APPLE-RADIUS=500;X-TITLE=142 Distillery Rd:geo:153.2224105,-27.7237427
END:VEVENT
BEGIN:VEVENT
DTSTART;TZID=Australia/Brisbane:20221007T130000
DTEND;TZID=Australia/Brisbane:20221007T140000
DTSTAMP:20260426T065657
CREATED:20220621T030344Z
LAST-MODIFIED:20220907T023306Z
UID:10002775-1665147600-1665151200@www.jccagedcare.org.au
SUMMARY:UQ Healthy Living exercise class
DESCRIPTION:Get stronger and healthier at the UQ Healthy Living exercise class. 1-2pm.
URL:https://www.jccagedcare.org.au/event/uq-healthy-living-exercise-class-2/2022-10-07/
LOCATION:UQ Healthy Living Gymnasium\, Centra\, Level 3\, 37 Archer Street\,\, Brisbane\, queensland\, 4066\, Australia
GEO:-27.4861889;152.9940544
X-APPLE-STRUCTURED-LOCATION;VALUE=URI;X-ADDRESS=UQ Healthy Living Gymnasium Centra Level 3 37 Archer Street Brisbane queensland 4066 Australia;X-APPLE-RADIUS=500;X-TITLE=Centra\, Level 3\, 37 Archer Street\,:geo:152.9940544,-27.4861889
END:VEVENT
BEGIN:VEVENT
DTSTART;VALUE=DATE:20221006
DTEND;VALUE=DATE:20221007
DTSTAMP:20260426T065657
CREATED:20220925T220028Z
LAST-MODIFIED:20220907T025535Z
UID:10002824-1665014400-1665100799@www.jccagedcare.org.au
SUMMARY:National Youth Concerto performance
DESCRIPTION:National Youth Concerto Competition performances at the Old Museum. $15 bus. $10 entry. Buy own lunch
URL:https://www.jccagedcare.org.au/event/national-youth-concerto-performance/
LOCATION:Old Museum\, 480 Gregory Tce\, Bowen HIlls\, QLD\, 4006\, Australia
GEO:-27.4512275;153.02982
X-APPLE-STRUCTURED-LOCATION;VALUE=URI;X-ADDRESS=Old Museum 480 Gregory Tce Bowen HIlls QLD 4006 Australia;X-APPLE-RADIUS=500;X-TITLE=480 Gregory Tce:geo:153.02982,-27.4512275
END:VEVENT
BEGIN:VEVENT
DTSTART;TZID=Australia/Brisbane:20221005T100000
DTEND;TZID=Australia/Brisbane:20221005T110000
DTSTAMP:20260426T065657
CREATED:20210324T024927Z
LAST-MODIFIED:20220907T024048Z
UID:10002679-1664964000-1664967600@www.jccagedcare.org.au
SUMMARY:Online chitchat
DESCRIPTION:Enjoy a catch up with friends or make new ones with our activities coordinator Vicki’s online chitchat group. It meets over Zoom from 10am-11am. Assistance with the Zoom video platform on your computer\, Ipad or mobile phone can be provided.
URL:https://www.jccagedcare.org.au/event/online-chitchat-2021-06-30-2022-09-27/2022-10-05/
LOCATION:Online\, Australia
GEO:-25.274398;133.775136
END:VEVENT
BEGIN:VEVENT
DTSTART;TZID=Australia/Brisbane:20221004T130000
DTEND;TZID=Australia/Brisbane:20221004T140000
DTSTAMP:20260426T065657
CREATED:20201229T020054Z
LAST-MODIFIED:20220907T023604Z
UID:10002605-1664888400-1664892000@www.jccagedcare.org.au
SUMMARY:UQ Healthy Living exercise class
DESCRIPTION:Get stronger and healthier at the UQ Healthy Living exercise class. 1-2pm.
URL:https://www.jccagedcare.org.au/event/uq-healthy-living-exercise-class/2022-10-04/
LOCATION:UQ Healthy Living Gymnasium\, Centra\, Level 3\, 37 Archer Street\,\, Brisbane\, queensland\, 4066\, Australia
GEO:-27.4861889;152.9940544
X-APPLE-STRUCTURED-LOCATION;VALUE=URI;X-ADDRESS=UQ Healthy Living Gymnasium Centra Level 3 37 Archer Street Brisbane queensland 4066 Australia;X-APPLE-RADIUS=500;X-TITLE=Centra\, Level 3\, 37 Archer Street\,:geo:152.9940544,-27.4861889
END:VEVENT
BEGIN:VEVENT
DTSTART;TZID=Australia/Brisbane:20221004T103000
DTEND;TZID=Australia/Brisbane:20221004T110000
DTSTAMP:20260426T065657
CREATED:20201229T020021Z
LAST-MODIFIED:20220907T023808Z
UID:10002475-1664879400-1664881200@www.jccagedcare.org.au
SUMMARY:BodyTrack exercise class
DESCRIPTION:Participate in some gentle exercise for seniors in the Bodytrack exercise class. 10.30-11am.
URL:https://www.jccagedcare.org.au/event/bodytrack-exercise-class/2022-10-04/
LOCATION:Bodytrack Toowong\, 2/65 Sylvan Rd\, Toowong\, Brisbane\, Queensland\, 4068\, Australia
GEO:-27.4801158;152.9929449
X-APPLE-STRUCTURED-LOCATION;VALUE=URI;X-ADDRESS=Bodytrack Toowong 2/65 Sylvan Rd Toowong Brisbane Queensland 4068 Australia;X-APPLE-RADIUS=500;X-TITLE=2/65 Sylvan Rd\, Toowong:geo:152.9929449,-27.4801158
END:VEVENT
BEGIN:VEVENT
DTSTART;TZID=Australia/Brisbane:20221004T100000
DTEND;TZID=Australia/Brisbane:20221004T110000
DTSTAMP:20260426T065657
CREATED:20210324T024927Z
LAST-MODIFIED:20220907T024048Z
UID:10002678-1664877600-1664881200@www.jccagedcare.org.au
SUMMARY:Online chitchat
DESCRIPTION:Enjoy a catch up with friends or make new ones with our activities coordinator Vicki’s online chitchat group. It meets over Zoom from 10am-11am. Assistance with the Zoom video platform on your computer\, Ipad or mobile phone can be provided.
URL:https://www.jccagedcare.org.au/event/online-chitchat-2021-06-30-2022-09-27/2022-10-04/
LOCATION:Online\, Australia
GEO:-25.274398;133.775136
END:VEVENT
BEGIN:VEVENT
DTSTART;VALUE=DATE:20221003
DTEND;VALUE=DATE:20221004
DTSTAMP:20260426T065657
CREATED:20220907T024312Z
LAST-MODIFIED:20220907T024312Z
UID:10002812-1664755200-1664841599@www.jccagedcare.org.au
SUMMARY:Public holiday
DESCRIPTION:Queen’s Birthday public holiday
URL:https://www.jccagedcare.org.au/event/public-holiday-2/
LOCATION:queensland
END:VEVENT
BEGIN:VEVENT
DTSTART;TZID=Australia/Brisbane:20220930T130000
DTEND;TZID=Australia/Brisbane:20220930T140000
DTSTAMP:20260426T065657
CREATED:20220621T030344Z
LAST-MODIFIED:20220907T023306Z
UID:10002774-1664542800-1664546400@www.jccagedcare.org.au
SUMMARY:UQ Healthy Living exercise class
DESCRIPTION:Get stronger and healthier at the UQ Healthy Living exercise class. 1-2pm.
URL:https://www.jccagedcare.org.au/event/uq-healthy-living-exercise-class-2/2022-09-30/
LOCATION:UQ Healthy Living Gymnasium\, Centra\, Level 3\, 37 Archer Street\,\, Brisbane\, queensland\, 4066\, Australia
GEO:-27.4861889;152.9940544
X-APPLE-STRUCTURED-LOCATION;VALUE=URI;X-ADDRESS=UQ Healthy Living Gymnasium Centra Level 3 37 Archer Street Brisbane queensland 4066 Australia;X-APPLE-RADIUS=500;X-TITLE=Centra\, Level 3\, 37 Archer Street\,:geo:152.9940544,-27.4861889
END:VEVENT
BEGIN:VEVENT
DTSTART;VALUE=DATE:20220929
DTEND;VALUE=DATE:20220930
DTSTAMP:20260426T065657
CREATED:20220621T034721Z
LAST-MODIFIED:20220621T034721Z
UID:10002807-1664409600-1664495999@www.jccagedcare.org.au
SUMMARY:The Polish Club
DESCRIPTION:The Polish Club. $15 bus. Buy own lunch.
URL:https://www.jccagedcare.org.au/event/the-polish-club/
LOCATION:The Polish Club\, 10 Marie St\, Milton\, Brisbane\, Queensland\, 4064\, Australia
GEO:-27.4723684;153.0044471
X-APPLE-STRUCTURED-LOCATION;VALUE=URI;X-ADDRESS=The Polish Club 10 Marie St Milton Brisbane Queensland 4064 Australia;X-APPLE-RADIUS=500;X-TITLE=10 Marie St\, Milton:geo:153.0044471,-27.4723684
END:VEVENT
BEGIN:VEVENT
DTSTART;TZID=Australia/Brisbane:20220928T100000
DTEND;TZID=Australia/Brisbane:20220928T110000
DTSTAMP:20260426T065657
CREATED:20210324T024927Z
LAST-MODIFIED:20220907T024048Z
UID:10002677-1664359200-1664362800@www.jccagedcare.org.au
SUMMARY:Online chitchat
DESCRIPTION:Enjoy a catch up with friends or make new ones with our activities coordinator Vicki’s online chitchat group. It meets over Zoom from 10am-11am. Assistance with the Zoom video platform on your computer\, Ipad or mobile phone can be provided.
URL:https://www.jccagedcare.org.au/event/online-chitchat-2021-06-30-2022-09-27/2022-09-28/
LOCATION:Online\, Australia
GEO:-25.274398;133.775136
END:VEVENT
BEGIN:VEVENT
DTSTART;TZID=Australia/Brisbane:20220927T130000
DTEND;TZID=Australia/Brisbane:20220927T140000
DTSTAMP:20260426T065657
CREATED:20201229T020054Z
LAST-MODIFIED:20220907T023604Z
UID:10002604-1664283600-1664287200@www.jccagedcare.org.au
SUMMARY:UQ Healthy Living exercise class
DESCRIPTION:Get stronger and healthier at the UQ Healthy Living exercise class. 1-2pm.
URL:https://www.jccagedcare.org.au/event/uq-healthy-living-exercise-class/2022-09-27/
LOCATION:UQ Healthy Living Gymnasium\, Centra\, Level 3\, 37 Archer Street\,\, Brisbane\, queensland\, 4066\, Australia
GEO:-27.4861889;152.9940544
X-APPLE-STRUCTURED-LOCATION;VALUE=URI;X-ADDRESS=UQ Healthy Living Gymnasium Centra Level 3 37 Archer Street Brisbane queensland 4066 Australia;X-APPLE-RADIUS=500;X-TITLE=Centra\, Level 3\, 37 Archer Street\,:geo:152.9940544,-27.4861889
END:VEVENT
BEGIN:VEVENT
DTSTART;TZID=Australia/Brisbane:20220927T103000
DTEND;TZID=Australia/Brisbane:20220927T110000
DTSTAMP:20260426T065657
CREATED:20201229T020021Z
LAST-MODIFIED:20220907T023808Z
UID:10002474-1664274600-1664276400@www.jccagedcare.org.au
SUMMARY:BodyTrack exercise class
DESCRIPTION:Participate in some gentle exercise for seniors in the Bodytrack exercise class. 10.30-11am.
URL:https://www.jccagedcare.org.au/event/bodytrack-exercise-class/2022-09-27/
LOCATION:Bodytrack Toowong\, 2/65 Sylvan Rd\, Toowong\, Brisbane\, Queensland\, 4068\, Australia
GEO:-27.4801158;152.9929449
X-APPLE-STRUCTURED-LOCATION;VALUE=URI;X-ADDRESS=Bodytrack Toowong 2/65 Sylvan Rd Toowong Brisbane Queensland 4068 Australia;X-APPLE-RADIUS=500;X-TITLE=2/65 Sylvan Rd\, Toowong:geo:152.9929449,-27.4801158
END:VEVENT
BEGIN:VEVENT
DTSTART;TZID=Australia/Brisbane:20220927T100000
DTEND;TZID=Australia/Brisbane:20220927T113000
DTSTAMP:20260426T065657
CREATED:20210324T024927Z
LAST-MODIFIED:20220621T031212Z
UID:10002675-1664272800-1664278200@www.jccagedcare.org.au
SUMMARY:Online chitchat
DESCRIPTION:Enjoy a catch up with friends or make new ones with Vicki’s online chitchat group. It meets over Zoom from 10am-11.30am. Assistance with tthe Zoom video platform on your computer\, Ipad or mobile phone can be provided.
URL:https://www.jccagedcare.org.au/event/online-chitchat-2021-06-30/2022-09-27/
LOCATION:Online\, Australia
GEO:-25.274398;133.775136
END:VEVENT
BEGIN:VEVENT
DTSTART;TZID=Australia/Brisbane:20220927T100000
DTEND;TZID=Australia/Brisbane:20220927T110000
DTSTAMP:20260426T065657
CREATED:20210324T024927Z
LAST-MODIFIED:20220907T024048Z
UID:10002676-1664272800-1664276400@www.jccagedcare.org.au
SUMMARY:Online chitchat
DESCRIPTION:Enjoy a catch up with friends or make new ones with our activities coordinator Vicki’s online chitchat group. It meets over Zoom from 10am-11am. Assistance with the Zoom video platform on your computer\, Ipad or mobile phone can be provided.
URL:https://www.jccagedcare.org.au/event/online-chitchat-2021-06-30-2022-09-27/2022-09-27/
LOCATION:Online\, Australia
GEO:-25.274398;133.775136
END:VEVENT
BEGIN:VEVENT
DTSTART;VALUE=DATE:20220926
DTEND;VALUE=DATE:20220927
DTSTAMP:20260426T065657
CREATED:20220621T035256Z
LAST-MODIFIED:20220826T061341Z
UID:10002811-1664150400-1664236799@www.jccagedcare.org.au
SUMMARY:Cafe Primavera
DESCRIPTION:Cafe Primavera\, Corinda. $15 bus. Buy own lunch today.
URL:https://www.jccagedcare.org.au/event/cafe-primavera/
LOCATION:Cafe Primavera\, 667 Oxley Rd\, Corinda\, Brisbane\, Queensland\, 4075\, Australia
GEO:-27.5402933;152.9812838
X-APPLE-STRUCTURED-LOCATION;VALUE=URI;X-ADDRESS=Cafe Primavera 667 Oxley Rd Corinda Brisbane Queensland 4075 Australia;X-APPLE-RADIUS=500;X-TITLE=667 Oxley Rd\, Corinda:geo:152.9812838,-27.5402933
END:VEVENT
END:VCALENDAR