BEGIN:VCALENDAR
VERSION:2.0
PRODID:-//Jubilee Community Care - ECPv6.15.1.1//NONSGML v1.0//EN
CALSCALE:GREGORIAN
METHOD:PUBLISH
X-WR-CALNAME:Jubilee Community Care
X-ORIGINAL-URL:https://www.jccagedcare.org.au
X-WR-CALDESC:Events for Jubilee Community Care
REFRESH-INTERVAL;VALUE=DURATION:PT1H
X-Robots-Tag:noindex
X-PUBLISHED-TTL:PT1H
BEGIN:VTIMEZONE
TZID:Australia/Brisbane
BEGIN:STANDARD
TZOFFSETFROM:+1000
TZOFFSETTO:+1000
TZNAME:AEST
DTSTART:20250101T000000
END:STANDARD
END:VTIMEZONE
BEGIN:VEVENT
DTSTART;VALUE=DATE:20250206
DTEND;VALUE=DATE:20250207
DTSTAMP:20260424T232943
CREATED:20250218T023940Z
LAST-MODIFIED:20250218T023941Z
UID:10005365-1738800000-1738886399@www.jccagedcare.org.au
SUMMARY:Tai Chi classes
DESCRIPTION:Tai chi at 11:30am at St Andrew’s Hall. $12 cash. Buy lunch after at a local cafe. $15 bus.
URL:https://www.jccagedcare.org.au/event/tai-chi-classes-2/2025-02-06/
LOCATION:St Andrew’s Anglican Church\, 89 Fairley St\, Indooroopilly\, QLD\, 4068\, Australia
GEO:-27.5034706;152.9799399
X-APPLE-STRUCTURED-LOCATION;VALUE=URI;X-ADDRESS=St Andrew’s Anglican Church 89 Fairley St Indooroopilly QLD 4068 Australia;X-APPLE-RADIUS=500;X-TITLE=89 Fairley St:geo:152.9799399,-27.5034706
END:VEVENT
BEGIN:VEVENT
DTSTART;TZID=Australia/Brisbane:20250207T130000
DTEND;TZID=Australia/Brisbane:20250207T140000
DTSTAMP:20260424T232943
CREATED:20241217T025654Z
LAST-MODIFIED:20250305T065331Z
UID:10004588-1738933200-1738936800@www.jccagedcare.org.au
SUMMARY:UQ Healthy Living exercise class - Fridays
DESCRIPTION:Get stronger and healthier at the UQ Healthy Living exercise class. 1-2pm. $5 bus.
URL:https://www.jccagedcare.org.au/event/uq-healthy-living-exercise-class-fridays/2025-02-07/
LOCATION:UQ Healthy Living Gymnasium\, Centra\, Level 3\, 37 Archer Street\,\, Brisbane\, queensland\, 4066\, Australia
GEO:-27.4861889;152.9940544
X-APPLE-STRUCTURED-LOCATION;VALUE=URI;X-ADDRESS=UQ Healthy Living Gymnasium Centra Level 3 37 Archer Street Brisbane queensland 4066 Australia;X-APPLE-RADIUS=500;X-TITLE=Centra\, Level 3\, 37 Archer Street\,:geo:152.9940544,-27.4861889
END:VEVENT
BEGIN:VEVENT
DTSTART;TZID=Australia/Brisbane:20250211T100000
DTEND;TZID=Australia/Brisbane:20250211T110000
DTSTAMP:20260424T232943
CREATED:20241217T235947Z
LAST-MODIFIED:20241217T235947Z
UID:10004849-1739268000-1739271600@www.jccagedcare.org.au
SUMMARY:Online Zoom chit-chat - Tuesdays
DESCRIPTION:Make new friends and socialise online with our Jubilee Zoom Chats\, 10am-11am. If you need help learning how to use Zoom this can be organised for you.
URL:https://www.jccagedcare.org.au/event/online-zoom-chit-chat-tuesdays/2025-02-11/
LOCATION:Online\, Australia
GEO:-25.274398;133.775136
END:VEVENT
BEGIN:VEVENT
DTSTART;TZID=Australia/Brisbane:20250211T130000
DTEND;TZID=Australia/Brisbane:20250211T140000
DTSTAMP:20260424T232943
CREATED:20241217T025537Z
LAST-MODIFIED:20250305T065414Z
UID:10004332-1739278800-1739282400@www.jccagedcare.org.au
SUMMARY:UQ Healthy Living exercise class - Tuesdays
DESCRIPTION:Get stronger and healthier at the UQ Healthy Living exercise class. 1-2pm. $5 bus.
URL:https://www.jccagedcare.org.au/event/uq-healthy-living-exercise-class-tuesdays/2025-02-11/
LOCATION:UQ Healthy Living Gymnasium\, Centra\, Level 3\, 37 Archer Street\,\, Brisbane\, queensland\, 4066\, Australia
GEO:-27.4861889;152.9940544
X-APPLE-STRUCTURED-LOCATION;VALUE=URI;X-ADDRESS=UQ Healthy Living Gymnasium Centra Level 3 37 Archer Street Brisbane queensland 4066 Australia;X-APPLE-RADIUS=500;X-TITLE=Centra\, Level 3\, 37 Archer Street\,:geo:152.9940544,-27.4861889
END:VEVENT
BEGIN:VEVENT
DTSTART;TZID=Australia/Brisbane:20250212T100000
DTEND;TZID=Australia/Brisbane:20250212T110000
DTSTAMP:20260424T232943
CREATED:20241218T000107Z
LAST-MODIFIED:20241218T000107Z
UID:10005106-1739354400-1739358000@www.jccagedcare.org.au
SUMMARY:Online Zoom chit-chat - Wednesdays
DESCRIPTION:Make new friends and socialise online with our Jubilee Zoom Chats\, 10am-11am. If you need help learning how to use Zoom this can be organised for you.
URL:https://www.jccagedcare.org.au/event/online-zoom-chit-chat-wednesdays-2/2025-02-12/
LOCATION:Online\, Australia
GEO:-25.274398;133.775136
END:VEVENT
BEGIN:VEVENT
DTSTART;VALUE=DATE:20250213
DTEND;VALUE=DATE:20250214
DTSTAMP:20260424T232943
CREATED:20250218T023706Z
LAST-MODIFIED:20250218T023830Z
UID:10005369-1739404800-1739491199@www.jccagedcare.org.au
SUMMARY:Tai Chi classes
DESCRIPTION:Tai chi at 11:30am at St Andrew’s Hall. $12 cash. Buy lunch after at a local cafe. $15 bus.
URL:https://www.jccagedcare.org.au/event/tai-chi-classes/
LOCATION:St Andrew’s Anglican Church\, 89 Fairley St\, Indooroopilly\, QLD\, 4068\, Australia
GEO:-27.5034706;152.9799399
X-APPLE-STRUCTURED-LOCATION;VALUE=URI;X-ADDRESS=St Andrew’s Anglican Church 89 Fairley St Indooroopilly QLD 4068 Australia;X-APPLE-RADIUS=500;X-TITLE=89 Fairley St:geo:152.9799399,-27.5034706
END:VEVENT
BEGIN:VEVENT
DTSTART;VALUE=DATE:20250213
DTEND;VALUE=DATE:20250214
DTSTAMP:20260424T232943
CREATED:20250218T023940Z
LAST-MODIFIED:20250218T023941Z
UID:10005370-1739404800-1739491199@www.jccagedcare.org.au
SUMMARY:Tai Chi classes
DESCRIPTION:Tai chi at 11:30am at St Andrew’s Hall. $12 cash. Buy lunch after at a local cafe. $15 bus.
URL:https://www.jccagedcare.org.au/event/tai-chi-classes-2/2025-02-13/
LOCATION:St Andrew’s Anglican Church\, 89 Fairley St\, Indooroopilly\, QLD\, 4068\, Australia
GEO:-27.5034706;152.9799399
X-APPLE-STRUCTURED-LOCATION;VALUE=URI;X-ADDRESS=St Andrew’s Anglican Church 89 Fairley St Indooroopilly QLD 4068 Australia;X-APPLE-RADIUS=500;X-TITLE=89 Fairley St:geo:152.9799399,-27.5034706
END:VEVENT
BEGIN:VEVENT
DTSTART;TZID=Australia/Brisbane:20250214T130000
DTEND;TZID=Australia/Brisbane:20250214T140000
DTSTAMP:20260424T232943
CREATED:20241217T025654Z
LAST-MODIFIED:20250305T065331Z
UID:10004589-1739538000-1739541600@www.jccagedcare.org.au
SUMMARY:UQ Healthy Living exercise class - Fridays
DESCRIPTION:Get stronger and healthier at the UQ Healthy Living exercise class. 1-2pm. $5 bus.
URL:https://www.jccagedcare.org.au/event/uq-healthy-living-exercise-class-fridays/2025-02-14/
LOCATION:UQ Healthy Living Gymnasium\, Centra\, Level 3\, 37 Archer Street\,\, Brisbane\, queensland\, 4066\, Australia
GEO:-27.4861889;152.9940544
X-APPLE-STRUCTURED-LOCATION;VALUE=URI;X-ADDRESS=UQ Healthy Living Gymnasium Centra Level 3 37 Archer Street Brisbane queensland 4066 Australia;X-APPLE-RADIUS=500;X-TITLE=Centra\, Level 3\, 37 Archer Street\,:geo:152.9940544,-27.4861889
END:VEVENT
BEGIN:VEVENT
DTSTART;TZID=Australia/Brisbane:20250218T080000
DTEND;TZID=Australia/Brisbane:20250218T170000
DTSTAMP:20260424T232943
CREATED:20250218T023358Z
LAST-MODIFIED:20250218T023359Z
UID:10005364-1739865600-1739898000@www.jccagedcare.org.au
SUMMARY:Online Zoom chit-chat - Wednesdays
DESCRIPTION:Make new friends and socialise online with our Jubilee Zoom Chats\, 10am-11am. If you need help learning how to use Zoom this can be organised for you.
URL:https://www.jccagedcare.org.au/event/online-zoom-chit-chat-wednesdays-2-2/2025-02-18/
LOCATION:Online\, Australia
GEO:-25.274398;133.775136
END:VEVENT
BEGIN:VEVENT
DTSTART;TZID=Australia/Brisbane:20250218T100000
DTEND;TZID=Australia/Brisbane:20250218T110000
DTSTAMP:20260424T232943
CREATED:20241217T235947Z
LAST-MODIFIED:20241217T235947Z
UID:10004850-1739872800-1739876400@www.jccagedcare.org.au
SUMMARY:Online Zoom chit-chat - Tuesdays
DESCRIPTION:Make new friends and socialise online with our Jubilee Zoom Chats\, 10am-11am. If you need help learning how to use Zoom this can be organised for you.
URL:https://www.jccagedcare.org.au/event/online-zoom-chit-chat-tuesdays/2025-02-18/
LOCATION:Online\, Australia
GEO:-25.274398;133.775136
END:VEVENT
BEGIN:VEVENT
DTSTART;TZID=Australia/Brisbane:20250218T130000
DTEND;TZID=Australia/Brisbane:20250218T140000
DTSTAMP:20260424T232943
CREATED:20241217T025537Z
LAST-MODIFIED:20250305T065414Z
UID:10004333-1739883600-1739887200@www.jccagedcare.org.au
SUMMARY:UQ Healthy Living exercise class - Tuesdays
DESCRIPTION:Get stronger and healthier at the UQ Healthy Living exercise class. 1-2pm. $5 bus.
URL:https://www.jccagedcare.org.au/event/uq-healthy-living-exercise-class-tuesdays/2025-02-18/
LOCATION:UQ Healthy Living Gymnasium\, Centra\, Level 3\, 37 Archer Street\,\, Brisbane\, queensland\, 4066\, Australia
GEO:-27.4861889;152.9940544
X-APPLE-STRUCTURED-LOCATION;VALUE=URI;X-ADDRESS=UQ Healthy Living Gymnasium Centra Level 3 37 Archer Street Brisbane queensland 4066 Australia;X-APPLE-RADIUS=500;X-TITLE=Centra\, Level 3\, 37 Archer Street\,:geo:152.9940544,-27.4861889
END:VEVENT
BEGIN:VEVENT
DTSTART;TZID=Australia/Brisbane:20250219T100000
DTEND;TZID=Australia/Brisbane:20250219T110000
DTSTAMP:20260424T232943
CREATED:20250218T023358Z
LAST-MODIFIED:20250218T023359Z
UID:10005107-1739959200-1739962800@www.jccagedcare.org.au
SUMMARY:Online Zoom chit-chat - Wednesdays
DESCRIPTION:Make new friends and socialise online with our Jubilee Zoom Chats\, 10am-11am. If you need help learning how to use Zoom this can be organised for you.
URL:https://www.jccagedcare.org.au/event/online-zoom-chit-chat-wednesdays-2-2/2025-02-19/
LOCATION:Online\, Australia
GEO:-25.274398;133.775136
END:VEVENT
BEGIN:VEVENT
DTSTART;VALUE=DATE:20250220
DTEND;VALUE=DATE:20250221
DTSTAMP:20260424T232943
CREATED:20250218T023940Z
LAST-MODIFIED:20250218T023941Z
UID:10005371-1740009600-1740095999@www.jccagedcare.org.au
SUMMARY:Tai Chi classes
DESCRIPTION:Tai chi at 11:30am at St Andrew’s Hall. $12 cash. Buy lunch after at a local cafe. $15 bus.
URL:https://www.jccagedcare.org.au/event/tai-chi-classes-2/2025-02-20/
LOCATION:St Andrew’s Anglican Church\, 89 Fairley St\, Indooroopilly\, QLD\, 4068\, Australia
GEO:-27.5034706;152.9799399
X-APPLE-STRUCTURED-LOCATION;VALUE=URI;X-ADDRESS=St Andrew’s Anglican Church 89 Fairley St Indooroopilly QLD 4068 Australia;X-APPLE-RADIUS=500;X-TITLE=89 Fairley St:geo:152.9799399,-27.5034706
END:VEVENT
BEGIN:VEVENT
DTSTART;TZID=Australia/Brisbane:20250221T130000
DTEND;TZID=Australia/Brisbane:20250221T140000
DTSTAMP:20260424T232943
CREATED:20241217T025654Z
LAST-MODIFIED:20250305T065331Z
UID:10004590-1740142800-1740146400@www.jccagedcare.org.au
SUMMARY:UQ Healthy Living exercise class - Fridays
DESCRIPTION:Get stronger and healthier at the UQ Healthy Living exercise class. 1-2pm. $5 bus.
URL:https://www.jccagedcare.org.au/event/uq-healthy-living-exercise-class-fridays/2025-02-21/
LOCATION:UQ Healthy Living Gymnasium\, Centra\, Level 3\, 37 Archer Street\,\, Brisbane\, queensland\, 4066\, Australia
GEO:-27.4861889;152.9940544
X-APPLE-STRUCTURED-LOCATION;VALUE=URI;X-ADDRESS=UQ Healthy Living Gymnasium Centra Level 3 37 Archer Street Brisbane queensland 4066 Australia;X-APPLE-RADIUS=500;X-TITLE=Centra\, Level 3\, 37 Archer Street\,:geo:152.9940544,-27.4861889
END:VEVENT
BEGIN:VEVENT
DTSTART;TZID=Australia/Brisbane:20250225T100000
DTEND;TZID=Australia/Brisbane:20250225T110000
DTSTAMP:20260424T232943
CREATED:20250218T023448Z
LAST-MODIFIED:20250218T023448Z
UID:10004851-1740477600-1740481200@www.jccagedcare.org.au
SUMMARY:Online Zoom chit-chat - Tuesdays
DESCRIPTION:Make new friends and socialise online with our Jubilee Zoom Chats\, 10am-11am. If you need help learning how to use Zoom this can be organised for you.
URL:https://www.jccagedcare.org.au/event/online-zoom-chit-chat-tuesdays-2/2025-02-25/
LOCATION:Online\, Australia
GEO:-25.274398;133.775136
END:VEVENT
BEGIN:VEVENT
DTSTART;TZID=Australia/Brisbane:20250225T130000
DTEND;TZID=Australia/Brisbane:20250225T140000
DTSTAMP:20260424T232943
CREATED:20241217T025537Z
LAST-MODIFIED:20250305T065414Z
UID:10004334-1740488400-1740492000@www.jccagedcare.org.au
SUMMARY:UQ Healthy Living exercise class - Tuesdays
DESCRIPTION:Get stronger and healthier at the UQ Healthy Living exercise class. 1-2pm. $5 bus.
URL:https://www.jccagedcare.org.au/event/uq-healthy-living-exercise-class-tuesdays/2025-02-25/
LOCATION:UQ Healthy Living Gymnasium\, Centra\, Level 3\, 37 Archer Street\,\, Brisbane\, queensland\, 4066\, Australia
GEO:-27.4861889;152.9940544
X-APPLE-STRUCTURED-LOCATION;VALUE=URI;X-ADDRESS=UQ Healthy Living Gymnasium Centra Level 3 37 Archer Street Brisbane queensland 4066 Australia;X-APPLE-RADIUS=500;X-TITLE=Centra\, Level 3\, 37 Archer Street\,:geo:152.9940544,-27.4861889
END:VEVENT
BEGIN:VEVENT
DTSTART;VALUE=DATE:20250227
DTEND;VALUE=DATE:20250228
DTSTAMP:20260424T232943
CREATED:20250218T023940Z
LAST-MODIFIED:20250218T023941Z
UID:10005366-1740614400-1740700799@www.jccagedcare.org.au
SUMMARY:Tai Chi classes
DESCRIPTION:Tai chi at 11:30am at St Andrew’s Hall. $12 cash. Buy lunch after at a local cafe. $15 bus.
URL:https://www.jccagedcare.org.au/event/tai-chi-classes-2/2025-02-27/
LOCATION:St Andrew’s Anglican Church\, 89 Fairley St\, Indooroopilly\, QLD\, 4068\, Australia
GEO:-27.5034706;152.9799399
X-APPLE-STRUCTURED-LOCATION;VALUE=URI;X-ADDRESS=St Andrew’s Anglican Church 89 Fairley St Indooroopilly QLD 4068 Australia;X-APPLE-RADIUS=500;X-TITLE=89 Fairley St:geo:152.9799399,-27.5034706
END:VEVENT
BEGIN:VEVENT
DTSTART;TZID=Australia/Brisbane:20250228T130000
DTEND;TZID=Australia/Brisbane:20250228T140000
DTSTAMP:20260424T232943
CREATED:20241217T025654Z
LAST-MODIFIED:20250305T065331Z
UID:10004591-1740747600-1740751200@www.jccagedcare.org.au
SUMMARY:UQ Healthy Living exercise class - Fridays
DESCRIPTION:Get stronger and healthier at the UQ Healthy Living exercise class. 1-2pm. $5 bus.
URL:https://www.jccagedcare.org.au/event/uq-healthy-living-exercise-class-fridays/2025-02-28/
LOCATION:UQ Healthy Living Gymnasium\, Centra\, Level 3\, 37 Archer Street\,\, Brisbane\, queensland\, 4066\, Australia
GEO:-27.4861889;152.9940544
X-APPLE-STRUCTURED-LOCATION;VALUE=URI;X-ADDRESS=UQ Healthy Living Gymnasium Centra Level 3 37 Archer Street Brisbane queensland 4066 Australia;X-APPLE-RADIUS=500;X-TITLE=Centra\, Level 3\, 37 Archer Street\,:geo:152.9940544,-27.4861889
END:VEVENT
BEGIN:VEVENT
DTSTART;VALUE=DATE:20250303
DTEND;VALUE=DATE:20250304
DTSTAMP:20260424T232943
CREATED:20250218T022106Z
LAST-MODIFIED:20250218T022106Z
UID:10005359-1740960000-1741046399@www.jccagedcare.org.au
SUMMARY:Morning Melodies
DESCRIPTION:Enjoy toe-tapping songs at Morning Melodies at Arana Leagues Club. Followed by lunch in the Bistro. $15 bus.
URL:https://www.jccagedcare.org.au/event/morning-melodies-25/
LOCATION:Arana Leagues Club\, 247 Dawson Parade\, Keperra\, Brisbane\, Queensland\, 4054\, Australia
GEO:-27.3997153;152.9616922
X-APPLE-STRUCTURED-LOCATION;VALUE=URI;X-ADDRESS=Arana Leagues Club 247 Dawson Parade Keperra Brisbane Queensland 4054 Australia;X-APPLE-RADIUS=500;X-TITLE=247 Dawson Parade\, Keperra:geo:152.9616922,-27.3997153
END:VEVENT
BEGIN:VEVENT
DTSTART;TZID=Australia/Brisbane:20250304T130000
DTEND;TZID=Australia/Brisbane:20250304T140000
DTSTAMP:20260424T232943
CREATED:20241217T025537Z
LAST-MODIFIED:20250305T065414Z
UID:10004335-1741093200-1741096800@www.jccagedcare.org.au
SUMMARY:UQ Healthy Living exercise class - Tuesdays
DESCRIPTION:Get stronger and healthier at the UQ Healthy Living exercise class. 1-2pm. $5 bus.
URL:https://www.jccagedcare.org.au/event/uq-healthy-living-exercise-class-tuesdays/2025-03-04/
LOCATION:UQ Healthy Living Gymnasium\, Centra\, Level 3\, 37 Archer Street\,\, Brisbane\, queensland\, 4066\, Australia
GEO:-27.4861889;152.9940544
X-APPLE-STRUCTURED-LOCATION;VALUE=URI;X-ADDRESS=UQ Healthy Living Gymnasium Centra Level 3 37 Archer Street Brisbane queensland 4066 Australia;X-APPLE-RADIUS=500;X-TITLE=Centra\, Level 3\, 37 Archer Street\,:geo:152.9940544,-27.4861889
END:VEVENT
BEGIN:VEVENT
DTSTART;VALUE=DATE:20250306
DTEND;VALUE=DATE:20250307
DTSTAMP:20260424T232943
CREATED:20250305T065527Z
LAST-MODIFIED:20250305T065736Z
UID:10005367-1741219200-1741305599@www.jccagedcare.org.au
SUMMARY:CANCELLED: Tai Chi class
DESCRIPTION:CANCELLED DUE TO TROPICAL CYCLONE ALFRED. \nTai chi at 11:30am at St Andrew’s Hall. $12 cash. Buy lunch after at a local cafe. $15 bus.
URL:https://www.jccagedcare.org.au/event/tai-chi-classes-2-2/
LOCATION:St Andrew’s Anglican Church\, 89 Fairley St\, Indooroopilly\, QLD\, 4068\, Australia
GEO:-27.5034706;152.9799399
X-APPLE-STRUCTURED-LOCATION;VALUE=URI;X-ADDRESS=St Andrew’s Anglican Church 89 Fairley St Indooroopilly QLD 4068 Australia;X-APPLE-RADIUS=500;X-TITLE=89 Fairley St:geo:152.9799399,-27.5034706
END:VEVENT
BEGIN:VEVENT
DTSTART;TZID=Australia/Brisbane:20250307T130000
DTEND;TZID=Australia/Brisbane:20250307T140000
DTSTAMP:20260424T232943
CREATED:20241217T025654Z
LAST-MODIFIED:20250305T065331Z
UID:10004592-1741352400-1741356000@www.jccagedcare.org.au
SUMMARY:UQ Healthy Living exercise class - Fridays
DESCRIPTION:Get stronger and healthier at the UQ Healthy Living exercise class. 1-2pm. $5 bus.
URL:https://www.jccagedcare.org.au/event/uq-healthy-living-exercise-class-fridays/2025-03-07/
LOCATION:UQ Healthy Living Gymnasium\, Centra\, Level 3\, 37 Archer Street\,\, Brisbane\, queensland\, 4066\, Australia
GEO:-27.4861889;152.9940544
X-APPLE-STRUCTURED-LOCATION;VALUE=URI;X-ADDRESS=UQ Healthy Living Gymnasium Centra Level 3 37 Archer Street Brisbane queensland 4066 Australia;X-APPLE-RADIUS=500;X-TITLE=Centra\, Level 3\, 37 Archer Street\,:geo:152.9940544,-27.4861889
END:VEVENT
BEGIN:VEVENT
DTSTART;VALUE=DATE:20250310
DTEND;VALUE=DATE:20250311
DTSTAMP:20260424T232943
CREATED:20250218T022209Z
LAST-MODIFIED:20250305T065758Z
UID:10005360-1741564800-1741651199@www.jccagedcare.org.au
SUMMARY:CANCELLED: Pineapple Hotel
DESCRIPTION:CANCELLED DUE TO TROPICAL CYCLONE ALFRED. \nThe Pineapple Hotel is the final destination after a walk (for those who choose to) across Brisbane’s new footbridge from Mary St to Kangaroo Point. $15 bus.
URL:https://www.jccagedcare.org.au/event/pineapple-hotel-3/
LOCATION:Pineapple Hotel\, 706 Main St\, Kangaroo Point\, Brisbane\, Queensland\, 4169\, Australia
GEO:-27.4810428;153.0361979
X-APPLE-STRUCTURED-LOCATION;VALUE=URI;X-ADDRESS=Pineapple Hotel 706 Main St Kangaroo Point Brisbane Queensland 4169 Australia;X-APPLE-RADIUS=500;X-TITLE=706 Main St\, Kangaroo Point:geo:153.0361979,-27.4810428
END:VEVENT
BEGIN:VEVENT
DTSTART;TZID=Australia/Brisbane:20250311T130000
DTEND;TZID=Australia/Brisbane:20250311T140000
DTSTAMP:20260424T232943
CREATED:20241217T025537Z
LAST-MODIFIED:20250305T065414Z
UID:10004336-1741698000-1741701600@www.jccagedcare.org.au
SUMMARY:UQ Healthy Living exercise class - Tuesdays
DESCRIPTION:Get stronger and healthier at the UQ Healthy Living exercise class. 1-2pm. $5 bus.
URL:https://www.jccagedcare.org.au/event/uq-healthy-living-exercise-class-tuesdays/2025-03-11/
LOCATION:UQ Healthy Living Gymnasium\, Centra\, Level 3\, 37 Archer Street\,\, Brisbane\, queensland\, 4066\, Australia
GEO:-27.4861889;152.9940544
X-APPLE-STRUCTURED-LOCATION;VALUE=URI;X-ADDRESS=UQ Healthy Living Gymnasium Centra Level 3 37 Archer Street Brisbane queensland 4066 Australia;X-APPLE-RADIUS=500;X-TITLE=Centra\, Level 3\, 37 Archer Street\,:geo:152.9940544,-27.4861889
END:VEVENT
BEGIN:VEVENT
DTSTART;VALUE=DATE:20250313
DTEND;VALUE=DATE:20250314
DTSTAMP:20260424T232943
CREATED:20250218T023940Z
LAST-MODIFIED:20250218T023941Z
UID:10005368-1741824000-1741910399@www.jccagedcare.org.au
SUMMARY:Tai Chi classes
DESCRIPTION:Tai chi at 11:30am at St Andrew’s Hall. $12 cash. Buy lunch after at a local cafe. $15 bus.
URL:https://www.jccagedcare.org.au/event/tai-chi-classes-2/2025-03-13/
LOCATION:St Andrew’s Anglican Church\, 89 Fairley St\, Indooroopilly\, QLD\, 4068\, Australia
GEO:-27.5034706;152.9799399
X-APPLE-STRUCTURED-LOCATION;VALUE=URI;X-ADDRESS=St Andrew’s Anglican Church 89 Fairley St Indooroopilly QLD 4068 Australia;X-APPLE-RADIUS=500;X-TITLE=89 Fairley St:geo:152.9799399,-27.5034706
END:VEVENT
BEGIN:VEVENT
DTSTART;VALUE=DATE:20250317
DTEND;VALUE=DATE:20250318
DTSTAMP:20260424T232943
CREATED:20250218T022253Z
LAST-MODIFIED:20250218T022253Z
UID:10005361-1742169600-1742255999@www.jccagedcare.org.au
SUMMARY:Lion Richlands
DESCRIPTION:The Classic Combo Lunch Special awaits at the Lion Richlands. For those joining us\, please bring a picture of your past life or your proudest moment of a child or grandchild to share. $15 bus.
URL:https://www.jccagedcare.org.au/event/lion-richlands/
LOCATION:The Lion\, 133 Pine Rd\, Richlands\, Brisbane\, Queensland\, 4077\, Australia
GEO:-27.5921169;152.949221
X-APPLE-STRUCTURED-LOCATION;VALUE=URI;X-ADDRESS=The Lion 133 Pine Rd Richlands Brisbane Queensland 4077 Australia;X-APPLE-RADIUS=500;X-TITLE=133 Pine Rd\, Richlands:geo:152.949221,-27.5921169
END:VEVENT
BEGIN:VEVENT
DTSTART;VALUE=DATE:20250320
DTEND;VALUE=DATE:20250321
DTSTAMP:20260424T232943
CREATED:20250218T024303Z
LAST-MODIFIED:20250218T024303Z
UID:10005372-1742428800-1742515199@www.jccagedcare.org.au
SUMMARY:Bingo at Club Yeronga
DESCRIPTION:Legs Eleven\, number 11 and Cup of Tea\, number 3. Get your brains and pens ready for a morning of bingo at Club Yeronga. Cost is $22. Buy morning tea and lunch at the Club as well. $15 bus.
URL:https://www.jccagedcare.org.au/event/bingo-at-club-yeronga/
LOCATION:Club Yeronga\, Fairfield Road\, Yeronga\, Queensland\, 4104\, Australia
GEO:-27.5154852;153.0177901
X-APPLE-STRUCTURED-LOCATION;VALUE=URI;X-ADDRESS=Club Yeronga Fairfield Road Yeronga Queensland 4104 Australia;X-APPLE-RADIUS=500;X-TITLE=Fairfield Road:geo:153.0177901,-27.5154852
END:VEVENT
BEGIN:VEVENT
DTSTART;VALUE=DATE:20250324
DTEND;VALUE=DATE:20250325
DTSTAMP:20260424T232943
CREATED:20250218T022839Z
LAST-MODIFIED:20250218T023104Z
UID:10005362-1742774400-1742860799@www.jccagedcare.org.au
SUMMARY:Breakfast Creek Precinct bakery and drive
DESCRIPTION:Let’s head to the Breakfast Creek Lifestyle Precinct to enjoy the offerings from the French-inspired Rise Bakery. Finish with a drive around the river at Newstead. $15 bus.
URL:https://www.jccagedcare.org.au/event/breakfast-creek-precinct-bakery-and-drive/
LOCATION:Rise Bakery\, Breakfast Creek Road\, Newstead\, Queensland\, 4006\, Australia
GEO:-27.4415144;153.044629
X-APPLE-STRUCTURED-LOCATION;VALUE=URI;X-ADDRESS=Rise Bakery Breakfast Creek Road Newstead Queensland 4006 Australia;X-APPLE-RADIUS=500;X-TITLE=Breakfast Creek Road:geo:153.044629,-27.4415144
END:VEVENT
BEGIN:VEVENT
DTSTART;VALUE=DATE:20250327
DTEND;VALUE=DATE:20250328
DTSTAMP:20260424T232943
CREATED:20250218T024531Z
LAST-MODIFIED:20250218T024531Z
UID:10005373-1743033600-1743119999@www.jccagedcare.org.au
SUMMARY:Train ride and lunch
DESCRIPTION:Fancy a train ride? Enjoy an an air-conditioned ride to Nundah\, lunch at Flour & Chocolate Patisserie and then a drive around the Toombul area and home in the Jubilee bus. $15 bus.
URL:https://www.jccagedcare.org.au/event/train-ride-and-lunch/
LOCATION:Flour and Chocolate Patisserie\, Old Toombul Road\, Northgate\, Queensland\, 4013\, Australia
GEO:-27.3866515;153.0675377
X-APPLE-STRUCTURED-LOCATION;VALUE=URI;X-ADDRESS=Flour and Chocolate Patisserie Old Toombul Road Northgate Queensland 4013 Australia;X-APPLE-RADIUS=500;X-TITLE=Old Toombul Road:geo:153.0675377,-27.3866515
END:VEVENT
BEGIN:VEVENT
DTSTART;VALUE=DATE:20250331
DTEND;VALUE=DATE:20250401
DTSTAMP:20260424T232943
CREATED:20250218T022950Z
LAST-MODIFIED:20250218T023211Z
UID:10005363-1743379200-1743465599@www.jccagedcare.org.au
SUMMARY:Metro Bus trip and lunch
DESCRIPTION:Is it a bus? Is it a tram? Is it a train? No! It’s Brisbane’s latest Metro bus (aka the Wobble bus). Come join us for a bird’s eye look at the tunnels being built as Brisbane’s busways prepare for the Olympic Games and the future. Starting at UQ Uni Lakes bus station and ending up at RBWH. Lunch at a local cafe after. Must be able to walk 180 metres after getting off the Metro at the hospital. $15 bus.
URL:https://www.jccagedcare.org.au/event/hop-aboard-the-metro-bus-before-lunch/
END:VEVENT
END:VCALENDAR