BEGIN:VCALENDAR
VERSION:2.0
PRODID:-//Jubilee Community Care - ECPv6.15.1.1//NONSGML v1.0//EN
CALSCALE:GREGORIAN
METHOD:PUBLISH
X-ORIGINAL-URL:https://www.jccagedcare.org.au
X-WR-CALDESC:Events for Jubilee Community Care
REFRESH-INTERVAL;VALUE=DURATION:PT1H
X-Robots-Tag:noindex
X-PUBLISHED-TTL:PT1H
BEGIN:VTIMEZONE
TZID:Australia/Brisbane
BEGIN:STANDARD
TZOFFSETFROM:+1000
TZOFFSETTO:+1000
TZNAME:AEST
DTSTART:20240101T000000
END:STANDARD
END:VTIMEZONE
BEGIN:VEVENT
DTSTART;TZID=Australia/Brisbane:20241122T130000
DTEND;TZID=Australia/Brisbane:20241122T140000
DTSTAMP:20260424T130835
CREATED:20231212T053045Z
LAST-MODIFIED:20240909T025451Z
UID:10004292-1732280400-1732284000@www.jccagedcare.org.au
SUMMARY:UQ Healthy Living Friday exercise class
DESCRIPTION:Get stronger and healthier at the UQ Healthy Living exercise class. 1-2pm.
URL:https://www.jccagedcare.org.au/event/uq-healthy-living-friday-exercise-class/2024-11-22/
LOCATION:UQ Healthy Living Gymnasium\, Centra\, Level 3\, 37 Archer Street\,\, Brisbane\, queensland\, 4066\, Australia
GEO:-27.4861889;152.9940544
X-APPLE-STRUCTURED-LOCATION;VALUE=URI;X-ADDRESS=UQ Healthy Living Gymnasium Centra Level 3 37 Archer Street Brisbane queensland 4066 Australia;X-APPLE-RADIUS=500;X-TITLE=Centra\, Level 3\, 37 Archer Street\,:geo:152.9940544,-27.4861889
END:VEVENT
BEGIN:VEVENT
DTSTART;TZID=Australia/Brisbane:20241126T100000
DTEND;TZID=Australia/Brisbane:20241126T110000
DTSTAMP:20260424T130835
CREATED:20231212T054222Z
LAST-MODIFIED:20240909T025716Z
UID:10004315-1732615200-1732618800@www.jccagedcare.org.au
SUMMARY:Online Zoom chit-chat - Tuesdays
DESCRIPTION:Enjoy some conversation with friends on a Zoom chat online. Phone Jubilee if you would like to find out more. 10am-11am
URL:https://www.jccagedcare.org.au/event/online-zoom-chit-chat/2024-11-26/
END:VEVENT
BEGIN:VEVENT
DTSTART;TZID=Australia/Brisbane:20241126T130000
DTEND;TZID=Australia/Brisbane:20241126T140000
DTSTAMP:20260424T130835
CREATED:20231212T053220Z
LAST-MODIFIED:20240909T025321Z
UID:10004282-1732626000-1732629600@www.jccagedcare.org.au
SUMMARY:UQ Healthy Living Tuesday exercise class
DESCRIPTION:Get stronger and healthier at the UQ Healthy Living exercise class. 1-2pm.
URL:https://www.jccagedcare.org.au/event/uq-healthy-living-tuesday-exercise-class/2024-11-26/
LOCATION:UQ Healthy Living Gymnasium\, Centra\, Level 3\, 37 Archer Street\,\, Brisbane\, queensland\, 4066\, Australia
GEO:-27.4861889;152.9940544
X-APPLE-STRUCTURED-LOCATION;VALUE=URI;X-ADDRESS=UQ Healthy Living Gymnasium Centra Level 3 37 Archer Street Brisbane queensland 4066 Australia;X-APPLE-RADIUS=500;X-TITLE=Centra\, Level 3\, 37 Archer Street\,:geo:152.9940544,-27.4861889
END:VEVENT
BEGIN:VEVENT
DTSTART;TZID=Australia/Brisbane:20241127T100000
DTEND;TZID=Australia/Brisbane:20241127T110000
DTSTAMP:20260424T130835
CREATED:20231212T054320Z
LAST-MODIFIED:20240909T025638Z
UID:10004304-1732701600-1732705200@www.jccagedcare.org.au
SUMMARY:Online Zoom chit-chat - Wednesdays
DESCRIPTION:Enjoy some conversation with friends on a Zoom chat online. Phone Jubilee if you would like to find out more. 10am-11am
URL:https://www.jccagedcare.org.au/event/online-zoom-chit-chat-wednesdays/2024-11-27/
END:VEVENT
BEGIN:VEVENT
DTSTART;TZID=Australia/Brisbane:20241129T130000
DTEND;TZID=Australia/Brisbane:20241129T140000
DTSTAMP:20260424T130835
CREATED:20231212T053045Z
LAST-MODIFIED:20240909T025451Z
UID:10004293-1732885200-1732888800@www.jccagedcare.org.au
SUMMARY:UQ Healthy Living Friday exercise class
DESCRIPTION:Get stronger and healthier at the UQ Healthy Living exercise class. 1-2pm.
URL:https://www.jccagedcare.org.au/event/uq-healthy-living-friday-exercise-class/2024-11-29/
LOCATION:UQ Healthy Living Gymnasium\, Centra\, Level 3\, 37 Archer Street\,\, Brisbane\, queensland\, 4066\, Australia
GEO:-27.4861889;152.9940544
X-APPLE-STRUCTURED-LOCATION;VALUE=URI;X-ADDRESS=UQ Healthy Living Gymnasium Centra Level 3 37 Archer Street Brisbane queensland 4066 Australia;X-APPLE-RADIUS=500;X-TITLE=Centra\, Level 3\, 37 Archer Street\,:geo:152.9940544,-27.4861889
END:VEVENT
BEGIN:VEVENT
DTSTART;TZID=Australia/Brisbane:20241203T100000
DTEND;TZID=Australia/Brisbane:20241203T110000
DTSTAMP:20260424T130835
CREATED:20231212T054222Z
LAST-MODIFIED:20240909T025716Z
UID:10004316-1733220000-1733223600@www.jccagedcare.org.au
SUMMARY:Online Zoom chit-chat - Tuesdays
DESCRIPTION:Enjoy some conversation with friends on a Zoom chat online. Phone Jubilee if you would like to find out more. 10am-11am
URL:https://www.jccagedcare.org.au/event/online-zoom-chit-chat/2024-12-03/
END:VEVENT
BEGIN:VEVENT
DTSTART;TZID=Australia/Brisbane:20241203T130000
DTEND;TZID=Australia/Brisbane:20241203T140000
DTSTAMP:20260424T130835
CREATED:20231212T053220Z
LAST-MODIFIED:20240909T025321Z
UID:10004283-1733230800-1733234400@www.jccagedcare.org.au
SUMMARY:UQ Healthy Living Tuesday exercise class
DESCRIPTION:Get stronger and healthier at the UQ Healthy Living exercise class. 1-2pm.
URL:https://www.jccagedcare.org.au/event/uq-healthy-living-tuesday-exercise-class/2024-12-03/
LOCATION:UQ Healthy Living Gymnasium\, Centra\, Level 3\, 37 Archer Street\,\, Brisbane\, queensland\, 4066\, Australia
GEO:-27.4861889;152.9940544
X-APPLE-STRUCTURED-LOCATION;VALUE=URI;X-ADDRESS=UQ Healthy Living Gymnasium Centra Level 3 37 Archer Street Brisbane queensland 4066 Australia;X-APPLE-RADIUS=500;X-TITLE=Centra\, Level 3\, 37 Archer Street\,:geo:152.9940544,-27.4861889
END:VEVENT
BEGIN:VEVENT
DTSTART;TZID=Australia/Brisbane:20241204T100000
DTEND;TZID=Australia/Brisbane:20241204T110000
DTSTAMP:20260424T130835
CREATED:20231212T054320Z
LAST-MODIFIED:20240909T025638Z
UID:10004305-1733306400-1733310000@www.jccagedcare.org.au
SUMMARY:Online Zoom chit-chat - Wednesdays
DESCRIPTION:Enjoy some conversation with friends on a Zoom chat online. Phone Jubilee if you would like to find out more. 10am-11am
URL:https://www.jccagedcare.org.au/event/online-zoom-chit-chat-wednesdays/2024-12-04/
END:VEVENT
BEGIN:VEVENT
DTSTART;TZID=Australia/Brisbane:20241206T130000
DTEND;TZID=Australia/Brisbane:20241206T140000
DTSTAMP:20260424T130835
CREATED:20231212T053045Z
LAST-MODIFIED:20240909T025451Z
UID:10004294-1733490000-1733493600@www.jccagedcare.org.au
SUMMARY:UQ Healthy Living Friday exercise class
DESCRIPTION:Get stronger and healthier at the UQ Healthy Living exercise class. 1-2pm.
URL:https://www.jccagedcare.org.au/event/uq-healthy-living-friday-exercise-class/2024-12-06/
LOCATION:UQ Healthy Living Gymnasium\, Centra\, Level 3\, 37 Archer Street\,\, Brisbane\, queensland\, 4066\, Australia
GEO:-27.4861889;152.9940544
X-APPLE-STRUCTURED-LOCATION;VALUE=URI;X-ADDRESS=UQ Healthy Living Gymnasium Centra Level 3 37 Archer Street Brisbane queensland 4066 Australia;X-APPLE-RADIUS=500;X-TITLE=Centra\, Level 3\, 37 Archer Street\,:geo:152.9940544,-27.4861889
END:VEVENT
BEGIN:VEVENT
DTSTART;TZID=Australia/Brisbane:20241210T100000
DTEND;TZID=Australia/Brisbane:20241210T110000
DTSTAMP:20260424T130835
CREATED:20231212T054222Z
LAST-MODIFIED:20240909T025716Z
UID:10004317-1733824800-1733828400@www.jccagedcare.org.au
SUMMARY:Online Zoom chit-chat - Tuesdays
DESCRIPTION:Enjoy some conversation with friends on a Zoom chat online. Phone Jubilee if you would like to find out more. 10am-11am
URL:https://www.jccagedcare.org.au/event/online-zoom-chit-chat/2024-12-10/
END:VEVENT
BEGIN:VEVENT
DTSTART;TZID=Australia/Brisbane:20241210T130000
DTEND;TZID=Australia/Brisbane:20241210T140000
DTSTAMP:20260424T130835
CREATED:20241217T025053Z
LAST-MODIFIED:20241217T025053Z
UID:10004284-1733835600-1733839200@www.jccagedcare.org.au
SUMMARY:UQ Healthy Living Tuesday exercise class
DESCRIPTION:Get stronger and healthier at the UQ Healthy Living exercise class. 1-2pm. $5 bus.
URL:https://www.jccagedcare.org.au/event/uq-healthy-living-tuesday-exercise-class-2/
LOCATION:UQ Healthy Living Gymnasium\, Centra\, Level 3\, 37 Archer Street\,\, Brisbane\, queensland\, 4066\, Australia
GEO:-27.4861889;152.9940544
X-APPLE-STRUCTURED-LOCATION;VALUE=URI;X-ADDRESS=UQ Healthy Living Gymnasium Centra Level 3 37 Archer Street Brisbane queensland 4066 Australia;X-APPLE-RADIUS=500;X-TITLE=Centra\, Level 3\, 37 Archer Street\,:geo:152.9940544,-27.4861889
END:VEVENT
BEGIN:VEVENT
DTSTART;TZID=Australia/Brisbane:20241211T100000
DTEND;TZID=Australia/Brisbane:20241211T110000
DTSTAMP:20260424T130835
CREATED:20231212T054320Z
LAST-MODIFIED:20240909T025638Z
UID:10004306-1733911200-1733914800@www.jccagedcare.org.au
SUMMARY:Online Zoom chit-chat - Wednesdays
DESCRIPTION:Enjoy some conversation with friends on a Zoom chat online. Phone Jubilee if you would like to find out more. 10am-11am
URL:https://www.jccagedcare.org.au/event/online-zoom-chit-chat-wednesdays/2024-12-11/
END:VEVENT
BEGIN:VEVENT
DTSTART;TZID=Australia/Brisbane:20241213T130000
DTEND;TZID=Australia/Brisbane:20241213T140000
DTSTAMP:20260424T130835
CREATED:20231212T053045Z
LAST-MODIFIED:20240909T025451Z
UID:10004295-1734094800-1734098400@www.jccagedcare.org.au
SUMMARY:UQ Healthy Living Friday exercise class
DESCRIPTION:Get stronger and healthier at the UQ Healthy Living exercise class. 1-2pm.
URL:https://www.jccagedcare.org.au/event/uq-healthy-living-friday-exercise-class/2024-12-13/
LOCATION:UQ Healthy Living Gymnasium\, Centra\, Level 3\, 37 Archer Street\,\, Brisbane\, queensland\, 4066\, Australia
GEO:-27.4861889;152.9940544
X-APPLE-STRUCTURED-LOCATION;VALUE=URI;X-ADDRESS=UQ Healthy Living Gymnasium Centra Level 3 37 Archer Street Brisbane queensland 4066 Australia;X-APPLE-RADIUS=500;X-TITLE=Centra\, Level 3\, 37 Archer Street\,:geo:152.9940544,-27.4861889
END:VEVENT
BEGIN:VEVENT
DTSTART;TZID=Australia/Brisbane:20250114T130000
DTEND;TZID=Australia/Brisbane:20250114T140000
DTSTAMP:20260424T130835
CREATED:20241217T025537Z
LAST-MODIFIED:20250305T065414Z
UID:10004328-1736859600-1736863200@www.jccagedcare.org.au
SUMMARY:UQ Healthy Living exercise class - Tuesdays
DESCRIPTION:Get stronger and healthier at the UQ Healthy Living exercise class. 1-2pm. $5 bus.
URL:https://www.jccagedcare.org.au/event/uq-healthy-living-exercise-class-tuesdays/2025-01-14/
LOCATION:UQ Healthy Living Gymnasium\, Centra\, Level 3\, 37 Archer Street\,\, Brisbane\, queensland\, 4066\, Australia
GEO:-27.4861889;152.9940544
X-APPLE-STRUCTURED-LOCATION;VALUE=URI;X-ADDRESS=UQ Healthy Living Gymnasium Centra Level 3 37 Archer Street Brisbane queensland 4066 Australia;X-APPLE-RADIUS=500;X-TITLE=Centra\, Level 3\, 37 Archer Street\,:geo:152.9940544,-27.4861889
END:VEVENT
BEGIN:VEVENT
DTSTART;TZID=Australia/Brisbane:20250117T130000
DTEND;TZID=Australia/Brisbane:20250117T140000
DTSTAMP:20260424T130835
CREATED:20241217T025654Z
LAST-MODIFIED:20250305T065331Z
UID:10004585-1737118800-1737122400@www.jccagedcare.org.au
SUMMARY:UQ Healthy Living exercise class - Fridays
DESCRIPTION:Get stronger and healthier at the UQ Healthy Living exercise class. 1-2pm. $5 bus.
URL:https://www.jccagedcare.org.au/event/uq-healthy-living-exercise-class-fridays/2025-01-17/
LOCATION:UQ Healthy Living Gymnasium\, Centra\, Level 3\, 37 Archer Street\,\, Brisbane\, queensland\, 4066\, Australia
GEO:-27.4861889;152.9940544
X-APPLE-STRUCTURED-LOCATION;VALUE=URI;X-ADDRESS=UQ Healthy Living Gymnasium Centra Level 3 37 Archer Street Brisbane queensland 4066 Australia;X-APPLE-RADIUS=500;X-TITLE=Centra\, Level 3\, 37 Archer Street\,:geo:152.9940544,-27.4861889
END:VEVENT
BEGIN:VEVENT
DTSTART;VALUE=DATE:20250120
DTEND;VALUE=DATE:20250121
DTSTAMP:20260424T130835
CREATED:20241217T030330Z
LAST-MODIFIED:20241217T030330Z
UID:10004842-1737331200-1737417599@www.jccagedcare.org.au
SUMMARY:GOMA visit
DESCRIPTION:Enjoy our first outing of 2025 by visiting the QAGoma Suburban Sublime exhibition followed by lunch at the leafy GOMA Bistro. $15 bus.
URL:https://www.jccagedcare.org.au/event/goma-visit/
LOCATION:QAGOMA\, Stanley Place\, South Brisbane\, Queensland\, 4101\, Australia
GEO:-27.4713307;153.0169509
X-APPLE-STRUCTURED-LOCATION;VALUE=URI;X-ADDRESS=QAGOMA Stanley Place South Brisbane Queensland 4101 Australia;X-APPLE-RADIUS=500;X-TITLE=Stanley Place:geo:153.0169509,-27.4713307
END:VEVENT
BEGIN:VEVENT
DTSTART;TZID=Australia/Brisbane:20250121T100000
DTEND;TZID=Australia/Brisbane:20250121T110000
DTSTAMP:20260424T130835
CREATED:20241217T235947Z
LAST-MODIFIED:20241217T235947Z
UID:10004846-1737453600-1737457200@www.jccagedcare.org.au
SUMMARY:Online Zoom chit-chat - Tuesdays
DESCRIPTION:Make new friends and socialise online with our Jubilee Zoom Chats\, 10am-11am. If you need help learning how to use Zoom this can be organised for you.
URL:https://www.jccagedcare.org.au/event/online-zoom-chit-chat-tuesdays/2025-01-21/
LOCATION:Online\, Australia
GEO:-25.274398;133.775136
END:VEVENT
BEGIN:VEVENT
DTSTART;TZID=Australia/Brisbane:20250121T130000
DTEND;TZID=Australia/Brisbane:20250121T140000
DTSTAMP:20260424T130835
CREATED:20241217T025537Z
LAST-MODIFIED:20250305T065414Z
UID:10004329-1737464400-1737468000@www.jccagedcare.org.au
SUMMARY:UQ Healthy Living exercise class - Tuesdays
DESCRIPTION:Get stronger and healthier at the UQ Healthy Living exercise class. 1-2pm. $5 bus.
URL:https://www.jccagedcare.org.au/event/uq-healthy-living-exercise-class-tuesdays/2025-01-21/
LOCATION:UQ Healthy Living Gymnasium\, Centra\, Level 3\, 37 Archer Street\,\, Brisbane\, queensland\, 4066\, Australia
GEO:-27.4861889;152.9940544
X-APPLE-STRUCTURED-LOCATION;VALUE=URI;X-ADDRESS=UQ Healthy Living Gymnasium Centra Level 3 37 Archer Street Brisbane queensland 4066 Australia;X-APPLE-RADIUS=500;X-TITLE=Centra\, Level 3\, 37 Archer Street\,:geo:152.9940544,-27.4861889
END:VEVENT
BEGIN:VEVENT
DTSTART;TZID=Australia/Brisbane:20250122T100000
DTEND;TZID=Australia/Brisbane:20250122T110000
DTSTAMP:20260424T130835
CREATED:20241218T000107Z
LAST-MODIFIED:20241218T000107Z
UID:10005103-1737540000-1737543600@www.jccagedcare.org.au
SUMMARY:Online Zoom chit-chat - Wednesdays
DESCRIPTION:Make new friends and socialise online with our Jubilee Zoom Chats\, 10am-11am. If you need help learning how to use Zoom this can be organised for you.
URL:https://www.jccagedcare.org.au/event/online-zoom-chit-chat-wednesdays-2/2025-01-22/
LOCATION:Online\, Australia
GEO:-25.274398;133.775136
END:VEVENT
BEGIN:VEVENT
DTSTART;VALUE=DATE:20250123
DTEND;VALUE=DATE:20250124
DTSTAMP:20260424T130835
CREATED:20241217T030534Z
LAST-MODIFIED:20241217T030534Z
UID:10004843-1737590400-1737676799@www.jccagedcare.org.au
SUMMARY:Cycling Without Age experience
DESCRIPTION:Cycling Without Age three-bridge experience departs from the DFO Jindalee. View the meanderings of the river with lunch at the Coffee Club after. $15 bus.
URL:https://www.jccagedcare.org.au/event/cycling-without-age-experience/
LOCATION:DFO Jindalee\, Amazons Place\, Jindalee\, QLD\, 4074\, Australia
GEO:-27.5296926;152.9472936
X-APPLE-STRUCTURED-LOCATION;VALUE=URI;X-ADDRESS=DFO Jindalee Amazons Place Jindalee QLD 4074 Australia;X-APPLE-RADIUS=500;X-TITLE=Amazons Place:geo:152.9472936,-27.5296926
END:VEVENT
BEGIN:VEVENT
DTSTART;TZID=Australia/Brisbane:20250124T130000
DTEND;TZID=Australia/Brisbane:20250124T140000
DTSTAMP:20260424T130835
CREATED:20241217T025654Z
LAST-MODIFIED:20250305T065331Z
UID:10004586-1737723600-1737727200@www.jccagedcare.org.au
SUMMARY:UQ Healthy Living exercise class - Fridays
DESCRIPTION:Get stronger and healthier at the UQ Healthy Living exercise class. 1-2pm. $5 bus.
URL:https://www.jccagedcare.org.au/event/uq-healthy-living-exercise-class-fridays/2025-01-24/
LOCATION:UQ Healthy Living Gymnasium\, Centra\, Level 3\, 37 Archer Street\,\, Brisbane\, queensland\, 4066\, Australia
GEO:-27.4861889;152.9940544
X-APPLE-STRUCTURED-LOCATION;VALUE=URI;X-ADDRESS=UQ Healthy Living Gymnasium Centra Level 3 37 Archer Street Brisbane queensland 4066 Australia;X-APPLE-RADIUS=500;X-TITLE=Centra\, Level 3\, 37 Archer Street\,:geo:152.9940544,-27.4861889
END:VEVENT
BEGIN:VEVENT
DTSTART;VALUE=DATE:20250127
DTEND;VALUE=DATE:20250128
DTSTAMP:20260424T130835
CREATED:20241217T031550Z
LAST-MODIFIED:20241217T031550Z
UID:10004844-1737936000-1738022399@www.jccagedcare.org.au
SUMMARY:Australia Day
DESCRIPTION:Australia Day public holiday.
URL:https://www.jccagedcare.org.au/event/australia-day-3/
END:VEVENT
BEGIN:VEVENT
DTSTART;TZID=Australia/Brisbane:20250128T100000
DTEND;TZID=Australia/Brisbane:20250128T110000
DTSTAMP:20260424T130835
CREATED:20241217T235947Z
LAST-MODIFIED:20241217T235947Z
UID:10004847-1738058400-1738062000@www.jccagedcare.org.au
SUMMARY:Online Zoom chit-chat - Tuesdays
DESCRIPTION:Make new friends and socialise online with our Jubilee Zoom Chats\, 10am-11am. If you need help learning how to use Zoom this can be organised for you.
URL:https://www.jccagedcare.org.au/event/online-zoom-chit-chat-tuesdays/2025-01-28/
LOCATION:Online\, Australia
GEO:-25.274398;133.775136
END:VEVENT
BEGIN:VEVENT
DTSTART;TZID=Australia/Brisbane:20250128T130000
DTEND;TZID=Australia/Brisbane:20250128T140000
DTSTAMP:20260424T130835
CREATED:20241217T025537Z
LAST-MODIFIED:20250305T065414Z
UID:10004330-1738069200-1738072800@www.jccagedcare.org.au
SUMMARY:UQ Healthy Living exercise class - Tuesdays
DESCRIPTION:Get stronger and healthier at the UQ Healthy Living exercise class. 1-2pm. $5 bus.
URL:https://www.jccagedcare.org.au/event/uq-healthy-living-exercise-class-tuesdays/2025-01-28/
LOCATION:UQ Healthy Living Gymnasium\, Centra\, Level 3\, 37 Archer Street\,\, Brisbane\, queensland\, 4066\, Australia
GEO:-27.4861889;152.9940544
X-APPLE-STRUCTURED-LOCATION;VALUE=URI;X-ADDRESS=UQ Healthy Living Gymnasium Centra Level 3 37 Archer Street Brisbane queensland 4066 Australia;X-APPLE-RADIUS=500;X-TITLE=Centra\, Level 3\, 37 Archer Street\,:geo:152.9940544,-27.4861889
END:VEVENT
BEGIN:VEVENT
DTSTART;TZID=Australia/Brisbane:20250129T100000
DTEND;TZID=Australia/Brisbane:20250129T110000
DTSTAMP:20260424T130835
CREATED:20241218T000107Z
LAST-MODIFIED:20241218T000107Z
UID:10005104-1738144800-1738148400@www.jccagedcare.org.au
SUMMARY:Online Zoom chit-chat - Wednesdays
DESCRIPTION:Make new friends and socialise online with our Jubilee Zoom Chats\, 10am-11am. If you need help learning how to use Zoom this can be organised for you.
URL:https://www.jccagedcare.org.au/event/online-zoom-chit-chat-wednesdays-2/2025-01-29/
LOCATION:Online\, Australia
GEO:-25.274398;133.775136
END:VEVENT
BEGIN:VEVENT
DTSTART;VALUE=DATE:20250130
DTEND;VALUE=DATE:20250131
DTSTAMP:20260424T130835
CREATED:20241217T031804Z
LAST-MODIFIED:20241217T031804Z
UID:10004845-1738195200-1738281599@www.jccagedcare.org.au
SUMMARY:Wellington Point lunch
DESCRIPTION:Enjoy a drive to Wellington Point to enjoy the seaside breezes and feast on fish and chips while overlooking the water. $15 bus.
URL:https://www.jccagedcare.org.au/event/wellington-point-lunch/
LOCATION:Wellington Point\, Wellington Point\, Queensland\, 4160\, Australia
GEO:-27.4869721;153.2390188
END:VEVENT
BEGIN:VEVENT
DTSTART;TZID=Australia/Brisbane:20250131T130000
DTEND;TZID=Australia/Brisbane:20250131T140000
DTSTAMP:20260424T130835
CREATED:20241217T025654Z
LAST-MODIFIED:20250305T065331Z
UID:10004587-1738328400-1738332000@www.jccagedcare.org.au
SUMMARY:UQ Healthy Living exercise class - Fridays
DESCRIPTION:Get stronger and healthier at the UQ Healthy Living exercise class. 1-2pm. $5 bus.
URL:https://www.jccagedcare.org.au/event/uq-healthy-living-exercise-class-fridays/2025-01-31/
LOCATION:UQ Healthy Living Gymnasium\, Centra\, Level 3\, 37 Archer Street\,\, Brisbane\, queensland\, 4066\, Australia
GEO:-27.4861889;152.9940544
X-APPLE-STRUCTURED-LOCATION;VALUE=URI;X-ADDRESS=UQ Healthy Living Gymnasium Centra Level 3 37 Archer Street Brisbane queensland 4066 Australia;X-APPLE-RADIUS=500;X-TITLE=Centra\, Level 3\, 37 Archer Street\,:geo:152.9940544,-27.4861889
END:VEVENT
BEGIN:VEVENT
DTSTART;TZID=Australia/Brisbane:20250204T100000
DTEND;TZID=Australia/Brisbane:20250204T110000
DTSTAMP:20260424T130835
CREATED:20241217T235947Z
LAST-MODIFIED:20241217T235947Z
UID:10004848-1738663200-1738666800@www.jccagedcare.org.au
SUMMARY:Online Zoom chit-chat - Tuesdays
DESCRIPTION:Make new friends and socialise online with our Jubilee Zoom Chats\, 10am-11am. If you need help learning how to use Zoom this can be organised for you.
URL:https://www.jccagedcare.org.au/event/online-zoom-chit-chat-tuesdays/2025-02-04/
LOCATION:Online\, Australia
GEO:-25.274398;133.775136
END:VEVENT
BEGIN:VEVENT
DTSTART;TZID=Australia/Brisbane:20250204T130000
DTEND;TZID=Australia/Brisbane:20250204T140000
DTSTAMP:20260424T130835
CREATED:20241217T025537Z
LAST-MODIFIED:20250305T065414Z
UID:10004331-1738674000-1738677600@www.jccagedcare.org.au
SUMMARY:UQ Healthy Living exercise class - Tuesdays
DESCRIPTION:Get stronger and healthier at the UQ Healthy Living exercise class. 1-2pm. $5 bus.
URL:https://www.jccagedcare.org.au/event/uq-healthy-living-exercise-class-tuesdays/2025-02-04/
LOCATION:UQ Healthy Living Gymnasium\, Centra\, Level 3\, 37 Archer Street\,\, Brisbane\, queensland\, 4066\, Australia
GEO:-27.4861889;152.9940544
X-APPLE-STRUCTURED-LOCATION;VALUE=URI;X-ADDRESS=UQ Healthy Living Gymnasium Centra Level 3 37 Archer Street Brisbane queensland 4066 Australia;X-APPLE-RADIUS=500;X-TITLE=Centra\, Level 3\, 37 Archer Street\,:geo:152.9940544,-27.4861889
END:VEVENT
BEGIN:VEVENT
DTSTART;TZID=Australia/Brisbane:20250205T100000
DTEND;TZID=Australia/Brisbane:20250205T110000
DTSTAMP:20260424T130835
CREATED:20241218T000107Z
LAST-MODIFIED:20241218T000107Z
UID:10005105-1738749600-1738753200@www.jccagedcare.org.au
SUMMARY:Online Zoom chit-chat - Wednesdays
DESCRIPTION:Make new friends and socialise online with our Jubilee Zoom Chats\, 10am-11am. If you need help learning how to use Zoom this can be organised for you.
URL:https://www.jccagedcare.org.au/event/online-zoom-chit-chat-wednesdays-2/2025-02-05/
LOCATION:Online\, Australia
GEO:-25.274398;133.775136
END:VEVENT
END:VCALENDAR