BEGIN:VCALENDAR
VERSION:2.0
PRODID:-//Jubilee Community Care - ECPv6.15.1.1//NONSGML v1.0//EN
CALSCALE:GREGORIAN
METHOD:PUBLISH
X-ORIGINAL-URL:https://www.jccagedcare.org.au
X-WR-CALDESC:Events for Jubilee Community Care
REFRESH-INTERVAL;VALUE=DURATION:PT1H
X-Robots-Tag:noindex
X-PUBLISHED-TTL:PT1H
BEGIN:VTIMEZONE
TZID:Australia/Brisbane
BEGIN:STANDARD
TZOFFSETFROM:+1000
TZOFFSETTO:+1000
TZNAME:AEST
DTSTART:20260101T000000
END:STANDARD
END:VTIMEZONE
BEGIN:VEVENT
DTSTART;VALUE=DATE:20260219
DTEND;VALUE=DATE:20260220
DTSTAMP:20260425T215343
CREATED:20260115T035129Z
LAST-MODIFIED:20260115T035129Z
UID:10005404-1771459200-1771545599@www.jccagedcare.org.au
SUMMARY:Kangaroo Point Walk & Lunch
DESCRIPTION:Take in the views along the Kangaroo Point Cliffs with a coffee stop\, followed by lunch at the Pineapple Hotel.
URL:https://www.jccagedcare.org.au/event/kangaroo-point-walk-lunch/
LOCATION:Pineapple Hotel\, 706 Main St\, Kangaroo Point\, Brisbane\, Queensland\, 4169\, Australia
GEO:-27.4810428;153.0361979
X-APPLE-STRUCTURED-LOCATION;VALUE=URI;X-ADDRESS=Pineapple Hotel 706 Main St Kangaroo Point Brisbane Queensland 4169 Australia;X-APPLE-RADIUS=500;X-TITLE=706 Main St\, Kangaroo Point:geo:153.0361979,-27.4810428
END:VEVENT
BEGIN:VEVENT
DTSTART;VALUE=DATE:20260223
DTEND;VALUE=DATE:20260224
DTSTAMP:20260425T215343
CREATED:20260115T035344Z
LAST-MODIFIED:20260115T035551Z
UID:10005405-1771804800-1771891199@www.jccagedcare.org.au
SUMMARY:Opal Museum Visit
DESCRIPTION:Visit the Opal Museum for an interesting morning of stories and displays\, followed by lunch at the Normanby Hotel. Tour cost: $10
URL:https://www.jccagedcare.org.au/event/opal-museum-visit/
LOCATION:Brisbane Opal Museum\, 201 Lutwyche Rd\, Windsor\, QLD\, 4030\, Australia
GEO:-27.4368228;153.0316375
X-APPLE-STRUCTURED-LOCATION;VALUE=URI;X-ADDRESS=Brisbane Opal Museum 201 Lutwyche Rd Windsor QLD 4030 Australia;X-APPLE-RADIUS=500;X-TITLE=201 Lutwyche Rd\, Windsor:geo:153.0316375,-27.4368228
END:VEVENT
BEGIN:VEVENT
DTSTART;VALUE=DATE:20260226
DTEND;VALUE=DATE:20260227
DTSTAMP:20260425T215343
CREATED:20260115T035456Z
LAST-MODIFIED:20260115T035456Z
UID:10005406-1772064000-1772150399@www.jccagedcare.org.au
SUMMARY:Sandgate Foreshore Drive & Lunch
DESCRIPTION:Enjoy a scenic drive to the Sandgate Foreshore for fish and chips by the seaside – and a quick stop at the local gift store beforehand might be tempting for some!
URL:https://www.jccagedcare.org.au/event/sandgate-foreshore-drive-lunch/
LOCATION:queensland
END:VEVENT
BEGIN:VEVENT
DTSTART;VALUE=DATE:20260302
DTEND;VALUE=DATE:20260303
DTSTAMP:20260425T215343
CREATED:20260222T225155Z
LAST-MODIFIED:20260222T225155Z
UID:10005407-1772409600-1772495999@www.jccagedcare.org.au
SUMMARY:Museum of Brisbane Experience
DESCRIPTION:Enjoy a guided visit to the Museum of Brisbane\, learn and discover the stories of Brisbane\, followed by time to relax together over a nearby café lunch.
URL:https://www.jccagedcare.org.au/event/museum-of-brisbane-experience/
LOCATION:Museum of Brisbane\, Brisbane City Hall\, 64 Adelaide St\, Brisbane City\, QLD\, 4000\, Australia
GEO:-27.4686893;153.0238365
X-APPLE-STRUCTURED-LOCATION;VALUE=URI;X-ADDRESS=Museum of Brisbane Brisbane City Hall 64 Adelaide St Brisbane City QLD 4000 Australia;X-APPLE-RADIUS=500;X-TITLE=Brisbane City Hall\, 64 Adelaide St:geo:153.0238365,-27.4686893
END:VEVENT
BEGIN:VEVENT
DTSTART;VALUE=DATE:20260305
DTEND;VALUE=DATE:20260306
DTSTAMP:20260425T215343
CREATED:20260222T225627Z
LAST-MODIFIED:20260222T225627Z
UID:10005408-1772668800-1772755199@www.jccagedcare.org.au
SUMMARY:High Tea at Dandelion & Driftwood
DESCRIPTION:Treat yourself to a special high tea at Dandelion & Driftwood in Nundah. Cost: $50 per person.
URL:https://www.jccagedcare.org.au/event/high-tea-at-dandelion-driftwood/
LOCATION:Dandelion & Driftwood\, 20 Doncaster St\, Hendra\, Brisbane\, QLD\, 4011\, Australia
GEO:-27.4184953;153.0669778
X-APPLE-STRUCTURED-LOCATION;VALUE=URI;X-ADDRESS=Dandelion & Driftwood 20 Doncaster St Hendra Brisbane QLD 4011 Australia;X-APPLE-RADIUS=500;X-TITLE=20 Doncaster St\, Hendra:geo:153.0669778,-27.4184953
END:VEVENT
BEGIN:VEVENT
DTSTART;VALUE=DATE:20260309
DTEND;VALUE=DATE:20260310
DTSTAMP:20260425T215343
CREATED:20260222T225755Z
LAST-MODIFIED:20260222T225755Z
UID:10005409-1773014400-1773100799@www.jccagedcare.org.au
SUMMARY:Mt Coot-tha Scenic Drive & Views
DESCRIPTION:Take a scenic drive around Mt Coot-tha and enjoy lunch at the Summit Café\, with sweeping views across Brisbane.
URL:https://www.jccagedcare.org.au/event/mt-coot-tha-scenic-drive-views/
LOCATION:Summit Cafe\, 2/1012 Sir Samuel Griffith Dr\, Mount Coot-Tha\, Brisbane\, QLD\, 4066\, Australia
GEO:-27.4848492;152.9590617
X-APPLE-STRUCTURED-LOCATION;VALUE=URI;X-ADDRESS=Summit Cafe 2/1012 Sir Samuel Griffith Dr Mount Coot-Tha Brisbane QLD 4066 Australia;X-APPLE-RADIUS=500;X-TITLE=2/1012 Sir Samuel Griffith Dr\, Mount Coot-Tha:geo:152.9590617,-27.4848492
END:VEVENT
BEGIN:VEVENT
DTSTART;VALUE=DATE:20260312
DTEND;VALUE=DATE:20260313
DTSTAMP:20260425T215343
CREATED:20260222T230012Z
LAST-MODIFIED:20260222T230012Z
UID:10005410-1773273600-1773359999@www.jccagedcare.org.au
SUMMARY:Creative Art Session with Grace
DESCRIPTION:Get creative during an inspiring art session hosted by our in-house artist\, Grace\, then enjoy a relaxed lunch at Archer Larder in Indooroopilly.
URL:https://www.jccagedcare.org.au/event/creative-art-session-with-grace/
LOCATION:Archer Larder Cafe\, 101 Clarence Rd\, Indooroopilly\, QLD\, 4068\, Australia
GEO:-27.4994306;152.9771576
X-APPLE-STRUCTURED-LOCATION;VALUE=URI;X-ADDRESS=Archer Larder Cafe 101 Clarence Rd Indooroopilly QLD 4068 Australia;X-APPLE-RADIUS=500;X-TITLE=101 Clarence Rd:geo:152.9771576,-27.4994306
END:VEVENT
BEGIN:VEVENT
DTSTART;VALUE=DATE:20260316
DTEND;VALUE=DATE:20260317
DTSTAMP:20260425T215343
CREATED:20260222T230117Z
LAST-MODIFIED:20260222T230117Z
UID:10005411-1773619200-1773705599@www.jccagedcare.org.au
SUMMARY:Redcliffe Peninsula & Bee Gees Way
DESCRIPTION:Join a local guide for a tour of the Redcliffe Peninsula and Bee Gees Way\, followed by lunch at Morgan’s Seafood by the water.
URL:https://www.jccagedcare.org.au/event/redcliffe-peninsula-bee-gees-way/
LOCATION:queensland
END:VEVENT
BEGIN:VEVENT
DTSTART;VALUE=DATE:20260319
DTEND;VALUE=DATE:20260320
DTSTAMP:20260425T215343
CREATED:20260222T230205Z
LAST-MODIFIED:20260222T230529Z
UID:10005412-1773878400-1773964799@www.jccagedcare.org.au
SUMMARY:Irish-Themed “Morning with Donna Lynch”
DESCRIPTION:Wear your green for a special “Mornings with Donna Lynch” with Irish Dancing on display too! Followed by lunch at The Grill.
URL:https://www.jccagedcare.org.au/event/irish-themed-morning-with-donna-lynch/
LOCATION:queensland
END:VEVENT
BEGIN:VEVENT
DTSTART;VALUE=DATE:20260323
DTEND;VALUE=DATE:20260324
DTSTAMP:20260425T215343
CREATED:20260222T230255Z
LAST-MODIFIED:20260222T230255Z
UID:10005413-1774224000-1774310399@www.jccagedcare.org.au
SUMMARY:Tropic Gardener Nursery Visit
DESCRIPTION:Browse a colourful range of tropical and exotic plants at Tropic Gardener Nursery\, before heading to the Lions Club\, Richlands\, for lunch.
URL:https://www.jccagedcare.org.au/event/tropic-gardener-nursery-visit/
LOCATION:queensland
END:VEVENT
BEGIN:VEVENT
DTSTART;VALUE=DATE:20260326
DTEND;VALUE=DATE:20260327
DTSTAMP:20260425T215343
CREATED:20260222T230344Z
LAST-MODIFIED:20260222T230344Z
UID:10005414-1774483200-1774569599@www.jccagedcare.org.au
SUMMARY:Victoria Park Farewell Visit
DESCRIPTION:Enjoy a scenic drive and lunch at Victoria Park Golf Club before it closes for redevelopment ahead of the 2032 Olympic Games.
URL:https://www.jccagedcare.org.au/event/victoria-park-farewell-visit/
LOCATION:queensland
END:VEVENT
BEGIN:VEVENT
DTSTART;VALUE=DATE:20260330
DTEND;VALUE=DATE:20260331
DTSTAMP:20260425T215343
CREATED:20260222T230453Z
LAST-MODIFIED:20260222T230453Z
UID:10005415-1774828800-1774915199@www.jccagedcare.org.au
SUMMARY:Fort Lytton Historic Military Precinct
DESCRIPTION:Take a tour of the military precinct followed by lunch at Wynnum RSL. Tour cost: $4.
URL:https://www.jccagedcare.org.au/event/fort-lytton-historic-military-precinct/
LOCATION:queensland
END:VEVENT
END:VCALENDAR