BEGIN:VCALENDAR
VERSION:2.0
PRODID:-//Jubilee Community Care - ECPv6.15.1.1//NONSGML v1.0//EN
CALSCALE:GREGORIAN
METHOD:PUBLISH
X-WR-CALNAME:Jubilee Community Care
X-ORIGINAL-URL:https://www.jccagedcare.org.au
X-WR-CALDESC:Events for Jubilee Community Care
REFRESH-INTERVAL;VALUE=DURATION:PT1H
X-Robots-Tag:noindex
X-PUBLISHED-TTL:PT1H
BEGIN:VTIMEZONE
TZID:Australia/Brisbane
BEGIN:STANDARD
TZOFFSETFROM:+1000
TZOFFSETTO:+1000
TZNAME:AEST
DTSTART:20220101T000000
END:STANDARD
END:VTIMEZONE
BEGIN:VEVENT
DTSTART;VALUE=DATE:20221117
DTEND;VALUE=DATE:20221118
DTSTAMP:20260424T133121
CREATED:20220925T220038Z
LAST-MODIFIED:20220907T042534Z
UID:10002828-1668643200-1668729599@www.jccagedcare.org.au
SUMMARY:Redland Bay Hotel
DESCRIPTION:Redland Bay Hotel. $15 bus and buy your own lunch
URL:https://www.jccagedcare.org.au/event/redland-bay-hotel/
LOCATION:Redland Bay Hotel\, 160 Broadwater Tce\, Redland Bay\, QLD\, 4165\, Australia
GEO:-27.6122168;153.3032806
X-APPLE-STRUCTURED-LOCATION;VALUE=URI;X-ADDRESS=Redland Bay Hotel 160 Broadwater Tce Redland Bay QLD 4165 Australia;X-APPLE-RADIUS=500;X-TITLE=160 Broadwater Tce:geo:153.3032806,-27.6122168
END:VEVENT
BEGIN:VEVENT
DTSTART;TZID=Australia/Brisbane:20221116T100000
DTEND;TZID=Australia/Brisbane:20221116T110000
DTSTAMP:20260424T133121
CREATED:20210324T024927Z
LAST-MODIFIED:20220907T024048Z
UID:10002691-1668592800-1668596400@www.jccagedcare.org.au
SUMMARY:Online chitchat
DESCRIPTION:Enjoy a catch up with friends or make new ones with our activities coordinator Vicki’s online chitchat group. It meets over Zoom from 10am-11am. Assistance with the Zoom video platform on your computer\, Ipad or mobile phone can be provided.
URL:https://www.jccagedcare.org.au/event/online-chitchat-2021-06-30-2022-09-27/2022-11-16/
LOCATION:Online\, Australia
GEO:-25.274398;133.775136
END:VEVENT
BEGIN:VEVENT
DTSTART;TZID=Australia/Brisbane:20221115T130000
DTEND;TZID=Australia/Brisbane:20221115T140000
DTSTAMP:20260424T133121
CREATED:20201229T020054Z
LAST-MODIFIED:20220907T023604Z
UID:10002611-1668517200-1668520800@www.jccagedcare.org.au
SUMMARY:UQ Healthy Living exercise class
DESCRIPTION:Get stronger and healthier at the UQ Healthy Living exercise class. 1-2pm.
URL:https://www.jccagedcare.org.au/event/uq-healthy-living-exercise-class/2022-11-15/
LOCATION:UQ Healthy Living Gymnasium\, Centra\, Level 3\, 37 Archer Street\,\, Brisbane\, queensland\, 4066\, Australia
GEO:-27.4861889;152.9940544
X-APPLE-STRUCTURED-LOCATION;VALUE=URI;X-ADDRESS=UQ Healthy Living Gymnasium Centra Level 3 37 Archer Street Brisbane queensland 4066 Australia;X-APPLE-RADIUS=500;X-TITLE=Centra\, Level 3\, 37 Archer Street\,:geo:152.9940544,-27.4861889
END:VEVENT
BEGIN:VEVENT
DTSTART;TZID=Australia/Brisbane:20221115T103000
DTEND;TZID=Australia/Brisbane:20221115T110000
DTSTAMP:20260424T133121
CREATED:20201229T020021Z
LAST-MODIFIED:20220907T023808Z
UID:10002481-1668508200-1668510000@www.jccagedcare.org.au
SUMMARY:BodyTrack exercise class
DESCRIPTION:Participate in some gentle exercise for seniors in the Bodytrack exercise class. 10.30-11am.
URL:https://www.jccagedcare.org.au/event/bodytrack-exercise-class/2022-11-15/
LOCATION:Bodytrack Toowong\, 2/65 Sylvan Rd\, Toowong\, Brisbane\, Queensland\, 4068\, Australia
GEO:-27.4801158;152.9929449
X-APPLE-STRUCTURED-LOCATION;VALUE=URI;X-ADDRESS=Bodytrack Toowong 2/65 Sylvan Rd Toowong Brisbane Queensland 4068 Australia;X-APPLE-RADIUS=500;X-TITLE=2/65 Sylvan Rd\, Toowong:geo:152.9929449,-27.4801158
END:VEVENT
BEGIN:VEVENT
DTSTART;TZID=Australia/Brisbane:20221115T100000
DTEND;TZID=Australia/Brisbane:20221115T110000
DTSTAMP:20260424T133121
CREATED:20210324T024927Z
LAST-MODIFIED:20220907T024048Z
UID:10002690-1668506400-1668510000@www.jccagedcare.org.au
SUMMARY:Online chitchat
DESCRIPTION:Enjoy a catch up with friends or make new ones with our activities coordinator Vicki’s online chitchat group. It meets over Zoom from 10am-11am. Assistance with the Zoom video platform on your computer\, Ipad or mobile phone can be provided.
URL:https://www.jccagedcare.org.au/event/online-chitchat-2021-06-30-2022-09-27/2022-11-15/
LOCATION:Online\, Australia
GEO:-25.274398;133.775136
END:VEVENT
BEGIN:VEVENT
DTSTART;VALUE=DATE:20221114
DTEND;VALUE=DATE:20221115
DTSTAMP:20260424T133121
CREATED:20220925T220022Z
LAST-MODIFIED:20220907T040739Z
UID:10002821-1668384000-1668470399@www.jccagedcare.org.au
SUMMARY:Trishaw bike rides
DESCRIPTION:Cycling Without Age rides in trishaw bikes piloted by volunteers at New Farm Park. $15 bus. Buy own lunch nearby. The bike rides are free but donations to the charity are welcome.
URL:https://www.jccagedcare.org.au/event/trishaw-bike-rides/
LOCATION:New Farm Park\, 1042 Brunswick St\, New Farm\, QLD\, 4005\, Australia
GEO:-27.4713216;153.0521613
X-APPLE-STRUCTURED-LOCATION;VALUE=URI;X-ADDRESS=New Farm Park 1042 Brunswick St New Farm QLD 4005 Australia;X-APPLE-RADIUS=500;X-TITLE=1042 Brunswick St:geo:153.0521613,-27.4713216
END:VEVENT
BEGIN:VEVENT
DTSTART;TZID=Australia/Brisbane:20221111T130000
DTEND;TZID=Australia/Brisbane:20221111T140000
DTSTAMP:20260424T133121
CREATED:20220621T030344Z
LAST-MODIFIED:20220907T023306Z
UID:10002780-1668171600-1668175200@www.jccagedcare.org.au
SUMMARY:UQ Healthy Living exercise class
DESCRIPTION:Get stronger and healthier at the UQ Healthy Living exercise class. 1-2pm.
URL:https://www.jccagedcare.org.au/event/uq-healthy-living-exercise-class-2/2022-11-11/
LOCATION:UQ Healthy Living Gymnasium\, Centra\, Level 3\, 37 Archer Street\,\, Brisbane\, queensland\, 4066\, Australia
GEO:-27.4861889;152.9940544
X-APPLE-STRUCTURED-LOCATION;VALUE=URI;X-ADDRESS=UQ Healthy Living Gymnasium Centra Level 3 37 Archer Street Brisbane queensland 4066 Australia;X-APPLE-RADIUS=500;X-TITLE=Centra\, Level 3\, 37 Archer Street\,:geo:152.9940544,-27.4861889
END:VEVENT
BEGIN:VEVENT
DTSTART;VALUE=DATE:20221110
DTEND;VALUE=DATE:20221111
DTSTAMP:20260424T133121
CREATED:20220925T220027Z
LAST-MODIFIED:20220907T042320Z
UID:10002823-1668038400-1668124799@www.jccagedcare.org.au
SUMMARY:Harris Farm Markets
DESCRIPTION:Harris Farm Markets at West End. $15 bus and buy own lunch \n 
URL:https://www.jccagedcare.org.au/event/harris-farm-markets/
LOCATION:Harris Farm Markets\, 97 Boundary St\, West End\, QLD\, 4101\, Australia
GEO:-27.4777722;153.0123893
X-APPLE-STRUCTURED-LOCATION;VALUE=URI;X-ADDRESS=Harris Farm Markets 97 Boundary St West End QLD 4101 Australia;X-APPLE-RADIUS=500;X-TITLE=97 Boundary St:geo:153.0123893,-27.4777722
END:VEVENT
BEGIN:VEVENT
DTSTART;TZID=Australia/Brisbane:20221109T100000
DTEND;TZID=Australia/Brisbane:20221109T110000
DTSTAMP:20260424T133121
CREATED:20210324T024927Z
LAST-MODIFIED:20220907T024048Z
UID:10002689-1667988000-1667991600@www.jccagedcare.org.au
SUMMARY:Online chitchat
DESCRIPTION:Enjoy a catch up with friends or make new ones with our activities coordinator Vicki’s online chitchat group. It meets over Zoom from 10am-11am. Assistance with the Zoom video platform on your computer\, Ipad or mobile phone can be provided.
URL:https://www.jccagedcare.org.au/event/online-chitchat-2021-06-30-2022-09-27/2022-11-09/
LOCATION:Online\, Australia
GEO:-25.274398;133.775136
END:VEVENT
BEGIN:VEVENT
DTSTART;TZID=Australia/Brisbane:20221108T130000
DTEND;TZID=Australia/Brisbane:20221108T140000
DTSTAMP:20260424T133121
CREATED:20201229T020054Z
LAST-MODIFIED:20220907T023604Z
UID:10002610-1667912400-1667916000@www.jccagedcare.org.au
SUMMARY:UQ Healthy Living exercise class
DESCRIPTION:Get stronger and healthier at the UQ Healthy Living exercise class. 1-2pm.
URL:https://www.jccagedcare.org.au/event/uq-healthy-living-exercise-class/2022-11-08/
LOCATION:UQ Healthy Living Gymnasium\, Centra\, Level 3\, 37 Archer Street\,\, Brisbane\, queensland\, 4066\, Australia
GEO:-27.4861889;152.9940544
X-APPLE-STRUCTURED-LOCATION;VALUE=URI;X-ADDRESS=UQ Healthy Living Gymnasium Centra Level 3 37 Archer Street Brisbane queensland 4066 Australia;X-APPLE-RADIUS=500;X-TITLE=Centra\, Level 3\, 37 Archer Street\,:geo:152.9940544,-27.4861889
END:VEVENT
BEGIN:VEVENT
DTSTART;TZID=Australia/Brisbane:20221108T103000
DTEND;TZID=Australia/Brisbane:20221108T110000
DTSTAMP:20260424T133121
CREATED:20201229T020021Z
LAST-MODIFIED:20220907T023808Z
UID:10002480-1667903400-1667905200@www.jccagedcare.org.au
SUMMARY:BodyTrack exercise class
DESCRIPTION:Participate in some gentle exercise for seniors in the Bodytrack exercise class. 10.30-11am.
URL:https://www.jccagedcare.org.au/event/bodytrack-exercise-class/2022-11-08/
LOCATION:Bodytrack Toowong\, 2/65 Sylvan Rd\, Toowong\, Brisbane\, Queensland\, 4068\, Australia
GEO:-27.4801158;152.9929449
X-APPLE-STRUCTURED-LOCATION;VALUE=URI;X-ADDRESS=Bodytrack Toowong 2/65 Sylvan Rd Toowong Brisbane Queensland 4068 Australia;X-APPLE-RADIUS=500;X-TITLE=2/65 Sylvan Rd\, Toowong:geo:152.9929449,-27.4801158
END:VEVENT
BEGIN:VEVENT
DTSTART;TZID=Australia/Brisbane:20221108T100000
DTEND;TZID=Australia/Brisbane:20221108T110000
DTSTAMP:20260424T133121
CREATED:20210324T024927Z
LAST-MODIFIED:20220907T024048Z
UID:10002688-1667901600-1667905200@www.jccagedcare.org.au
SUMMARY:Online chitchat
DESCRIPTION:Enjoy a catch up with friends or make new ones with our activities coordinator Vicki’s online chitchat group. It meets over Zoom from 10am-11am. Assistance with the Zoom video platform on your computer\, Ipad or mobile phone can be provided.
URL:https://www.jccagedcare.org.au/event/online-chitchat-2021-06-30-2022-09-27/2022-11-08/
LOCATION:Online\, Australia
GEO:-25.274398;133.775136
END:VEVENT
BEGIN:VEVENT
DTSTART;VALUE=DATE:20221107
DTEND;VALUE=DATE:20221108
DTSTAMP:20260424T133121
CREATED:20220925T220006Z
LAST-MODIFIED:20220907T040512Z
UID:10002815-1667779200-1667865599@www.jccagedcare.org.au
SUMMARY:Fish and chips lunch
DESCRIPTION:Fish and chips at Victoria Point. $15 bus and buy own lunch
URL:https://www.jccagedcare.org.au/event/fish-and-chips-lunch/
LOCATION:Victoria Point\, Redland City\, Queensland\, 4165\, Australia
GEO:-27.5833177;153.2999867
END:VEVENT
BEGIN:VEVENT
DTSTART;TZID=Australia/Brisbane:20221104T130000
DTEND;TZID=Australia/Brisbane:20221104T140000
DTSTAMP:20260424T133121
CREATED:20220621T030344Z
LAST-MODIFIED:20220907T023306Z
UID:10002779-1667566800-1667570400@www.jccagedcare.org.au
SUMMARY:UQ Healthy Living exercise class
DESCRIPTION:Get stronger and healthier at the UQ Healthy Living exercise class. 1-2pm.
URL:https://www.jccagedcare.org.au/event/uq-healthy-living-exercise-class-2/2022-11-04/
LOCATION:UQ Healthy Living Gymnasium\, Centra\, Level 3\, 37 Archer Street\,\, Brisbane\, queensland\, 4066\, Australia
GEO:-27.4861889;152.9940544
X-APPLE-STRUCTURED-LOCATION;VALUE=URI;X-ADDRESS=UQ Healthy Living Gymnasium Centra Level 3 37 Archer Street Brisbane queensland 4066 Australia;X-APPLE-RADIUS=500;X-TITLE=Centra\, Level 3\, 37 Archer Street\,:geo:152.9940544,-27.4861889
END:VEVENT
BEGIN:VEVENT
DTSTART;VALUE=DATE:20221103
DTEND;VALUE=DATE:20221104
DTSTAMP:20260424T133121
CREATED:20220925T220004Z
LAST-MODIFIED:20220907T042119Z
UID:10002814-1667433600-1667519999@www.jccagedcare.org.au
SUMMARY:Beenleigh Historical Village
DESCRIPTION:Beenleigh Historical Village. $15 bus. $13.50 pay on the day includes guide\, billy tea and damper. Buy own lunch
URL:https://www.jccagedcare.org.au/event/beenleigh-historical-village-2/
LOCATION:Beenleigh Historical Village and Museum\, 205 Main St\, Beenleigh\, Logan\, Queensland\, 4207\, Australia
GEO:-27.7230518;153.2138273
X-APPLE-STRUCTURED-LOCATION;VALUE=URI;X-ADDRESS=Beenleigh Historical Village and Museum 205 Main St Beenleigh Logan Queensland 4207 Australia;X-APPLE-RADIUS=500;X-TITLE=205 Main St\, Beenleigh:geo:153.2138273,-27.7230518
END:VEVENT
BEGIN:VEVENT
DTSTART;TZID=Australia/Brisbane:20221102T100000
DTEND;TZID=Australia/Brisbane:20221102T110000
DTSTAMP:20260424T133121
CREATED:20210324T024927Z
LAST-MODIFIED:20220907T024048Z
UID:10002687-1667383200-1667386800@www.jccagedcare.org.au
SUMMARY:Online chitchat
DESCRIPTION:Enjoy a catch up with friends or make new ones with our activities coordinator Vicki’s online chitchat group. It meets over Zoom from 10am-11am. Assistance with the Zoom video platform on your computer\, Ipad or mobile phone can be provided.
URL:https://www.jccagedcare.org.au/event/online-chitchat-2021-06-30-2022-09-27/2022-11-02/
LOCATION:Online\, Australia
GEO:-25.274398;133.775136
END:VEVENT
BEGIN:VEVENT
DTSTART;TZID=Australia/Brisbane:20221101T130000
DTEND;TZID=Australia/Brisbane:20221101T140000
DTSTAMP:20260424T133121
CREATED:20201229T020054Z
LAST-MODIFIED:20220907T023604Z
UID:10002609-1667307600-1667311200@www.jccagedcare.org.au
SUMMARY:UQ Healthy Living exercise class
DESCRIPTION:Get stronger and healthier at the UQ Healthy Living exercise class. 1-2pm.
URL:https://www.jccagedcare.org.au/event/uq-healthy-living-exercise-class/2022-11-01/
LOCATION:UQ Healthy Living Gymnasium\, Centra\, Level 3\, 37 Archer Street\,\, Brisbane\, queensland\, 4066\, Australia
GEO:-27.4861889;152.9940544
X-APPLE-STRUCTURED-LOCATION;VALUE=URI;X-ADDRESS=UQ Healthy Living Gymnasium Centra Level 3 37 Archer Street Brisbane queensland 4066 Australia;X-APPLE-RADIUS=500;X-TITLE=Centra\, Level 3\, 37 Archer Street\,:geo:152.9940544,-27.4861889
END:VEVENT
BEGIN:VEVENT
DTSTART;TZID=Australia/Brisbane:20221101T103000
DTEND;TZID=Australia/Brisbane:20221101T110000
DTSTAMP:20260424T133121
CREATED:20201229T020021Z
LAST-MODIFIED:20220907T023808Z
UID:10002479-1667298600-1667300400@www.jccagedcare.org.au
SUMMARY:BodyTrack exercise class
DESCRIPTION:Participate in some gentle exercise for seniors in the Bodytrack exercise class. 10.30-11am.
URL:https://www.jccagedcare.org.au/event/bodytrack-exercise-class/2022-11-01/
LOCATION:Bodytrack Toowong\, 2/65 Sylvan Rd\, Toowong\, Brisbane\, Queensland\, 4068\, Australia
GEO:-27.4801158;152.9929449
X-APPLE-STRUCTURED-LOCATION;VALUE=URI;X-ADDRESS=Bodytrack Toowong 2/65 Sylvan Rd Toowong Brisbane Queensland 4068 Australia;X-APPLE-RADIUS=500;X-TITLE=2/65 Sylvan Rd\, Toowong:geo:152.9929449,-27.4801158
END:VEVENT
BEGIN:VEVENT
DTSTART;TZID=Australia/Brisbane:20221101T100000
DTEND;TZID=Australia/Brisbane:20221101T110000
DTSTAMP:20260424T133121
CREATED:20210324T024927Z
LAST-MODIFIED:20220907T024048Z
UID:10002686-1667296800-1667300400@www.jccagedcare.org.au
SUMMARY:Online chitchat
DESCRIPTION:Enjoy a catch up with friends or make new ones with our activities coordinator Vicki’s online chitchat group. It meets over Zoom from 10am-11am. Assistance with the Zoom video platform on your computer\, Ipad or mobile phone can be provided.
URL:https://www.jccagedcare.org.au/event/online-chitchat-2021-06-30-2022-09-27/2022-11-01/
LOCATION:Online\, Australia
GEO:-25.274398;133.775136
END:VEVENT
BEGIN:VEVENT
DTSTART;VALUE=DATE:20221101
DTEND;VALUE=DATE:20221102
DTSTAMP:20260424T133121
CREATED:20220925T220056Z
LAST-MODIFIED:20220907T040348Z
UID:10002835-1667260800-1667347199@www.jccagedcare.org.au
SUMMARY:Melbourne Cup luncheon
DESCRIPTION:Melbourne Cup Day Luncheon\, Algester Sports Club. $55 plus $10 bus fee
URL:https://www.jccagedcare.org.au/event/melbourne-cup-luncheon/
LOCATION:Algester Sports Club\, 41 Endiandra St\, Algester\, Brisbane\, Queensland\, 4115\, Australia
GEO:-27.6174575;153.0326843
X-APPLE-STRUCTURED-LOCATION;VALUE=URI;X-ADDRESS=Algester Sports Club 41 Endiandra St Algester Brisbane Queensland 4115 Australia;X-APPLE-RADIUS=500;X-TITLE=41 Endiandra St\, Algester:geo:153.0326843,-27.6174575
END:VEVENT
BEGIN:VEVENT
DTSTART;VALUE=DATE:20221031
DTEND;VALUE=DATE:20221101
DTSTAMP:20260424T133121
CREATED:20220925T220019Z
LAST-MODIFIED:20220907T025808Z
UID:10002818-1667174400-1667260799@www.jccagedcare.org.au
SUMMARY:Salisbury Hotel
DESCRIPTION:Buy lunch today at the Salisbury Hotel. $15 bus.
URL:https://www.jccagedcare.org.au/event/salisbury-hotel/
LOCATION:Salisbury Hotel\, 668 Toohey Rd\, Salisbury\, QLD\, 4107\, Australia
GEO:-27.5446633;153.0396398
X-APPLE-STRUCTURED-LOCATION;VALUE=URI;X-ADDRESS=Salisbury Hotel 668 Toohey Rd Salisbury QLD 4107 Australia;X-APPLE-RADIUS=500;X-TITLE=668 Toohey Rd:geo:153.0396398,-27.5446633
END:VEVENT
BEGIN:VEVENT
DTSTART;TZID=Australia/Brisbane:20221028T130000
DTEND;TZID=Australia/Brisbane:20221028T140000
DTSTAMP:20260424T133121
CREATED:20220621T030344Z
LAST-MODIFIED:20220907T023306Z
UID:10002778-1666962000-1666965600@www.jccagedcare.org.au
SUMMARY:UQ Healthy Living exercise class
DESCRIPTION:Get stronger and healthier at the UQ Healthy Living exercise class. 1-2pm.
URL:https://www.jccagedcare.org.au/event/uq-healthy-living-exercise-class-2/2022-10-28/
LOCATION:UQ Healthy Living Gymnasium\, Centra\, Level 3\, 37 Archer Street\,\, Brisbane\, queensland\, 4066\, Australia
GEO:-27.4861889;152.9940544
X-APPLE-STRUCTURED-LOCATION;VALUE=URI;X-ADDRESS=UQ Healthy Living Gymnasium Centra Level 3 37 Archer Street Brisbane queensland 4066 Australia;X-APPLE-RADIUS=500;X-TITLE=Centra\, Level 3\, 37 Archer Street\,:geo:152.9940544,-27.4861889
END:VEVENT
BEGIN:VEVENT
DTSTART;VALUE=DATE:20221027
DTEND;VALUE=DATE:20221028
DTSTAMP:20260424T133121
CREATED:20220925T220046Z
LAST-MODIFIED:20220907T035542Z
UID:10002831-1666828800-1666915199@www.jccagedcare.org.au
SUMMARY:Brisbane Magistrates Court
DESCRIPTION:Brisbane Magistrate Courts Tour. $15 bus and buy own lunch at the Coffee Club.
URL:https://www.jccagedcare.org.au/event/brisbane-magistrates-court/
LOCATION:Brisbane Magistrates Court\, 363 George St\, Brisbane City\, Queensland\, 4000
GEO:-27.4681604;153.0211735
X-APPLE-STRUCTURED-LOCATION;VALUE=URI;X-ADDRESS=Brisbane Magistrates Court 363 George St Brisbane City Queensland 4000;X-APPLE-RADIUS=500;X-TITLE=363 George St:geo:153.0211735,-27.4681604
END:VEVENT
BEGIN:VEVENT
DTSTART;TZID=Australia/Brisbane:20221026T100000
DTEND;TZID=Australia/Brisbane:20221026T110000
DTSTAMP:20260424T133121
CREATED:20210324T024927Z
LAST-MODIFIED:20220907T024048Z
UID:10002685-1666778400-1666782000@www.jccagedcare.org.au
SUMMARY:Online chitchat
DESCRIPTION:Enjoy a catch up with friends or make new ones with our activities coordinator Vicki’s online chitchat group. It meets over Zoom from 10am-11am. Assistance with the Zoom video platform on your computer\, Ipad or mobile phone can be provided.
URL:https://www.jccagedcare.org.au/event/online-chitchat-2021-06-30-2022-09-27/2022-10-26/
LOCATION:Online\, Australia
GEO:-25.274398;133.775136
END:VEVENT
BEGIN:VEVENT
DTSTART;TZID=Australia/Brisbane:20221025T130000
DTEND;TZID=Australia/Brisbane:20221025T140000
DTSTAMP:20260424T133121
CREATED:20201229T020054Z
LAST-MODIFIED:20220907T023604Z
UID:10002608-1666702800-1666706400@www.jccagedcare.org.au
SUMMARY:UQ Healthy Living exercise class
DESCRIPTION:Get stronger and healthier at the UQ Healthy Living exercise class. 1-2pm.
URL:https://www.jccagedcare.org.au/event/uq-healthy-living-exercise-class/2022-10-25/
LOCATION:UQ Healthy Living Gymnasium\, Centra\, Level 3\, 37 Archer Street\,\, Brisbane\, queensland\, 4066\, Australia
GEO:-27.4861889;152.9940544
X-APPLE-STRUCTURED-LOCATION;VALUE=URI;X-ADDRESS=UQ Healthy Living Gymnasium Centra Level 3 37 Archer Street Brisbane queensland 4066 Australia;X-APPLE-RADIUS=500;X-TITLE=Centra\, Level 3\, 37 Archer Street\,:geo:152.9940544,-27.4861889
END:VEVENT
BEGIN:VEVENT
DTSTART;TZID=Australia/Brisbane:20221025T103000
DTEND;TZID=Australia/Brisbane:20221025T110000
DTSTAMP:20260424T133121
CREATED:20201229T020021Z
LAST-MODIFIED:20220907T023808Z
UID:10002478-1666693800-1666695600@www.jccagedcare.org.au
SUMMARY:BodyTrack exercise class
DESCRIPTION:Participate in some gentle exercise for seniors in the Bodytrack exercise class. 10.30-11am.
URL:https://www.jccagedcare.org.au/event/bodytrack-exercise-class/2022-10-25/
LOCATION:Bodytrack Toowong\, 2/65 Sylvan Rd\, Toowong\, Brisbane\, Queensland\, 4068\, Australia
GEO:-27.4801158;152.9929449
X-APPLE-STRUCTURED-LOCATION;VALUE=URI;X-ADDRESS=Bodytrack Toowong 2/65 Sylvan Rd Toowong Brisbane Queensland 4068 Australia;X-APPLE-RADIUS=500;X-TITLE=2/65 Sylvan Rd\, Toowong:geo:152.9929449,-27.4801158
END:VEVENT
BEGIN:VEVENT
DTSTART;TZID=Australia/Brisbane:20221025T100000
DTEND;TZID=Australia/Brisbane:20221025T110000
DTSTAMP:20260424T133121
CREATED:20210324T024927Z
LAST-MODIFIED:20220907T024048Z
UID:10002684-1666692000-1666695600@www.jccagedcare.org.au
SUMMARY:Online chitchat
DESCRIPTION:Enjoy a catch up with friends or make new ones with our activities coordinator Vicki’s online chitchat group. It meets over Zoom from 10am-11am. Assistance with the Zoom video platform on your computer\, Ipad or mobile phone can be provided.
URL:https://www.jccagedcare.org.au/event/online-chitchat-2021-06-30-2022-09-27/2022-10-25/
LOCATION:Online\, Australia
GEO:-25.274398;133.775136
END:VEVENT
BEGIN:VEVENT
DTSTART;VALUE=DATE:20221024
DTEND;VALUE=DATE:20221025
DTSTAMP:20260424T133121
CREATED:20220925T220031Z
LAST-MODIFIED:20220907T041859Z
UID:10002826-1666569600-1666655999@www.jccagedcare.org.au
SUMMARY:Eden Nursery
DESCRIPTION:Eden Garden Nursery\, Carseldine. $15 bus. Buy own lunch in cafe.
URL:https://www.jccagedcare.org.au/event/eden-nursery/
LOCATION:Dragonfly Cafe At Eden Gardens Nursery\, 1657 Gympie Rd\, Carseldine\, QLD\, 4034\, Australia
GEO:-33.7813932;151.133495
X-APPLE-STRUCTURED-LOCATION;VALUE=URI;X-ADDRESS=Dragonfly Cafe At Eden Gardens Nursery 1657 Gympie Rd Carseldine QLD 4034 Australia;X-APPLE-RADIUS=500;X-TITLE=1657 Gympie Rd:geo:151.133495,-33.7813932
END:VEVENT
BEGIN:VEVENT
DTSTART;TZID=Australia/Brisbane:20221021T130000
DTEND;TZID=Australia/Brisbane:20221021T140000
DTSTAMP:20260424T133121
CREATED:20220621T030344Z
LAST-MODIFIED:20220907T023306Z
UID:10002777-1666357200-1666360800@www.jccagedcare.org.au
SUMMARY:UQ Healthy Living exercise class
DESCRIPTION:Get stronger and healthier at the UQ Healthy Living exercise class. 1-2pm.
URL:https://www.jccagedcare.org.au/event/uq-healthy-living-exercise-class-2/2022-10-21/
LOCATION:UQ Healthy Living Gymnasium\, Centra\, Level 3\, 37 Archer Street\,\, Brisbane\, queensland\, 4066\, Australia
GEO:-27.4861889;152.9940544
X-APPLE-STRUCTURED-LOCATION;VALUE=URI;X-ADDRESS=UQ Healthy Living Gymnasium Centra Level 3 37 Archer Street Brisbane queensland 4066 Australia;X-APPLE-RADIUS=500;X-TITLE=Centra\, Level 3\, 37 Archer Street\,:geo:152.9940544,-27.4861889
END:VEVENT
BEGIN:VEVENT
DTSTART;VALUE=DATE:20221020
DTEND;VALUE=DATE:20221021
DTSTAMP:20260424T133121
CREATED:20220925T220051Z
LAST-MODIFIED:20220907T032039Z
UID:10002834-1666224000-1666310399@www.jccagedcare.org.au
SUMMARY:Seniors Month: Ear and Eye Health Forum
DESCRIPTION:Learn about eye and ear health with Macular Disease Foundation Australia and Australian Hearing at our Seniors Month event. Sherwood AFL Club. Light lunch included. $35.
URL:https://www.jccagedcare.org.au/event/seniors-month-ear-and-eye-health-forum/
LOCATION:Sherwood Football Club\, 41 Chelmer St East\, Chelmer\, Brisbane\, Queensland\, 4068\, Australia
GEO:-27.5137118;152.9743826
X-APPLE-STRUCTURED-LOCATION;VALUE=URI;X-ADDRESS=Sherwood Football Club 41 Chelmer St East Chelmer Brisbane Queensland 4068 Australia;X-APPLE-RADIUS=500;X-TITLE=41 Chelmer St East\, Chelmer:geo:152.9743826,-27.5137118
END:VEVENT
END:VCALENDAR