BEGIN:VCALENDAR
VERSION:2.0
PRODID:-//Jubilee Community Care - ECPv6.15.1.1//NONSGML v1.0//EN
CALSCALE:GREGORIAN
METHOD:PUBLISH
X-ORIGINAL-URL:https://www.jccagedcare.org.au
X-WR-CALDESC:Events for Jubilee Community Care
REFRESH-INTERVAL;VALUE=DURATION:PT1H
X-Robots-Tag:noindex
X-PUBLISHED-TTL:PT1H
BEGIN:VTIMEZONE
TZID:Australia/Brisbane
BEGIN:STANDARD
TZOFFSETFROM:+1000
TZOFFSETTO:+1000
TZNAME:AEST
DTSTART:20240101T000000
END:STANDARD
END:VTIMEZONE
BEGIN:VEVENT
DTSTART;TZID=Australia/Brisbane:20241011T130000
DTEND;TZID=Australia/Brisbane:20241011T140000
DTSTAMP:20260424T042840
CREATED:20231212T053045Z
LAST-MODIFIED:20240909T025451Z
UID:10004286-1728651600-1728655200@www.jccagedcare.org.au
SUMMARY:UQ Healthy Living Friday exercise class
DESCRIPTION:Get stronger and healthier at the UQ Healthy Living exercise class. 1-2pm.
URL:https://www.jccagedcare.org.au/event/uq-healthy-living-friday-exercise-class/2024-10-11/
LOCATION:UQ Healthy Living Gymnasium\, Centra\, Level 3\, 37 Archer Street\,\, Brisbane\, queensland\, 4066\, Australia
GEO:-27.4861889;152.9940544
X-APPLE-STRUCTURED-LOCATION;VALUE=URI;X-ADDRESS=UQ Healthy Living Gymnasium Centra Level 3 37 Archer Street Brisbane queensland 4066 Australia;X-APPLE-RADIUS=500;X-TITLE=Centra\, Level 3\, 37 Archer Street\,:geo:152.9940544,-27.4861889
END:VEVENT
BEGIN:VEVENT
DTSTART;VALUE=DATE:20241014
DTEND;VALUE=DATE:20241015
DTSTAMP:20260424T042840
CREATED:20240909T030814Z
LAST-MODIFIED:20240909T030814Z
UID:10004322-1728864000-1728950399@www.jccagedcare.org.au
SUMMARY:Dayboro Art Gallery
DESCRIPTION:Paint your own trinket with Di at Dayboro Art Gallery and lunch after at a renowned local bakery.
URL:https://www.jccagedcare.org.au/event/dayboro-art-gallery-2/
LOCATION:Dayboro Art Gallery\, Cnr William St and Mount Mee Rd\, Dayboro\, QLD\, 4521\, Australia
GEO:-27.1874908;152.8274201
X-APPLE-STRUCTURED-LOCATION;VALUE=URI;X-ADDRESS=Dayboro Art Gallery Cnr William St and Mount Mee Rd Dayboro QLD 4521 Australia;X-APPLE-RADIUS=500;X-TITLE=Cnr William St and Mount Mee Rd:geo:152.8274201,-27.1874908
END:VEVENT
BEGIN:VEVENT
DTSTART;TZID=Australia/Brisbane:20241015T100000
DTEND;TZID=Australia/Brisbane:20241015T110000
DTSTAMP:20260424T042840
CREATED:20231212T054222Z
LAST-MODIFIED:20240909T025716Z
UID:10004309-1728986400-1728990000@www.jccagedcare.org.au
SUMMARY:Online Zoom chit-chat - Tuesdays
DESCRIPTION:Enjoy some conversation with friends on a Zoom chat online. Phone Jubilee if you would like to find out more. 10am-11am
URL:https://www.jccagedcare.org.au/event/online-zoom-chit-chat/2024-10-15/
LOCATION:QLD
END:VEVENT
BEGIN:VEVENT
DTSTART;TZID=Australia/Brisbane:20241015T130000
DTEND;TZID=Australia/Brisbane:20241015T140000
DTSTAMP:20260424T042840
CREATED:20231212T053220Z
LAST-MODIFIED:20240909T025321Z
UID:10004276-1728997200-1729000800@www.jccagedcare.org.au
SUMMARY:UQ Healthy Living Tuesday exercise class
DESCRIPTION:Get stronger and healthier at the UQ Healthy Living exercise class. 1-2pm.
URL:https://www.jccagedcare.org.au/event/uq-healthy-living-tuesday-exercise-class/2024-10-15/
LOCATION:UQ Healthy Living Gymnasium\, Centra\, Level 3\, 37 Archer Street\,\, Brisbane\, queensland\, 4066\, Australia
GEO:-27.4861889;152.9940544
X-APPLE-STRUCTURED-LOCATION;VALUE=URI;X-ADDRESS=UQ Healthy Living Gymnasium Centra Level 3 37 Archer Street Brisbane queensland 4066 Australia;X-APPLE-RADIUS=500;X-TITLE=Centra\, Level 3\, 37 Archer Street\,:geo:152.9940544,-27.4861889
END:VEVENT
BEGIN:VEVENT
DTSTART;VALUE=DATE:20241016
DTEND;VALUE=DATE:20241017
DTSTAMP:20260424T042840
CREATED:20240909T031114Z
LAST-MODIFIED:20240909T031114Z
UID:10004323-1729036800-1729123199@www.jccagedcare.org.au
SUMMARY:Andrews Sisters tribute show\, Wynnum
DESCRIPTION:Sing along to the The Andrews Sisters Tribute Show at Wynnum. Lunch locally after.
URL:https://www.jccagedcare.org.au/event/andrews-sisters-tribute-show-wynnum/
LOCATION:Waterloo Bay Leisure Centre\, 241 Tingal Rd\, Wynnum\, Brisbane\, QLD\, 4178\, Australia
GEO:-27.4408047;153.168959
X-APPLE-STRUCTURED-LOCATION;VALUE=URI;X-ADDRESS=Waterloo Bay Leisure Centre 241 Tingal Rd Wynnum Brisbane QLD 4178 Australia;X-APPLE-RADIUS=500;X-TITLE=241 Tingal Rd\, Wynnum:geo:153.168959,-27.4408047
END:VEVENT
BEGIN:VEVENT
DTSTART;TZID=Australia/Brisbane:20241016T100000
DTEND;TZID=Australia/Brisbane:20241016T110000
DTSTAMP:20260424T042840
CREATED:20231212T054320Z
LAST-MODIFIED:20240909T025638Z
UID:10004298-1729072800-1729076400@www.jccagedcare.org.au
SUMMARY:Online Zoom chit-chat - Wednesdays
DESCRIPTION:Enjoy some conversation with friends on a Zoom chat online. Phone Jubilee if you would like to find out more. 10am-11am
URL:https://www.jccagedcare.org.au/event/online-zoom-chit-chat-wednesdays/2024-10-16/
LOCATION:QLD
END:VEVENT
BEGIN:VEVENT
DTSTART;TZID=Australia/Brisbane:20241018T130000
DTEND;TZID=Australia/Brisbane:20241018T140000
DTSTAMP:20260424T042840
CREATED:20231212T053045Z
LAST-MODIFIED:20240909T025451Z
UID:10004287-1729256400-1729260000@www.jccagedcare.org.au
SUMMARY:UQ Healthy Living Friday exercise class
DESCRIPTION:Get stronger and healthier at the UQ Healthy Living exercise class. 1-2pm.
URL:https://www.jccagedcare.org.au/event/uq-healthy-living-friday-exercise-class/2024-10-18/
LOCATION:UQ Healthy Living Gymnasium\, Centra\, Level 3\, 37 Archer Street\,\, Brisbane\, queensland\, 4066\, Australia
GEO:-27.4861889;152.9940544
X-APPLE-STRUCTURED-LOCATION;VALUE=URI;X-ADDRESS=UQ Healthy Living Gymnasium Centra Level 3 37 Archer Street Brisbane queensland 4066 Australia;X-APPLE-RADIUS=500;X-TITLE=Centra\, Level 3\, 37 Archer Street\,:geo:152.9940544,-27.4861889
END:VEVENT
BEGIN:VEVENT
DTSTART;VALUE=DATE:20241021
DTEND;VALUE=DATE:20241022
DTSTAMP:20260424T042840
CREATED:20240909T031329Z
LAST-MODIFIED:20240909T031329Z
UID:10004324-1729468800-1729555199@www.jccagedcare.org.au
SUMMARY:Brookfield Nursery and Wild Canary
DESCRIPTION:Need a new plant or a gift? Brookfield Gardens is the place to be. Lunch after at the Wild Canary.
URL:https://www.jccagedcare.org.au/event/brookfield-nursery-and-wild-canary/
LOCATION:Brookfield Gardens\, 2371 Moggill Rd\, Brookfield\, Brisbane\, 4069
GEO:-27.5197402;152.9216214
X-APPLE-STRUCTURED-LOCATION;VALUE=URI;X-ADDRESS=Brookfield Gardens 2371 Moggill Rd Brookfield Brisbane 4069;X-APPLE-RADIUS=500;X-TITLE=2371 Moggill Rd\, Brookfield:geo:152.9216214,-27.5197402
END:VEVENT
BEGIN:VEVENT
DTSTART;TZID=Australia/Brisbane:20241022T100000
DTEND;TZID=Australia/Brisbane:20241022T110000
DTSTAMP:20260424T042840
CREATED:20231212T054222Z
LAST-MODIFIED:20240909T025716Z
UID:10004310-1729591200-1729594800@www.jccagedcare.org.au
SUMMARY:Online Zoom chit-chat - Tuesdays
DESCRIPTION:Enjoy some conversation with friends on a Zoom chat online. Phone Jubilee if you would like to find out more. 10am-11am
URL:https://www.jccagedcare.org.au/event/online-zoom-chit-chat/2024-10-22/
LOCATION:QLD
END:VEVENT
BEGIN:VEVENT
DTSTART;TZID=Australia/Brisbane:20241022T130000
DTEND;TZID=Australia/Brisbane:20241022T140000
DTSTAMP:20260424T042840
CREATED:20231212T053220Z
LAST-MODIFIED:20240909T025321Z
UID:10004277-1729602000-1729605600@www.jccagedcare.org.au
SUMMARY:UQ Healthy Living Tuesday exercise class
DESCRIPTION:Get stronger and healthier at the UQ Healthy Living exercise class. 1-2pm.
URL:https://www.jccagedcare.org.au/event/uq-healthy-living-tuesday-exercise-class/2024-10-22/
LOCATION:UQ Healthy Living Gymnasium\, Centra\, Level 3\, 37 Archer Street\,\, Brisbane\, queensland\, 4066\, Australia
GEO:-27.4861889;152.9940544
X-APPLE-STRUCTURED-LOCATION;VALUE=URI;X-ADDRESS=UQ Healthy Living Gymnasium Centra Level 3 37 Archer Street Brisbane queensland 4066 Australia;X-APPLE-RADIUS=500;X-TITLE=Centra\, Level 3\, 37 Archer Street\,:geo:152.9940544,-27.4861889
END:VEVENT
BEGIN:VEVENT
DTSTART;TZID=Australia/Brisbane:20241023T100000
DTEND;TZID=Australia/Brisbane:20241023T110000
DTSTAMP:20260424T042840
CREATED:20231212T054320Z
LAST-MODIFIED:20240909T025638Z
UID:10004299-1729677600-1729681200@www.jccagedcare.org.au
SUMMARY:Online Zoom chit-chat - Wednesdays
DESCRIPTION:Enjoy some conversation with friends on a Zoom chat online. Phone Jubilee if you would like to find out more. 10am-11am
URL:https://www.jccagedcare.org.au/event/online-zoom-chit-chat-wednesdays/2024-10-23/
LOCATION:QLD
END:VEVENT
BEGIN:VEVENT
DTSTART;VALUE=DATE:20241024
DTEND;VALUE=DATE:20241025
DTSTAMP:20260424T042840
CREATED:20240909T031427Z
LAST-MODIFIED:20240909T031427Z
UID:10004325-1729728000-1729814399@www.jccagedcare.org.au
SUMMARY:Healthy Ageing talk
DESCRIPTION:Talk on the effects of ageing and when to see a doctor with Professor Dart from the Ihealth Centre. St Andrew’s Church Hall\, Indooroopilly. Lunch at a local cafe after.
URL:https://www.jccagedcare.org.au/event/healthy-ageing-talk/
LOCATION:St Andrew’s Anglican Church\, 89 Fairley St\, Indooroopilly\, QLD\, 4068\, Australia
GEO:-27.5034706;152.9799399
X-APPLE-STRUCTURED-LOCATION;VALUE=URI;X-ADDRESS=St Andrew’s Anglican Church 89 Fairley St Indooroopilly QLD 4068 Australia;X-APPLE-RADIUS=500;X-TITLE=89 Fairley St:geo:152.9799399,-27.5034706
END:VEVENT
BEGIN:VEVENT
DTSTART;TZID=Australia/Brisbane:20241025T130000
DTEND;TZID=Australia/Brisbane:20241025T140000
DTSTAMP:20260424T042840
CREATED:20231212T053045Z
LAST-MODIFIED:20240909T025451Z
UID:10004288-1729861200-1729864800@www.jccagedcare.org.au
SUMMARY:UQ Healthy Living Friday exercise class
DESCRIPTION:Get stronger and healthier at the UQ Healthy Living exercise class. 1-2pm.
URL:https://www.jccagedcare.org.au/event/uq-healthy-living-friday-exercise-class/2024-10-25/
LOCATION:UQ Healthy Living Gymnasium\, Centra\, Level 3\, 37 Archer Street\,\, Brisbane\, queensland\, 4066\, Australia
GEO:-27.4861889;152.9940544
X-APPLE-STRUCTURED-LOCATION;VALUE=URI;X-ADDRESS=UQ Healthy Living Gymnasium Centra Level 3 37 Archer Street Brisbane queensland 4066 Australia;X-APPLE-RADIUS=500;X-TITLE=Centra\, Level 3\, 37 Archer Street\,:geo:152.9940544,-27.4861889
END:VEVENT
BEGIN:VEVENT
DTSTART;VALUE=DATE:20241028
DTEND;VALUE=DATE:20241029
DTSTAMP:20260424T042840
CREATED:20240909T031521Z
LAST-MODIFIED:20240909T031521Z
UID:10004326-1730073600-1730159999@www.jccagedcare.org.au
SUMMARY:Rocklea Flower Markets
DESCRIPTION:Treat yourself to some fresh flowers at Rocklea Flower Markets. Lunch at the Rocklea Hotel after.
URL:https://www.jccagedcare.org.au/event/rocklea-flower-markets-2/
LOCATION:Rocklea Flower Markets\, 385 Sherwood Rd\, Rocklea\, Brisbane\, Queensland\, 4106\, Australia
GEO:-27.5373041;153.0027548
X-APPLE-STRUCTURED-LOCATION;VALUE=URI;X-ADDRESS=Rocklea Flower Markets 385 Sherwood Rd Rocklea Brisbane Queensland 4106 Australia;X-APPLE-RADIUS=500;X-TITLE=385 Sherwood Rd\, Rocklea:geo:153.0027548,-27.5373041
END:VEVENT
BEGIN:VEVENT
DTSTART;TZID=Australia/Brisbane:20241029T100000
DTEND;TZID=Australia/Brisbane:20241029T110000
DTSTAMP:20260424T042840
CREATED:20231212T054222Z
LAST-MODIFIED:20240909T025716Z
UID:10004311-1730196000-1730199600@www.jccagedcare.org.au
SUMMARY:Online Zoom chit-chat - Tuesdays
DESCRIPTION:Enjoy some conversation with friends on a Zoom chat online. Phone Jubilee if you would like to find out more. 10am-11am
URL:https://www.jccagedcare.org.au/event/online-zoom-chit-chat/2024-10-29/
LOCATION:QLD
END:VEVENT
BEGIN:VEVENT
DTSTART;TZID=Australia/Brisbane:20241029T130000
DTEND;TZID=Australia/Brisbane:20241029T140000
DTSTAMP:20260424T042840
CREATED:20231212T053220Z
LAST-MODIFIED:20240909T025321Z
UID:10004278-1730206800-1730210400@www.jccagedcare.org.au
SUMMARY:UQ Healthy Living Tuesday exercise class
DESCRIPTION:Get stronger and healthier at the UQ Healthy Living exercise class. 1-2pm.
URL:https://www.jccagedcare.org.au/event/uq-healthy-living-tuesday-exercise-class/2024-10-29/
LOCATION:UQ Healthy Living Gymnasium\, Centra\, Level 3\, 37 Archer Street\,\, Brisbane\, queensland\, 4066\, Australia
GEO:-27.4861889;152.9940544
X-APPLE-STRUCTURED-LOCATION;VALUE=URI;X-ADDRESS=UQ Healthy Living Gymnasium Centra Level 3 37 Archer Street Brisbane queensland 4066 Australia;X-APPLE-RADIUS=500;X-TITLE=Centra\, Level 3\, 37 Archer Street\,:geo:152.9940544,-27.4861889
END:VEVENT
BEGIN:VEVENT
DTSTART;TZID=Australia/Brisbane:20241030T100000
DTEND;TZID=Australia/Brisbane:20241030T110000
DTSTAMP:20260424T042840
CREATED:20231212T054320Z
LAST-MODIFIED:20240909T025638Z
UID:10004300-1730282400-1730286000@www.jccagedcare.org.au
SUMMARY:Online Zoom chit-chat - Wednesdays
DESCRIPTION:Enjoy some conversation with friends on a Zoom chat online. Phone Jubilee if you would like to find out more. 10am-11am
URL:https://www.jccagedcare.org.au/event/online-zoom-chit-chat-wednesdays/2024-10-30/
LOCATION:QLD
END:VEVENT
BEGIN:VEVENT
DTSTART;VALUE=DATE:20241031
DTEND;VALUE=DATE:20241101
DTSTAMP:20260424T042840
CREATED:20240909T031825Z
LAST-MODIFIED:20240909T031825Z
UID:10004327-1730332800-1730419199@www.jccagedcare.org.au
SUMMARY:Qld Family History Society
DESCRIPTION:Tour the Qld Family History Society at Chermside. Buy lunch at the newly renovated The Gibson after.
URL:https://www.jccagedcare.org.au/event/qld-family-history-society/
LOCATION:Queensland Family History Society\, 46 Delaware St\, Geebung\, Brisbane\, QLD\, 4032\, Australia
GEO:-27.3780017;153.0417686
X-APPLE-STRUCTURED-LOCATION;VALUE=URI;X-ADDRESS=Queensland Family History Society 46 Delaware St Geebung Brisbane QLD 4032 Australia;X-APPLE-RADIUS=500;X-TITLE=46 Delaware St\, Geebung:geo:153.0417686,-27.3780017
END:VEVENT
BEGIN:VEVENT
DTSTART;TZID=Australia/Brisbane:20241101T130000
DTEND;TZID=Australia/Brisbane:20241101T140000
DTSTAMP:20260424T042840
CREATED:20231212T053045Z
LAST-MODIFIED:20240909T025451Z
UID:10004289-1730466000-1730469600@www.jccagedcare.org.au
SUMMARY:UQ Healthy Living Friday exercise class
DESCRIPTION:Get stronger and healthier at the UQ Healthy Living exercise class. 1-2pm.
URL:https://www.jccagedcare.org.au/event/uq-healthy-living-friday-exercise-class/2024-11-01/
LOCATION:UQ Healthy Living Gymnasium\, Centra\, Level 3\, 37 Archer Street\,\, Brisbane\, queensland\, 4066\, Australia
GEO:-27.4861889;152.9940544
X-APPLE-STRUCTURED-LOCATION;VALUE=URI;X-ADDRESS=UQ Healthy Living Gymnasium Centra Level 3 37 Archer Street Brisbane queensland 4066 Australia;X-APPLE-RADIUS=500;X-TITLE=Centra\, Level 3\, 37 Archer Street\,:geo:152.9940544,-27.4861889
END:VEVENT
BEGIN:VEVENT
DTSTART;TZID=Australia/Brisbane:20241105T100000
DTEND;TZID=Australia/Brisbane:20241105T110000
DTSTAMP:20260424T042840
CREATED:20231212T054222Z
LAST-MODIFIED:20240909T025716Z
UID:10004312-1730800800-1730804400@www.jccagedcare.org.au
SUMMARY:Online Zoom chit-chat - Tuesdays
DESCRIPTION:Enjoy some conversation with friends on a Zoom chat online. Phone Jubilee if you would like to find out more. 10am-11am
URL:https://www.jccagedcare.org.au/event/online-zoom-chit-chat/2024-11-05/
LOCATION:QLD
END:VEVENT
BEGIN:VEVENT
DTSTART;TZID=Australia/Brisbane:20241105T130000
DTEND;TZID=Australia/Brisbane:20241105T140000
DTSTAMP:20260424T042840
CREATED:20231212T053220Z
LAST-MODIFIED:20240909T025321Z
UID:10004279-1730811600-1730815200@www.jccagedcare.org.au
SUMMARY:UQ Healthy Living Tuesday exercise class
DESCRIPTION:Get stronger and healthier at the UQ Healthy Living exercise class. 1-2pm.
URL:https://www.jccagedcare.org.au/event/uq-healthy-living-tuesday-exercise-class/2024-11-05/
LOCATION:UQ Healthy Living Gymnasium\, Centra\, Level 3\, 37 Archer Street\,\, Brisbane\, queensland\, 4066\, Australia
GEO:-27.4861889;152.9940544
X-APPLE-STRUCTURED-LOCATION;VALUE=URI;X-ADDRESS=UQ Healthy Living Gymnasium Centra Level 3 37 Archer Street Brisbane queensland 4066 Australia;X-APPLE-RADIUS=500;X-TITLE=Centra\, Level 3\, 37 Archer Street\,:geo:152.9940544,-27.4861889
END:VEVENT
BEGIN:VEVENT
DTSTART;TZID=Australia/Brisbane:20241106T100000
DTEND;TZID=Australia/Brisbane:20241106T110000
DTSTAMP:20260424T042840
CREATED:20231212T054320Z
LAST-MODIFIED:20240909T025638Z
UID:10004301-1730887200-1730890800@www.jccagedcare.org.au
SUMMARY:Online Zoom chit-chat - Wednesdays
DESCRIPTION:Enjoy some conversation with friends on a Zoom chat online. Phone Jubilee if you would like to find out more. 10am-11am
URL:https://www.jccagedcare.org.au/event/online-zoom-chit-chat-wednesdays/2024-11-06/
LOCATION:QLD
END:VEVENT
BEGIN:VEVENT
DTSTART;TZID=Australia/Brisbane:20241108T130000
DTEND;TZID=Australia/Brisbane:20241108T140000
DTSTAMP:20260424T042840
CREATED:20231212T053045Z
LAST-MODIFIED:20240909T025451Z
UID:10004290-1731070800-1731074400@www.jccagedcare.org.au
SUMMARY:UQ Healthy Living Friday exercise class
DESCRIPTION:Get stronger and healthier at the UQ Healthy Living exercise class. 1-2pm.
URL:https://www.jccagedcare.org.au/event/uq-healthy-living-friday-exercise-class/2024-11-08/
LOCATION:UQ Healthy Living Gymnasium\, Centra\, Level 3\, 37 Archer Street\,\, Brisbane\, queensland\, 4066\, Australia
GEO:-27.4861889;152.9940544
X-APPLE-STRUCTURED-LOCATION;VALUE=URI;X-ADDRESS=UQ Healthy Living Gymnasium Centra Level 3 37 Archer Street Brisbane queensland 4066 Australia;X-APPLE-RADIUS=500;X-TITLE=Centra\, Level 3\, 37 Archer Street\,:geo:152.9940544,-27.4861889
END:VEVENT
BEGIN:VEVENT
DTSTART;TZID=Australia/Brisbane:20241112T100000
DTEND;TZID=Australia/Brisbane:20241112T110000
DTSTAMP:20260424T042840
CREATED:20231212T054222Z
LAST-MODIFIED:20240909T025716Z
UID:10004313-1731405600-1731409200@www.jccagedcare.org.au
SUMMARY:Online Zoom chit-chat - Tuesdays
DESCRIPTION:Enjoy some conversation with friends on a Zoom chat online. Phone Jubilee if you would like to find out more. 10am-11am
URL:https://www.jccagedcare.org.au/event/online-zoom-chit-chat/2024-11-12/
LOCATION:QLD
END:VEVENT
BEGIN:VEVENT
DTSTART;TZID=Australia/Brisbane:20241112T130000
DTEND;TZID=Australia/Brisbane:20241112T140000
DTSTAMP:20260424T042840
CREATED:20231212T053220Z
LAST-MODIFIED:20240909T025321Z
UID:10004280-1731416400-1731420000@www.jccagedcare.org.au
SUMMARY:UQ Healthy Living Tuesday exercise class
DESCRIPTION:Get stronger and healthier at the UQ Healthy Living exercise class. 1-2pm.
URL:https://www.jccagedcare.org.au/event/uq-healthy-living-tuesday-exercise-class/2024-11-12/
LOCATION:UQ Healthy Living Gymnasium\, Centra\, Level 3\, 37 Archer Street\,\, Brisbane\, queensland\, 4066\, Australia
GEO:-27.4861889;152.9940544
X-APPLE-STRUCTURED-LOCATION;VALUE=URI;X-ADDRESS=UQ Healthy Living Gymnasium Centra Level 3 37 Archer Street Brisbane queensland 4066 Australia;X-APPLE-RADIUS=500;X-TITLE=Centra\, Level 3\, 37 Archer Street\,:geo:152.9940544,-27.4861889
END:VEVENT
BEGIN:VEVENT
DTSTART;TZID=Australia/Brisbane:20241113T100000
DTEND;TZID=Australia/Brisbane:20241113T110000
DTSTAMP:20260424T042840
CREATED:20231212T054320Z
LAST-MODIFIED:20240909T025638Z
UID:10004302-1731492000-1731495600@www.jccagedcare.org.au
SUMMARY:Online Zoom chit-chat - Wednesdays
DESCRIPTION:Enjoy some conversation with friends on a Zoom chat online. Phone Jubilee if you would like to find out more. 10am-11am
URL:https://www.jccagedcare.org.au/event/online-zoom-chit-chat-wednesdays/2024-11-13/
LOCATION:QLD
END:VEVENT
BEGIN:VEVENT
DTSTART;TZID=Australia/Brisbane:20241115T130000
DTEND;TZID=Australia/Brisbane:20241115T140000
DTSTAMP:20260424T042840
CREATED:20231212T053045Z
LAST-MODIFIED:20240909T025451Z
UID:10004291-1731675600-1731679200@www.jccagedcare.org.au
SUMMARY:UQ Healthy Living Friday exercise class
DESCRIPTION:Get stronger and healthier at the UQ Healthy Living exercise class. 1-2pm.
URL:https://www.jccagedcare.org.au/event/uq-healthy-living-friday-exercise-class/2024-11-15/
LOCATION:UQ Healthy Living Gymnasium\, Centra\, Level 3\, 37 Archer Street\,\, Brisbane\, queensland\, 4066\, Australia
GEO:-27.4861889;152.9940544
X-APPLE-STRUCTURED-LOCATION;VALUE=URI;X-ADDRESS=UQ Healthy Living Gymnasium Centra Level 3 37 Archer Street Brisbane queensland 4066 Australia;X-APPLE-RADIUS=500;X-TITLE=Centra\, Level 3\, 37 Archer Street\,:geo:152.9940544,-27.4861889
END:VEVENT
BEGIN:VEVENT
DTSTART;TZID=Australia/Brisbane:20241119T100000
DTEND;TZID=Australia/Brisbane:20241119T110000
DTSTAMP:20260424T042840
CREATED:20231212T054222Z
LAST-MODIFIED:20240909T025716Z
UID:10004314-1732010400-1732014000@www.jccagedcare.org.au
SUMMARY:Online Zoom chit-chat - Tuesdays
DESCRIPTION:Enjoy some conversation with friends on a Zoom chat online. Phone Jubilee if you would like to find out more. 10am-11am
URL:https://www.jccagedcare.org.au/event/online-zoom-chit-chat/2024-11-19/
LOCATION:QLD
END:VEVENT
BEGIN:VEVENT
DTSTART;TZID=Australia/Brisbane:20241119T130000
DTEND;TZID=Australia/Brisbane:20241119T140000
DTSTAMP:20260424T042840
CREATED:20231212T053220Z
LAST-MODIFIED:20240909T025321Z
UID:10004281-1732021200-1732024800@www.jccagedcare.org.au
SUMMARY:UQ Healthy Living Tuesday exercise class
DESCRIPTION:Get stronger and healthier at the UQ Healthy Living exercise class. 1-2pm.
URL:https://www.jccagedcare.org.au/event/uq-healthy-living-tuesday-exercise-class/2024-11-19/
LOCATION:UQ Healthy Living Gymnasium\, Centra\, Level 3\, 37 Archer Street\,\, Brisbane\, queensland\, 4066\, Australia
GEO:-27.4861889;152.9940544
X-APPLE-STRUCTURED-LOCATION;VALUE=URI;X-ADDRESS=UQ Healthy Living Gymnasium Centra Level 3 37 Archer Street Brisbane queensland 4066 Australia;X-APPLE-RADIUS=500;X-TITLE=Centra\, Level 3\, 37 Archer Street\,:geo:152.9940544,-27.4861889
END:VEVENT
BEGIN:VEVENT
DTSTART;TZID=Australia/Brisbane:20241120T100000
DTEND;TZID=Australia/Brisbane:20241120T110000
DTSTAMP:20260424T042840
CREATED:20231212T054320Z
LAST-MODIFIED:20240909T025638Z
UID:10004303-1732096800-1732100400@www.jccagedcare.org.au
SUMMARY:Online Zoom chit-chat - Wednesdays
DESCRIPTION:Enjoy some conversation with friends on a Zoom chat online. Phone Jubilee if you would like to find out more. 10am-11am
URL:https://www.jccagedcare.org.au/event/online-zoom-chit-chat-wednesdays/2024-11-20/
LOCATION:QLD
END:VEVENT
END:VCALENDAR